BEGIN:VCALENDAR
VERSION:2.0
PRODID:-//The Artist Outreach - ECPv6.15.20//NONSGML v1.0//EN
CALSCALE:GREGORIAN
METHOD:PUBLISH
X-ORIGINAL-URL:https://theartistoutreach.org
X-WR-CALDESC:Events for The Artist Outreach
REFRESH-INTERVAL;VALUE=DURATION:PT1H
X-Robots-Tag:noindex
X-PUBLISHED-TTL:PT1H
BEGIN:VTIMEZONE
TZID:UTC
BEGIN:STANDARD
TZOFFSETFROM:+0000
TZOFFSETTO:+0000
TZNAME:UTC
DTSTART:20250101T000000
END:STANDARD
END:VTIMEZONE
BEGIN:VEVENT
DTSTART;TZID=UTC:20260602T150000
DTEND;TZID=UTC:20260602T170000
DTSTAMP:20260421T163255
CREATED:20260417T144213Z
LAST-MODIFIED:20260417T144213Z
UID:37787-1780412400-1780419600@theartistoutreach.org
SUMMARY:OWENWOOD (CDOAC-COP/TCA)
DESCRIPTION:TA: Kiersten Underwood \nLocation: Owenwood Farm & Neighbor Space \nAddress: 1451 John West Rd\, Dallas\, TX 75228 \nContact: Jessica 469-785-4029 \nKinder – 12th 3:00pm – 5:00pm
URL:https://theartistoutreach.org/event/owenwood-cdoac-cop-tca/
CATEGORIES:North Texas Events
END:VEVENT
BEGIN:VEVENT
DTSTART;TZID=UTC:20260603T150000
DTEND;TZID=UTC:20260603T170000
DTSTAMP:20260421T163255
CREATED:20260417T144225Z
LAST-MODIFIED:20260417T144225Z
UID:37788-1780498800-1780506000@theartistoutreach.org
SUMMARY:OWENWOOD (CDOAC-COP/TCA)
DESCRIPTION:TA: Kiersten Underwood \nLocation: Owenwood Farm & Neighbor Space \nAddress: 1451 John West Rd\, Dallas\, TX 75228 \nContact: Jessica 469-785-4029 \nKinder – 12th 3:00pm – 5:00pm
URL:https://theartistoutreach.org/event/owenwood-cdoac-cop-tca-2/
CATEGORIES:North Texas Events
END:VEVENT
BEGIN:VEVENT
DTSTART;TZID=UTC:20260604T150000
DTEND;TZID=UTC:20260604T170000
DTSTAMP:20260421T163255
CREATED:20260417T144237Z
LAST-MODIFIED:20260417T144237Z
UID:37789-1780585200-1780592400@theartistoutreach.org
SUMMARY:OWENWOOD (CDOAC-COP/TCA)
DESCRIPTION:TA: Kiersten Underwood \nLocation: Owenwood Farm & Neighbor Space \nAddress: 1451 John West Rd\, Dallas\, TX 75228 \nContact: Jessica 469-785-4029 \nKinder – 12th 3:00pm – 5:00pm
URL:https://theartistoutreach.org/event/owenwood-cdoac-cop-tca-3/
CATEGORIES:North Texas Events
END:VEVENT
BEGIN:VEVENT
DTSTART;TZID=UTC:20260608T150000
DTEND;TZID=UTC:20260608T170000
DTSTAMP:20260421T163255
CREATED:20260417T144816Z
LAST-MODIFIED:20260417T144816Z
UID:37790-1780930800-1780938000@theartistoutreach.org
SUMMARY:OWENWOOD (CDOAC-COP/TCA)
DESCRIPTION:TA: Kiersten Underwood \nLocation: Owenwood Farm & Neighbor Space \nAddress: 1451 John West Rd\, Dallas\, TX 75228 \nContact: Jessica 469-785-4029 \nKinder – 12th 3:00pm – 5:00pm
URL:https://theartistoutreach.org/event/owenwood-cdoac-cop-tca-7/
CATEGORIES:North Texas Events
END:VEVENT
BEGIN:VEVENT
DTSTART;TZID=UTC:20260609T150000
DTEND;TZID=UTC:20260609T170000
DTSTAMP:20260421T163255
CREATED:20260417T144750Z
LAST-MODIFIED:20260417T144750Z
UID:37794-1781017200-1781024400@theartistoutreach.org
SUMMARY:OWENWOOD (CDOAC-COP/TCA)
DESCRIPTION:TA: Kiersten Underwood \nLocation: Owenwood Farm & Neighbor Space \nAddress: 1451 John West Rd\, Dallas\, TX 75228 \nContact: Jessica 469-785-4029 \nKinder – 12th 3:00pm – 5:00pm
URL:https://theartistoutreach.org/event/owenwood-cdoac-cop-tca-4/
CATEGORIES:North Texas Events
END:VEVENT
BEGIN:VEVENT
DTSTART;TZID=UTC:20260610T150000
DTEND;TZID=UTC:20260610T170000
DTSTAMP:20260421T163255
CREATED:20260417T144759Z
LAST-MODIFIED:20260417T144759Z
UID:37795-1781103600-1781110800@theartistoutreach.org
SUMMARY:OWENWOOD (CDOAC-COP/TCA)
DESCRIPTION:TA: Kiersten Underwood \nLocation: Owenwood Farm & Neighbor Space \nAddress: 1451 John West Rd\, Dallas\, TX 75228 \nContact: Jessica 469-785-4029 \nKinder – 12th 3:00pm – 5:00pm
URL:https://theartistoutreach.org/event/owenwood-cdoac-cop-tca-5/
CATEGORIES:North Texas Events
END:VEVENT
BEGIN:VEVENT
DTSTART;TZID=UTC:20260611T150000
DTEND;TZID=UTC:20260611T170000
DTSTAMP:20260421T163255
CREATED:20260417T144808Z
LAST-MODIFIED:20260417T144808Z
UID:37796-1781190000-1781197200@theartistoutreach.org
SUMMARY:OWENWOOD (CDOAC-COP/TCA)
DESCRIPTION:TA: Kiersten Underwood \nLocation: Owenwood Farm & Neighbor Space \nAddress: 1451 John West Rd\, Dallas\, TX 75228 \nContact: Jessica 469-785-4029 \nKinder – 12th 3:00pm – 5:00pm
URL:https://theartistoutreach.org/event/owenwood-cdoac-cop-tca-6/
CATEGORIES:North Texas Events
END:VEVENT
BEGIN:VEVENT
DTSTART;TZID=UTC:20260615T150000
DTEND;TZID=UTC:20260615T170000
DTSTAMP:20260421T163255
CREATED:20260417T144929Z
LAST-MODIFIED:20260417T144929Z
UID:37801-1781535600-1781542800@theartistoutreach.org
SUMMARY:OWENWOOD (CDOAC-COP/TCA)
DESCRIPTION:TA: Kiersten Underwood \nLocation: Owenwood Farm & Neighbor Space \nAddress: 1451 John West Rd\, Dallas\, TX 75228 \nContact: Jessica 469-785-4029 \nKinder – 12th 3:00pm – 5:00pm
URL:https://theartistoutreach.org/event/owenwood-cdoac-cop-tca-8/
CATEGORIES:North Texas Events
END:VEVENT
BEGIN:VEVENT
DTSTART;TZID=UTC:20260616T150000
DTEND;TZID=UTC:20260616T170000
DTSTAMP:20260421T163255
CREATED:20260417T144937Z
LAST-MODIFIED:20260417T144937Z
UID:37802-1781622000-1781629200@theartistoutreach.org
SUMMARY:OWENWOOD (CDOAC-COP/TCA)
DESCRIPTION:TA: Kiersten Underwood \nLocation: Owenwood Farm & Neighbor Space \nAddress: 1451 John West Rd\, Dallas\, TX 75228 \nContact: Jessica 469-785-4029 \nKinder – 12th 3:00pm – 5:00pm
URL:https://theartistoutreach.org/event/owenwood-cdoac-cop-tca-9/
CATEGORIES:North Texas Events
END:VEVENT
BEGIN:VEVENT
DTSTART;TZID=UTC:20260617T150000
DTEND;TZID=UTC:20260617T170000
DTSTAMP:20260421T163255
CREATED:20260417T144942Z
LAST-MODIFIED:20260417T144942Z
UID:37803-1781708400-1781715600@theartistoutreach.org
SUMMARY:OWENWOOD (CDOAC-COP/TCA)
DESCRIPTION:TA: Kiersten Underwood \nLocation: Owenwood Farm & Neighbor Space \nAddress: 1451 John West Rd\, Dallas\, TX 75228 \nContact: Jessica 469-785-4029 \nKinder – 12th 3:00pm – 5:00pm
URL:https://theartistoutreach.org/event/owenwood-cdoac-cop-tca-10/
CATEGORIES:North Texas Events
END:VEVENT
BEGIN:VEVENT
DTSTART;TZID=UTC:20260618T150000
DTEND;TZID=UTC:20260618T170000
DTSTAMP:20260421T163255
CREATED:20260417T144950Z
LAST-MODIFIED:20260417T144950Z
UID:37804-1781794800-1781802000@theartistoutreach.org
SUMMARY:OWENWOOD (CDOAC-COP/TCA)
DESCRIPTION:TA: Kiersten Underwood \nLocation: Owenwood Farm & Neighbor Space \nAddress: 1451 John West Rd\, Dallas\, TX 75228 \nContact: Jessica 469-785-4029 \nKinder – 12th 3:00pm – 5:00pm
URL:https://theartistoutreach.org/event/owenwood-cdoac-cop-tca-11/
CATEGORIES:North Texas Events
END:VEVENT
BEGIN:VEVENT
DTSTART;TZID=UTC:20260622T150000
DTEND;TZID=UTC:20260622T170000
DTSTAMP:20260421T163255
CREATED:20260417T145100Z
LAST-MODIFIED:20260417T145100Z
UID:37809-1782140400-1782147600@theartistoutreach.org
SUMMARY:OWENWOOD (CDOAC-COP/TCA)
DESCRIPTION:TA: Kiersten Underwood \nLocation: Owenwood Farm & Neighbor Space \nAddress: 1451 John West Rd\, Dallas\, TX 75228 \nContact: Jessica 469-785-4029 \nKinder – 12th 3:00pm – 5:00pm
URL:https://theartistoutreach.org/event/owenwood-cdoac-cop-tca-12/
CATEGORIES:North Texas Events
END:VEVENT
BEGIN:VEVENT
DTSTART;TZID=UTC:20260623T150000
DTEND;TZID=UTC:20260623T170000
DTSTAMP:20260421T163255
CREATED:20260417T145106Z
LAST-MODIFIED:20260417T145106Z
UID:37810-1782226800-1782234000@theartistoutreach.org
SUMMARY:OWENWOOD (CDOAC-COP/TCA)
DESCRIPTION:TA: Kiersten Underwood \nLocation: Owenwood Farm & Neighbor Space \nAddress: 1451 John West Rd\, Dallas\, TX 75228 \nContact: Jessica 469-785-4029 \nKinder – 12th 3:00pm – 5:00pm
URL:https://theartistoutreach.org/event/owenwood-cdoac-cop-tca-13/
CATEGORIES:North Texas Events
END:VEVENT
BEGIN:VEVENT
DTSTART;TZID=UTC:20260624T150000
DTEND;TZID=UTC:20260624T170000
DTSTAMP:20260421T163255
CREATED:20260417T145113Z
LAST-MODIFIED:20260417T145113Z
UID:37811-1782313200-1782320400@theartistoutreach.org
SUMMARY:OWENWOOD (CDOAC-COP/TCA)
DESCRIPTION:TA: Kiersten Underwood \nLocation: Owenwood Farm & Neighbor Space \nAddress: 1451 John West Rd\, Dallas\, TX 75228 \nContact: Jessica 469-785-4029 \nKinder – 12th 3:00pm – 5:00pm
URL:https://theartistoutreach.org/event/owenwood-cdoac-cop-tca-14/
CATEGORIES:North Texas Events
END:VEVENT
BEGIN:VEVENT
DTSTART;TZID=UTC:20260625T150000
DTEND;TZID=UTC:20260625T170000
DTSTAMP:20260421T163255
CREATED:20260417T145120Z
LAST-MODIFIED:20260417T145120Z
UID:37812-1782399600-1782406800@theartistoutreach.org
SUMMARY:OWENWOOD (CDOAC-COP/TCA)
DESCRIPTION:TA: Kiersten Underwood \nLocation: Owenwood Farm & Neighbor Space \nAddress: 1451 John West Rd\, Dallas\, TX 75228 \nContact: Jessica 469-785-4029 \nKinder – 12th 3:00pm – 5:00pm
URL:https://theartistoutreach.org/event/owenwood-cdoac-cop-tca-15/
CATEGORIES:North Texas Events
END:VEVENT
BEGIN:VEVENT
DTSTART;TZID=UTC:20260629T150000
DTEND;TZID=UTC:20260629T170000
DTSTAMP:20260421T163255
CREATED:20260417T145205Z
LAST-MODIFIED:20260417T145236Z
UID:37817-1782745200-1782752400@theartistoutreach.org
SUMMARY:OWENWOOD (CDOAC-COP/TCA)
DESCRIPTION:TA: Kiersten Underwood \nLocation: Owenwood Farm & Neighbor Space \nAddress: 1451 John West Rd\, Dallas\, TX 75228 \nContact: Jessica 469-785-4029 \nKinder – 12th 3:00pm – 5:00pm
URL:https://theartistoutreach.org/event/owenwood-cdoac-cop-tca-16/
CATEGORIES:North Texas Events
END:VEVENT
BEGIN:VEVENT
DTSTART;TZID=UTC:20260630T150000
DTEND;TZID=UTC:20260630T170000
DTSTAMP:20260421T163255
CREATED:20260417T145211Z
LAST-MODIFIED:20260417T145246Z
UID:37818-1782831600-1782838800@theartistoutreach.org
SUMMARY:OWENWOOD (CDOAC-COP/TCA)
DESCRIPTION:TA: Kiersten Underwood \nLocation: Owenwood Farm & Neighbor Space \nAddress: 1451 John West Rd\, Dallas\, TX 75228 \nContact: Jessica 469-785-4029 \nKinder – 12th 3:00pm – 5:00pm
URL:https://theartistoutreach.org/event/owenwood-cdoac-cop-tca-17/
CATEGORIES:North Texas Events
END:VEVENT
END:VCALENDAR