BEGIN:VCALENDAR
VERSION:2.0
PRODID:-//The Artist Outreach - ECPv6.15.20//NONSGML v1.0//EN
CALSCALE:GREGORIAN
METHOD:PUBLISH
X-ORIGINAL-URL:https://theartistoutreach.org
X-WR-CALDESC:Events for The Artist Outreach
REFRESH-INTERVAL;VALUE=DURATION:PT1H
X-Robots-Tag:noindex
X-PUBLISHED-TTL:PT1H
BEGIN:VTIMEZONE
TZID:UTC
BEGIN:STANDARD
TZOFFSETFROM:+0000
TZOFFSETTO:+0000
TZNAME:UTC
DTSTART:20240101T000000
END:STANDARD
END:VTIMEZONE
BEGIN:VEVENT
DTSTART;TZID=UTC:20250701T100000
DTEND;TZID=UTC:20250701T110000
DTSTAMP:20260424T104056
CREATED:20250507T202548Z
LAST-MODIFIED:20250507T202548Z
UID:35835-1751364000-1751367600@theartistoutreach.org
SUMMARY:VOGEL (TCA/REA/CDOAC-COP)
DESCRIPTION:TA: Kiersten Underwood \nCampus: Vogel Alcove \nLocation: 1738 Gano St\, Dallas\, TX 75215 \nContact:  (214) 368-8686 \nPrincipal: Christopher Evans \n10:00 – 10:30 2yr \n10:30 – 11:00 3yr
URL:https://theartistoutreach.org/event/vogel-tca-rea-cdoac-cop-10/
CATEGORIES:North Texas Events
END:VEVENT
BEGIN:VEVENT
DTSTART;TZID=UTC:20250701T100000
DTEND;TZID=UTC:20250701T110000
DTSTAMP:20260424T104056
CREATED:20250513T181534Z
LAST-MODIFIED:20250513T181534Z
UID:35864-1751364000-1751367600@theartistoutreach.org
SUMMARY:UCC Polytechnic (JPM/MSPT)
DESCRIPTION:TA: Chris Hicks \nCampus: Polytechnic United Center\nLocation: 3100 Avenue I\, Fort Worth\, TX 76105 \nDirector: Sandra  Garza \nContact: Sandra Garza 214.202.8735 \n10:00 – 10:30am – Pre-K \n10:30- 11:00am – Kinder
URL:https://theartistoutreach.org/event/ucc-polytechnic-jpm-mspt-12/
CATEGORIES:North Texas Events
END:VEVENT
BEGIN:VEVENT
DTSTART;TZID=UTC:20250701T150000
DTEND;TZID=UTC:20250701T170000
DTSTAMP:20260424T104056
CREATED:20250507T193919Z
LAST-MODIFIED:20250507T193919Z
UID:35749-1751382000-1751389200@theartistoutreach.org
SUMMARY:OWENWOOD (TCA/REA/CDOAC-COP)
DESCRIPTION:TA: Chris Hicks/Kiersten Underwood \nLocation: Owenwood Farm & Neighbor Space \n1451 John West Rd. Dallas\, TX 75228 \n3:00pm – 5:00pm
URL:https://theartistoutreach.org/event/owenwood-tca-rea-cdoac-cop-18/
CATEGORIES:North Texas Events
END:VEVENT
BEGIN:VEVENT
DTSTART;TZID=UTC:20250702T100000
DTEND;TZID=UTC:20250702T110000
DTSTAMP:20260424T104056
CREATED:20250507T202557Z
LAST-MODIFIED:20250507T202557Z
UID:35836-1751450400-1751454000@theartistoutreach.org
SUMMARY:VOGEL (TCA/REA/CDOAC-COP)
DESCRIPTION:TA: Kiersten Underwood \nCampus: Vogel Alcove \nLocation: 1738 Gano St\, Dallas\, TX 75215 \nContact:  (214) 368-8686 \nPrincipal: Christopher Evans \n10:00 – 10:30 2yr \n10:30 – 11:00 3yr
URL:https://theartistoutreach.org/event/vogel-tca-rea-cdoac-cop-11/
CATEGORIES:North Texas Events
END:VEVENT
BEGIN:VEVENT
DTSTART;TZID=UTC:20250702T100000
DTEND;TZID=UTC:20250702T110000
DTSTAMP:20260424T104056
CREATED:20250513T182351Z
LAST-MODIFIED:20250513T182351Z
UID:35882-1751450400-1751454000@theartistoutreach.org
SUMMARY:UCC Bethlehem (JPM /MSPT)
DESCRIPTION:TA: Chris Hicks \nCampus: Bethlehem Center \nLocation: 951 Evans Ave\, Fort Worth\, TX 76104 \nDirector: Sandra  Garza \nContact: Sandra Garza 214.202.8735 \n10:00 – 10:30am Pre-K \n10:30 – 11:00am Kinder
URL:https://theartistoutreach.org/event/ucc-bethlehem-jpm-mspt-12/
CATEGORIES:North Texas Events
END:VEVENT
BEGIN:VEVENT
DTSTART;TZID=UTC:20250702T150000
DTEND;TZID=UTC:20250702T170000
DTSTAMP:20260424T104056
CREATED:20250507T193928Z
LAST-MODIFIED:20250507T193928Z
UID:35750-1751468400-1751475600@theartistoutreach.org
SUMMARY:OWENWOOD (TCA/REA/CDOAC-COP)
DESCRIPTION:TA: Chris Hicks/Kiersten Underwood \nLocation: Owenwood Farm & Neighbor Space \n1451 John West Rd. Dallas\, TX 75228 \n3:00pm – 5:00pm
URL:https://theartistoutreach.org/event/owenwood-tca-rea-cdoac-cop-19/
CATEGORIES:North Texas Events
END:VEVENT
BEGIN:VEVENT
DTSTART;TZID=UTC:20250703T100000
DTEND;TZID=UTC:20250703T110000
DTSTAMP:20260424T104056
CREATED:20250507T202606Z
LAST-MODIFIED:20250507T202606Z
UID:35837-1751536800-1751540400@theartistoutreach.org
SUMMARY:VOGEL (TCA/REA/CDOAC-COP)
DESCRIPTION:TA: Kiersten Underwood \nCampus: Vogel Alcove \nLocation: 1738 Gano St\, Dallas\, TX 75215 \nContact:  (214) 368-8686 \nPrincipal: Christopher Evans \n10:00 – 10:30 2yr \n10:30 – 11:00 3yr
URL:https://theartistoutreach.org/event/vogel-tca-rea-cdoac-cop-12/
CATEGORIES:North Texas Events
END:VEVENT
BEGIN:VEVENT
DTSTART;TZID=UTC:20250703T100000
DTEND;TZID=UTC:20250703T110000
DTSTAMP:20260424T104056
CREATED:20250513T183011Z
LAST-MODIFIED:20250513T183011Z
UID:35898-1751536800-1751540400@theartistoutreach.org
SUMMARY:UCC Wesley (JPM/MSPT)
DESCRIPTION:TA: Chris Hicks \nCampus: Wesley United CenterLocation: 3600 N Crump St\, Fort Worth\, TX 76106 \nDirector: Sandra  Garza \nContact: Sandra Garza 214.202.8735 \n10:00 – 10:30am Pre-K \n10:30 – 11:00am Kinder
URL:https://theartistoutreach.org/event/ucc-wesley-jpm-mspt-12/
CATEGORIES:North Texas Events
END:VEVENT
BEGIN:VEVENT
DTSTART;TZID=UTC:20250703T150000
DTEND;TZID=UTC:20250703T170000
DTSTAMP:20260424T104056
CREATED:20250507T193939Z
LAST-MODIFIED:20250507T193939Z
UID:35751-1751554800-1751562000@theartistoutreach.org
SUMMARY:OWENWOOD (TCA/REA/CDOAC-COP)
DESCRIPTION:TA: Chris Hicks/Kiersten Underwood \nLocation: Owenwood Farm & Neighbor Space \n1451 John West Rd. Dallas\, TX 75228 \n3:00pm – 5:00pm
URL:https://theartistoutreach.org/event/owenwood-tca-rea-cdoac-cop-20/
CATEGORIES:North Texas Events
END:VEVENT
BEGIN:VEVENT
DTSTART;TZID=UTC:20250707T133000
DTEND;TZID=UTC:20250707T143000
DTSTAMP:20260424T104056
CREATED:20250507T201009Z
LAST-MODIFIED:20250507T201009Z
UID:35798-1751895000-1751898600@theartistoutreach.org
SUMMARY:UPLIFT (UPL)
DESCRIPTION:TA: Kiersten Underwood \nCampus: Uplift Gradus Preparatory \nLocation: 121 Seahawk Dr\, DeSoto\, TX 75115 \nContact: (214) 451-5551 \nPrincipal: Yvonne Cooper \n1:30-2:30
URL:https://theartistoutreach.org/event/uplift-upl-10/
CATEGORIES:North Texas Events
END:VEVENT
BEGIN:VEVENT
DTSTART;TZID=UTC:20250707T150000
DTEND;TZID=UTC:20250707T170000
DTSTAMP:20260424T104056
CREATED:20250507T194123Z
LAST-MODIFIED:20250507T194123Z
UID:35756-1751900400-1751907600@theartistoutreach.org
SUMMARY:OWENWOOD (TCA/REA/CDOAC-COP)
DESCRIPTION:TA: Chris Hicks/Kiersten Underwood \nLocation: Owenwood Farm & Neighbor Space \n1451 John West Rd. Dallas\, TX 75228 \n3:00pm – 5:00pm
URL:https://theartistoutreach.org/event/owenwood-tca-rea-cdoac-cop-21/
CATEGORIES:North Texas Events
END:VEVENT
BEGIN:VEVENT
DTSTART;TZID=UTC:20250708T100000
DTEND;TZID=UTC:20250708T110000
DTSTAMP:20260424T104056
CREATED:20250513T181552Z
LAST-MODIFIED:20250513T181552Z
UID:35866-1751968800-1751972400@theartistoutreach.org
SUMMARY:UCC Polytechnic (JPM/MSPT)
DESCRIPTION:TA: Chris Hicks \nCampus: Polytechnic United Center\nLocation: 3100 Avenue I\, Fort Worth\, TX 76105 \nDirector: Sandra  Garza \nContact: Sandra Garza 214.202.8735 \n10:00 – 10:30am – Pre-K \n10:30- 11:00am – Kinder
URL:https://theartistoutreach.org/event/ucc-polytechnic-jpm-mspt-13/
CATEGORIES:North Texas Events
END:VEVENT
BEGIN:VEVENT
DTSTART;TZID=UTC:20250708T133000
DTEND;TZID=UTC:20250708T143000
DTSTAMP:20260424T104056
CREATED:20250507T201023Z
LAST-MODIFIED:20250507T201023Z
UID:35799-1751981400-1751985000@theartistoutreach.org
SUMMARY:UPLIFT (UPL)
DESCRIPTION:TA: Kiersten Underwood \nCampus: Uplift Gradus Preparatory \nLocation: 121 Seahawk Dr\, DeSoto\, TX 75115 \nContact: (214) 451-5551 \nPrincipal: Yvonne Cooper \n1:30-2:30
URL:https://theartistoutreach.org/event/uplift-upl-11/
CATEGORIES:North Texas Events
END:VEVENT
BEGIN:VEVENT
DTSTART;TZID=UTC:20250708T150000
DTEND;TZID=UTC:20250708T170000
DTSTAMP:20260424T104056
CREATED:20250507T194131Z
LAST-MODIFIED:20250507T194131Z
UID:35757-1751986800-1751994000@theartistoutreach.org
SUMMARY:OWENWOOD (TCA/REA/CDOAC-COP)
DESCRIPTION:TA: Chris Hicks/Kiersten Underwood \nLocation: Owenwood Farm & Neighbor Space \n1451 John West Rd. Dallas\, TX 75228 \n3:00pm – 5:00pm
URL:https://theartistoutreach.org/event/owenwood-tca-rea-cdoac-cop-22/
CATEGORIES:North Texas Events
END:VEVENT
BEGIN:VEVENT
DTSTART;TZID=UTC:20250709T100000
DTEND;TZID=UTC:20250709T110000
DTSTAMP:20260424T104056
CREATED:20250513T182402Z
LAST-MODIFIED:20250513T182402Z
UID:35875-1752055200-1752058800@theartistoutreach.org
SUMMARY:UCC Bethlehem (JPM /MSPT)
DESCRIPTION:TA: Chris Hicks \nCampus: Bethlehem Center \nLocation: 951 Evans Ave\, Fort Worth\, TX 76104 \nDirector: Sandra  Garza \nContact: Sandra Garza 214.202.8735 \n10:00 – 10:30am Pre-K \n10:30 – 11:00am Kinder
URL:https://theartistoutreach.org/event/ucc-bethlehem-jpm-mspt-13/
CATEGORIES:North Texas Events
END:VEVENT
BEGIN:VEVENT
DTSTART;TZID=UTC:20250709T133000
DTEND;TZID=UTC:20250709T143000
DTSTAMP:20260424T104056
CREATED:20250507T201036Z
LAST-MODIFIED:20250507T201036Z
UID:35800-1752067800-1752071400@theartistoutreach.org
SUMMARY:UPLIFT (UPL)
DESCRIPTION:TA: Kiersten Underwood \nCampus: Uplift Gradus Preparatory \nLocation: 121 Seahawk Dr\, DeSoto\, TX 75115 \nContact: (214) 451-5551 \nPrincipal: Yvonne Cooper \n1:30-2:30
URL:https://theartistoutreach.org/event/uplift-upl-12/
CATEGORIES:North Texas Events
END:VEVENT
BEGIN:VEVENT
DTSTART;TZID=UTC:20250709T150000
DTEND;TZID=UTC:20250709T170000
DTSTAMP:20260424T104056
CREATED:20250507T194139Z
LAST-MODIFIED:20250507T194139Z
UID:35758-1752073200-1752080400@theartistoutreach.org
SUMMARY:OWENWOOD (TCA/REA/CDOAC-COP)
DESCRIPTION:TA: Chris Hicks/Kiersten Underwood \nLocation: Owenwood Farm & Neighbor Space \n1451 John West Rd. Dallas\, TX 75228 \n3:00pm – 5:00pm
URL:https://theartistoutreach.org/event/owenwood-tca-rea-cdoac-cop-23/
CATEGORIES:North Texas Events
END:VEVENT
BEGIN:VEVENT
DTSTART;TZID=UTC:20250710T100000
DTEND;TZID=UTC:20250710T110000
DTSTAMP:20260424T104056
CREATED:20250513T183053Z
LAST-MODIFIED:20250513T183053Z
UID:35891-1752141600-1752145200@theartistoutreach.org
SUMMARY:UCC Wesley (JPM/MSPT)
DESCRIPTION:TA: Chris Hicks \nCampus: Wesley United CenterLocation: 3600 N Crump St\, Fort Worth\, TX 76106 \nDirector: Sandra  Garza \nContact: Sandra Garza 214.202.8735 \n10:00 – 10:30am Pre-K \n10:30 – 11:00am Kinder
URL:https://theartistoutreach.org/event/ucc-wesley-jpm-mspt-13/
CATEGORIES:North Texas Events
END:VEVENT
BEGIN:VEVENT
DTSTART;TZID=UTC:20250710T133000
DTEND;TZID=UTC:20250710T143000
DTSTAMP:20260424T104056
CREATED:20250507T201050Z
LAST-MODIFIED:20250507T201050Z
UID:35801-1752154200-1752157800@theartistoutreach.org
SUMMARY:UPLIFT (UPL)
DESCRIPTION:TA: Kiersten Underwood \nCampus: Uplift Gradus Preparatory \nLocation: 121 Seahawk Dr\, DeSoto\, TX 75115 \nContact: (214) 451-5551 \nPrincipal: Yvonne Cooper \n1:30-2:30
URL:https://theartistoutreach.org/event/uplift-upl-13/
CATEGORIES:North Texas Events
END:VEVENT
BEGIN:VEVENT
DTSTART;TZID=UTC:20250710T150000
DTEND;TZID=UTC:20250710T170000
DTSTAMP:20260424T104056
CREATED:20250507T194148Z
LAST-MODIFIED:20250507T194148Z
UID:35759-1752159600-1752166800@theartistoutreach.org
SUMMARY:OWENWOOD (TCA/REA/CDOAC-COP)
DESCRIPTION:TA: Chris Hicks/Kiersten Underwood \nLocation: Owenwood Farm & Neighbor Space \n1451 John West Rd. Dallas\, TX 75228 \n3:00pm – 5:00pm
URL:https://theartistoutreach.org/event/owenwood-tca-rea-cdoac-cop-24/
CATEGORIES:North Texas Events
END:VEVENT
BEGIN:VEVENT
DTSTART;TZID=UTC:20250711T133000
DTEND;TZID=UTC:20250711T143000
DTSTAMP:20260424T104056
CREATED:20250507T201125Z
LAST-MODIFIED:20250507T201125Z
UID:35806-1752240600-1752244200@theartistoutreach.org
SUMMARY:UPLIFT (UPL)
DESCRIPTION:TA: Kiersten Underwood \nCampus: Uplift Gradus Preparatory \nLocation: 121 Seahawk Dr\, DeSoto\, TX 75115 \nContact: (214) 451-5551 \nPrincipal: Yvonne Cooper \n1:30-2:30
URL:https://theartistoutreach.org/event/uplift-upl-14/
CATEGORIES:North Texas Events
END:VEVENT
BEGIN:VEVENT
DTSTART;TZID=UTC:20250714T083000
DTEND;TZID=UTC:20250714T123000
DTSTAMP:20260424T104056
CREATED:20250507T201354Z
LAST-MODIFIED:20250507T201354Z
UID:35808-1752481800-1752496200@theartistoutreach.org
SUMMARY:UPLIFT (UPL)
DESCRIPTION:TA: Kiersten Underwood \nCampus: Uplift Atlas Preparatory \nLocation: 4600 Bryan St\, Dallas\, TX 75204 \nContact: (214) 276-0879 \nPrincipal: Denitra Beaulieu \n8:30-10:00 5th-7th \n11:30-12:30 2nd-4th
URL:https://theartistoutreach.org/event/uplift-upl-15/
CATEGORIES:North Texas Events
END:VEVENT
BEGIN:VEVENT
DTSTART;TZID=UTC:20250714T150000
DTEND;TZID=UTC:20250714T170000
DTSTAMP:20260424T104056
CREATED:20250507T194343Z
LAST-MODIFIED:20250507T194343Z
UID:35764-1752505200-1752512400@theartistoutreach.org
SUMMARY:OWENWOOD (TCA/REA/CDOAC-COP)
DESCRIPTION:TA: Chris Hicks/Kiersten Underwood \nLocation: Owenwood Farm & Neighbor Space \n1451 John West Rd. Dallas\, TX 75228 \n3:00pm – 5:00pm
URL:https://theartistoutreach.org/event/owenwood-tca-rea-cdoac-cop-25/
CATEGORIES:North Texas Events
END:VEVENT
BEGIN:VEVENT
DTSTART;TZID=UTC:20250715T083000
DTEND;TZID=UTC:20250715T123000
DTSTAMP:20260424T104056
CREATED:20250507T201416Z
LAST-MODIFIED:20250507T201416Z
UID:35809-1752568200-1752582600@theartistoutreach.org
SUMMARY:UPLIFT (UPL)
DESCRIPTION:TA: Kiersten Underwood \nCampus: Uplift Atlas Preparatory \nLocation: 4600 Bryan St\, Dallas\, TX 75204 \nContact: (214) 276-0879 \nPrincipal: Denitra Beaulieu \n8:30-10:00 5th-7th \n11:30-12:30 2nd-4th
URL:https://theartistoutreach.org/event/uplift-upl-16/
CATEGORIES:North Texas Events
END:VEVENT
BEGIN:VEVENT
DTSTART;TZID=UTC:20250715T100000
DTEND;TZID=UTC:20250715T110000
DTSTAMP:20260424T104056
CREATED:20250513T181608Z
LAST-MODIFIED:20250513T181608Z
UID:35867-1752573600-1752577200@theartistoutreach.org
SUMMARY:UCC Polytechnic (JPM/MSPT)
DESCRIPTION:TA: Chris Hicks \nCampus: Polytechnic United Center\nLocation: 3100 Avenue I\, Fort Worth\, TX 76105 \nDirector: Sandra  Garza \nContact: Sandra Garza 214.202.8735 \n10:00 – 10:30am – Pre-K \n10:30- 11:00am – Kinder
URL:https://theartistoutreach.org/event/ucc-polytechnic-jpm-mspt-14/
CATEGORIES:North Texas Events
END:VEVENT
BEGIN:VEVENT
DTSTART;TZID=UTC:20250715T103000
DTEND;TZID=UTC:20250715T113000
DTSTAMP:20260424T104056
CREATED:20250507T203157Z
LAST-MODIFIED:20250507T203157Z
UID:35843-1752575400-1752579000@theartistoutreach.org
SUMMARY:RRC (RRC)
DESCRIPTION:TA: Joel McCray \nLocation: 6200 Sand Springs Rd Fort Worth\, 76114- in the retreat center. \nContact: Erin McCurdy 817-332-6329 \n10:30am
URL:https://theartistoutreach.org/event/rrc-rrc-2/
CATEGORIES:North Texas Events
END:VEVENT
BEGIN:VEVENT
DTSTART;TZID=UTC:20250715T150000
DTEND;TZID=UTC:20250715T170000
DTSTAMP:20260424T104056
CREATED:20250507T194352Z
LAST-MODIFIED:20250507T194352Z
UID:35765-1752591600-1752598800@theartistoutreach.org
SUMMARY:OWENWOOD (TCA/REA/CDOAC-COP)
DESCRIPTION:TA: Chris Hicks/Kiersten Underwood \nLocation: Owenwood Farm & Neighbor Space \n1451 John West Rd. Dallas\, TX 75228 \n3:00pm – 5:00pm
URL:https://theartistoutreach.org/event/owenwood-tca-rea-cdoac-cop-26/
CATEGORIES:North Texas Events
END:VEVENT
BEGIN:VEVENT
DTSTART;TZID=UTC:20250716T083000
DTEND;TZID=UTC:20250716T123000
DTSTAMP:20260424T104056
CREATED:20250507T201431Z
LAST-MODIFIED:20250507T201431Z
UID:35810-1752654600-1752669000@theartistoutreach.org
SUMMARY:UPLIFT (UPL)
DESCRIPTION:TA: Kiersten Underwood \nCampus: Uplift Atlas Preparatory \nLocation: 4600 Bryan St\, Dallas\, TX 75204 \nContact: (214) 276-0879 \nPrincipal: Denitra Beaulieu \n8:30-10:00 5th-7th \n11:30-12:30 2nd-4th
URL:https://theartistoutreach.org/event/uplift-upl-17/
CATEGORIES:North Texas Events
END:VEVENT
BEGIN:VEVENT
DTSTART;TZID=UTC:20250716T100000
DTEND;TZID=UTC:20250716T110000
DTSTAMP:20260424T104056
CREATED:20250513T182415Z
LAST-MODIFIED:20250513T182415Z
UID:35876-1752660000-1752663600@theartistoutreach.org
SUMMARY:UCC Bethlehem (JPM /MSPT)
DESCRIPTION:TA: Chris Hicks \nCampus: Bethlehem Center \nLocation: 951 Evans Ave\, Fort Worth\, TX 76104 \nDirector: Sandra  Garza \nContact: Sandra Garza 214.202.8735 \n10:00 – 10:30am Pre-K \n10:30 – 11:00am Kinder
URL:https://theartistoutreach.org/event/ucc-bethlehem-jpm-mspt-14/
CATEGORIES:North Texas Events
END:VEVENT
BEGIN:VEVENT
DTSTART;TZID=UTC:20250716T150000
DTEND;TZID=UTC:20250716T170000
DTSTAMP:20260424T104056
CREATED:20250507T194402Z
LAST-MODIFIED:20250507T194402Z
UID:35766-1752678000-1752685200@theartistoutreach.org
SUMMARY:OWENWOOD (TCA/REA/CDOAC-COP)
DESCRIPTION:TA: Chris Hicks/Kiersten Underwood \nLocation: Owenwood Farm & Neighbor Space \n1451 John West Rd. Dallas\, TX 75228 \n3:00pm – 5:00pm
URL:https://theartistoutreach.org/event/owenwood-tca-rea-cdoac-cop-27/
CATEGORIES:North Texas Events
END:VEVENT
END:VCALENDAR