BEGIN:VCALENDAR
VERSION:2.0
PRODID:-//The Artist Outreach - ECPv6.15.20//NONSGML v1.0//EN
CALSCALE:GREGORIAN
METHOD:PUBLISH
X-ORIGINAL-URL:https://theartistoutreach.org
X-WR-CALDESC:Events for The Artist Outreach
REFRESH-INTERVAL;VALUE=DURATION:PT1H
X-Robots-Tag:noindex
X-PUBLISHED-TTL:PT1H
BEGIN:VTIMEZONE
TZID:UTC
BEGIN:STANDARD
TZOFFSETFROM:+0000
TZOFFSETTO:+0000
TZNAME:UTC
DTSTART:20240101T000000
END:STANDARD
END:VTIMEZONE
BEGIN:VEVENT
DTSTART;TZID=UTC:20250603T150000
DTEND;TZID=UTC:20250603T170000
DTSTAMP:20260424T123605
CREATED:20250507T192611Z
LAST-MODIFIED:20250513T174206Z
UID:35716-1748962800-1748970000@theartistoutreach.org
SUMMARY:OWENWOOD (TCA/REA/CDOAC-COP)
DESCRIPTION:TA: Candy Williams/Kiersten Underwood \nLocation: Owenwood Farm & Neighbor Space \n1451 John West Rd. Dallas\, TX 75228 \n3:00pm – 5:00pm
URL:https://theartistoutreach.org/event/owenwood-tca-rea-cdoac-cop/
CATEGORIES:North Texas Events
END:VEVENT
BEGIN:VEVENT
DTSTART;TZID=UTC:20250604T123000
DTEND;TZID=UTC:20250604T150000
DTSTAMP:20260424T123605
CREATED:20250507T190557Z
LAST-MODIFIED:20250513T174322Z
UID:35692-1749040200-1749049200@theartistoutreach.org
SUMMARY:OLPH (DMC)
DESCRIPTION:TA: Kiersten Underwood \n12:30-3:00pm \nOur Lady of Perpetual Help \n7625 Cortland Avenue \nDallas\, TX 75235 \n214-351-3396 \nPrincipal: John Hickey        jhickey@olphdallas.org \nManager:  Theresa Ruenes           truenes@olphdallas.org
URL:https://theartistoutreach.org/event/olph-5/
CATEGORIES:North Texas Events
END:VEVENT
BEGIN:VEVENT
DTSTART;TZID=UTC:20250604T150000
DTEND;TZID=UTC:20250604T170000
DTSTAMP:20260424T123605
CREATED:20250507T192630Z
LAST-MODIFIED:20250507T192630Z
UID:35717-1749049200-1749056400@theartistoutreach.org
SUMMARY:OWENWOOD (TCA/REA/CDOAC-COP)
DESCRIPTION:TA: Candy Williams/Kiersten Underwood \nLocation: Owenwood Farm & Neighbor Space \n1451 John West Rd. Dallas\, TX 75228 \n3:00pm – 5:00pm
URL:https://theartistoutreach.org/event/owenwood-tca-rea-cdoac-cop-2/
CATEGORIES:North Texas Events
END:VEVENT
BEGIN:VEVENT
DTSTART;TZID=UTC:20250605T150000
DTEND;TZID=UTC:20250605T170000
DTSTAMP:20260424T123605
CREATED:20250507T192642Z
LAST-MODIFIED:20250513T174417Z
UID:35718-1749135600-1749142800@theartistoutreach.org
SUMMARY:OWENWOOD (TCA/REA/CDOAC-COP)
DESCRIPTION:TA: Candy Williams/Kiersten Underwood \nLocation: Owenwood Farm & Neighbor Space \n1451 John West Rd. Dallas\, TX 75228 \n3:00pm – 5:00pm
URL:https://theartistoutreach.org/event/owenwood-tca-rea-cdoac-cop-3/
CATEGORIES:North Texas Events
END:VEVENT
BEGIN:VEVENT
DTSTART;TZID=UTC:20250606T123000
DTEND;TZID=UTC:20250606T150000
DTSTAMP:20260424T123605
CREATED:20250507T190610Z
LAST-MODIFIED:20250513T174426Z
UID:35693-1749213000-1749222000@theartistoutreach.org
SUMMARY:OLPH (DMC)
DESCRIPTION:TA: Kiersten Underwood \n12:30-3:00pm \nOur Lady of Perpetual Help \n7625 Cortland Avenue \nDallas\, TX 75235 \n214-351-3396 \nPrincipal: John Hickey        jhickey@olphdallas.org \nManager:  Theresa Ruenes           truenes@olphdallas.org
URL:https://theartistoutreach.org/event/olph-6/
CATEGORIES:North Texas Events
END:VEVENT
BEGIN:VEVENT
DTSTART;TZID=UTC:20250609T083000
DTEND;TZID=UTC:20250609T143000
DTSTAMP:20260424T123605
CREATED:20250507T195944Z
LAST-MODIFIED:20250507T195944Z
UID:35780-1749457800-1749479400@theartistoutreach.org
SUMMARY:UPLIFT (UPL)
DESCRIPTION:TA: Kiersten Underwood \nCampus: Uplift Summit Prep \nLocation: 1305 N Center St\, Arlington\, TX 76011 \nContact: (817) 287-5121 \nPrincipal: Danielle Erbert \n8:30-10:30 5th-7th \n11:30-1:30 2nd-4th \n1:30-2:30 k-1st
URL:https://theartistoutreach.org/event/uplift-upl/
CATEGORIES:North Texas Events
END:VEVENT
BEGIN:VEVENT
DTSTART;TZID=UTC:20250609T123000
DTEND;TZID=UTC:20250609T150000
DTSTAMP:20260424T123605
CREATED:20250507T190622Z
LAST-MODIFIED:20250513T174607Z
UID:35694-1749472200-1749481200@theartistoutreach.org
SUMMARY:OLPH (DMC)
DESCRIPTION:TA: Candy Williams \n12:30-3:00pm \nOur Lady of Perpetual Help \n7625 Cortland Avenue \nDallas\, TX 75235 \n214-351-3396 \nPrincipal: John Hickey        jhickey@olphdallas.org \nManager:  Theresa Ruenes           truenes@olphdallas.org
URL:https://theartistoutreach.org/event/olph-7/
CATEGORIES:North Texas Events
END:VEVENT
BEGIN:VEVENT
DTSTART;TZID=UTC:20250609T150000
DTEND;TZID=UTC:20250609T170000
DTSTAMP:20260424T123605
CREATED:20250507T192713Z
LAST-MODIFIED:20250507T192713Z
UID:35719-1749481200-1749488400@theartistoutreach.org
SUMMARY:OWENWOOD (TCA/REA/CDOAC-COP)
DESCRIPTION:TA: Candy Williams/Kiersten Underwood \nLocation: Owenwood Farm & Neighbor Space \n1451 John West Rd. Dallas\, TX 75228 \n3:00pm – 5:00pm
URL:https://theartistoutreach.org/event/owenwood-tca-rea-cdoac-cop-4/
CATEGORIES:North Texas Events
END:VEVENT
BEGIN:VEVENT
DTSTART;TZID=UTC:20250610T083000
DTEND;TZID=UTC:20250610T143000
DTSTAMP:20260424T123605
CREATED:20250507T195957Z
LAST-MODIFIED:20250507T195957Z
UID:35781-1749544200-1749565800@theartistoutreach.org
SUMMARY:UPLIFT (UPL)
DESCRIPTION:TA: Kiersten Underwood \nCampus: Uplift Summit Prep \nLocation: 1305 N Center St\, Arlington\, TX 76011 \nContact: (817) 287-5121 \nPrincipal: Danielle Erbert \n8:30-10:30 5th-7th \n11:30-1:30 2nd-4th \n1:30-2:30 k-1st
URL:https://theartistoutreach.org/event/uplift-upl-2/
CATEGORIES:North Texas Events
END:VEVENT
BEGIN:VEVENT
DTSTART;TZID=UTC:20250610T150000
DTEND;TZID=UTC:20250610T170000
DTSTAMP:20260424T123605
CREATED:20250507T193030Z
LAST-MODIFIED:20250513T174614Z
UID:35724-1749567600-1749574800@theartistoutreach.org
SUMMARY:OWENWOOD (TCA/REA/CDOAC-COP)
DESCRIPTION:TA: Candy Williams/Kiersten Underwood \nLocation: Owenwood Farm & Neighbor Space \n1451 John West Rd. Dallas\, TX 75228 \n3:00pm – 5:00pm
URL:https://theartistoutreach.org/event/owenwood-tca-rea-cdoac-cop-5/
CATEGORIES:North Texas Events
END:VEVENT
BEGIN:VEVENT
DTSTART;TZID=UTC:20250611T083000
DTEND;TZID=UTC:20250611T143000
DTSTAMP:20260424T123605
CREATED:20250507T200010Z
LAST-MODIFIED:20250507T200010Z
UID:35782-1749630600-1749652200@theartistoutreach.org
SUMMARY:UPLIFT (UPL)
DESCRIPTION:TA: Kiersten Underwood \nCampus: Uplift Summit Prep \nLocation: 1305 N Center St\, Arlington\, TX 76011 \nContact: (817) 287-5121 \nPrincipal: Danielle Erbert \n8:30-10:30 5th-7th \n11:30-1:30 2nd-4th \n1:30-2:30 k-1st
URL:https://theartistoutreach.org/event/uplift-upl-3/
CATEGORIES:North Texas Events
END:VEVENT
BEGIN:VEVENT
DTSTART;TZID=UTC:20250611T123000
DTEND;TZID=UTC:20250611T150000
DTSTAMP:20260424T123605
CREATED:20250507T190634Z
LAST-MODIFIED:20250513T174619Z
UID:35695-1749645000-1749654000@theartistoutreach.org
SUMMARY:OLPH (DMC)
DESCRIPTION:TA: Candy Williams \n12:30-3:00pm \nOur Lady of Perpetual Help \n7625 Cortland Avenue \nDallas\, TX 75235 \n214-351-3396 \nPrincipal: John Hickey        jhickey@olphdallas.org \nManager:  Theresa Ruenes           truenes@olphdallas.org
URL:https://theartistoutreach.org/event/olph-8/
CATEGORIES:North Texas Events
END:VEVENT
BEGIN:VEVENT
DTSTART;TZID=UTC:20250611T150000
DTEND;TZID=UTC:20250611T170000
DTSTAMP:20260424T123605
CREATED:20250507T193054Z
LAST-MODIFIED:20250507T193054Z
UID:35725-1749654000-1749661200@theartistoutreach.org
SUMMARY:OWENWOOD (TCA/REA/CDOAC-COP)
DESCRIPTION:TA: Candy Williams/Kiersten Underwood \nLocation: Owenwood Farm & Neighbor Space \n1451 John West Rd. Dallas\, TX 75228 \n3:00pm – 5:00pm
URL:https://theartistoutreach.org/event/owenwood-tca-rea-cdoac-cop-6/
CATEGORIES:North Texas Events
END:VEVENT
BEGIN:VEVENT
DTSTART;TZID=UTC:20250612T083000
DTEND;TZID=UTC:20250612T143000
DTSTAMP:20260424T123605
CREATED:20250507T200024Z
LAST-MODIFIED:20250507T200024Z
UID:35783-1749717000-1749738600@theartistoutreach.org
SUMMARY:UPLIFT (UPL)
DESCRIPTION:TA: Kiersten Underwood \nCampus: Uplift Summit Prep \nLocation: 1305 N Center St\, Arlington\, TX 76011 \nContact: (817) 287-5121 \nPrincipal: Danielle Erbert \n8:30-10:30 5th-7th \n11:30-1:30 2nd-4th \n1:30-2:30 k-1st
URL:https://theartistoutreach.org/event/uplift-upl-4/
CATEGORIES:North Texas Events
END:VEVENT
BEGIN:VEVENT
DTSTART;TZID=UTC:20250612T150000
DTEND;TZID=UTC:20250612T170000
DTSTAMP:20260424T123605
CREATED:20250507T193118Z
LAST-MODIFIED:20250513T174626Z
UID:35726-1749740400-1749747600@theartistoutreach.org
SUMMARY:OWENWOOD (TCA/REA/CDOAC-COP)
DESCRIPTION:TA: Candy Williams/Kiersten Underwood \nLocation: Owenwood Farm & Neighbor Space \n1451 John West Rd. Dallas\, TX 75228 \n3:00pm – 5:00pm
URL:https://theartistoutreach.org/event/owenwood-tca-rea-cdoac-cop-7/
CATEGORIES:North Texas Events
END:VEVENT
BEGIN:VEVENT
DTSTART;TZID=UTC:20250613T083000
DTEND;TZID=UTC:20250613T143000
DTSTAMP:20260424T123605
CREATED:20250507T200056Z
LAST-MODIFIED:20250507T200056Z
UID:35788-1749803400-1749825000@theartistoutreach.org
SUMMARY:UPLIFT (UPL)
DESCRIPTION:TA: Kiersten Underwood \nCampus: Uplift Summit Prep \nLocation: 1305 N Center St\, Arlington\, TX 76011 \nContact: (817) 287-5121 \nPrincipal: Danielle Erbert \n8:30-10:30 5th-7th \n11:30-1:30 2nd-4th \n1:30-2:30 k-1st
URL:https://theartistoutreach.org/event/uplift-upl-5/
CATEGORIES:North Texas Events
END:VEVENT
BEGIN:VEVENT
DTSTART;TZID=UTC:20250613T123000
DTEND;TZID=UTC:20250613T150000
DTSTAMP:20260424T123605
CREATED:20250507T190829Z
LAST-MODIFIED:20250513T175127Z
UID:35700-1749817800-1749826800@theartistoutreach.org
SUMMARY:OLPH (DMC)
DESCRIPTION:TA: Candy Williams \n12:30-3:00pm \nOur Lady of Perpetual Help \n7625 Cortland Avenue \nDallas\, TX 75235 \n214-351-3396 \nPrincipal: John Hickey        jhickey@olphdallas.org \nManager:  Theresa Ruenes           truenes@olphdallas.org
URL:https://theartistoutreach.org/event/olph-9/
CATEGORIES:North Texas Events
END:VEVENT
BEGIN:VEVENT
DTSTART;TZID=UTC:20250616T100000
DTEND;TZID=UTC:20250616T110000
DTSTAMP:20260424T123605
CREATED:20250507T202057Z
LAST-MODIFIED:20250507T202057Z
UID:35818-1750068000-1750071600@theartistoutreach.org
SUMMARY:VOGEL (TCA/REA/CDOAC-COP)
DESCRIPTION:TA: Kiersten Underwood \nCampus: Vogel Alcove \nLocation: 1738 Gano St\, Dallas\, TX 75215 \nContact:  (214) 368-8686 \nPrincipal: Christopher Evans \n10:00 – 10:30 2yr \n10:30 – 11:00 3yr
URL:https://theartistoutreach.org/event/vogel-tca-rea-cdoac-cop/
CATEGORIES:North Texas Events
END:VEVENT
BEGIN:VEVENT
DTSTART;TZID=UTC:20250616T123000
DTEND;TZID=UTC:20250616T150000
DTSTAMP:20260424T123605
CREATED:20250507T190842Z
LAST-MODIFIED:20250507T192115Z
UID:35701-1750077000-1750086000@theartistoutreach.org
SUMMARY:OLPH (DMC)
DESCRIPTION:TA: Chris Hicks \n12:30-3:00pm \nOur Lady of Perpetual Help \n7625 Cortland Avenue \nDallas\, TX 75235 \n214-351-3396 \nPrincipal: John Hickey        jhickey@olphdallas.org \nManager:  Theresa Ruenes           truenes@olphdallas.org
URL:https://theartistoutreach.org/event/olph-10/
CATEGORIES:North Texas Events
END:VEVENT
BEGIN:VEVENT
DTSTART;TZID=UTC:20250616T133000
DTEND;TZID=UTC:20250616T143000
DTSTAMP:20260424T123605
CREATED:20250507T200512Z
LAST-MODIFIED:20250507T200512Z
UID:35790-1750080600-1750084200@theartistoutreach.org
SUMMARY:UPLIFT (UPL)
DESCRIPTION:TA: Kiersten Underwood \nCampus: Uplift Atlas Preparatory \nLocation: 4600 Bryan St\, Dallas\, TX 75204 \nContact: (214) 276-0879 \nPrincipal: Denitra Beaulieu \n1:30-2:30
URL:https://theartistoutreach.org/event/uplift-upl-6/
CATEGORIES:North Texas Events
END:VEVENT
BEGIN:VEVENT
DTSTART;TZID=UTC:20250616T150000
DTEND;TZID=UTC:20250616T170000
DTSTAMP:20260424T123605
CREATED:20250507T193142Z
LAST-MODIFIED:20250616T130605Z
UID:35727-1750086000-1750093200@theartistoutreach.org
SUMMARY:OWENWOOD (TCA/REA/CDOAC-COP)
DESCRIPTION:TA: Chris Hicks/Kiersten Underwood \nLocation: Owenwood Farm & Neighbor Space \n1451 John West Rd. Dallas\, TX 75228 \n3:00pm – 5:00pm
URL:https://theartistoutreach.org/event/owenwood-tca-rea-cdoac-cop-8/
CATEGORIES:North Texas Events
END:VEVENT
BEGIN:VEVENT
DTSTART;TZID=UTC:20250617T100000
DTEND;TZID=UTC:20250617T110000
DTSTAMP:20260424T123605
CREATED:20250507T202107Z
LAST-MODIFIED:20250507T202107Z
UID:35819-1750154400-1750158000@theartistoutreach.org
SUMMARY:VOGEL (TCA/REA/CDOAC-COP)
DESCRIPTION:TA: Kiersten Underwood \nCampus: Vogel Alcove \nLocation: 1738 Gano St\, Dallas\, TX 75215 \nContact:  (214) 368-8686 \nPrincipal: Christopher Evans \n10:00 – 10:30 2yr \n10:30 – 11:00 3yr
URL:https://theartistoutreach.org/event/vogel-tca-rea-cdoac-cop-2/
CATEGORIES:North Texas Events
END:VEVENT
BEGIN:VEVENT
DTSTART;TZID=UTC:20250617T100000
DTEND;TZID=UTC:20250617T110000
DTSTAMP:20260424T123605
CREATED:20250513T180934Z
LAST-MODIFIED:20250513T181118Z
UID:35862-1750154400-1750158000@theartistoutreach.org
SUMMARY:UCC Polytechnic (JPM/MSPT)
DESCRIPTION:TA: Chris Hicks \nCampus: Polytechnic United Center\nLocation: 3100 Avenue I\, Fort Worth\, TX 76105 \nDirector: Sandra  Garza \nContact: Sandra Garza 214.202.8735 \n10:00 – 10:30am – Pre-K \n10:30- 11:00am – Kinder
URL:https://theartistoutreach.org/event/ucc-polytechnic-jpm-mspt-10/
CATEGORIES:North Texas Events
END:VEVENT
BEGIN:VEVENT
DTSTART;TZID=UTC:20250617T133000
DTEND;TZID=UTC:20250617T143000
DTSTAMP:20260424T123605
CREATED:20250507T200528Z
LAST-MODIFIED:20250507T200528Z
UID:35791-1750167000-1750170600@theartistoutreach.org
SUMMARY:UPLIFT (UPL)
DESCRIPTION:TA: Kiersten Underwood \nCampus: Uplift Atlas Preparatory \nLocation: 4600 Bryan St\, Dallas\, TX 75204 \nContact: (214) 276-0879 \nPrincipal: Denitra Beaulieu \n1:30-2:30
URL:https://theartistoutreach.org/event/uplift-upl-7/
CATEGORIES:North Texas Events
END:VEVENT
BEGIN:VEVENT
DTSTART;TZID=UTC:20250617T150000
DTEND;TZID=UTC:20250617T170000
DTSTAMP:20260424T123605
CREATED:20250507T193336Z
LAST-MODIFIED:20250507T193336Z
UID:35732-1750172400-1750179600@theartistoutreach.org
SUMMARY:OWENWOOD (TCA/REA/CDOAC-COP)
DESCRIPTION:TA: Chris Hicks/Kiersten Underwood \nLocation: Owenwood Farm & Neighbor Space \n1451 John West Rd. Dallas\, TX 75228 \n3:00pm – 5:00pm
URL:https://theartistoutreach.org/event/owenwood-tca-rea-cdoac-cop-9/
CATEGORIES:North Texas Events
END:VEVENT
BEGIN:VEVENT
DTSTART;TZID=UTC:20250618T100000
DTEND;TZID=UTC:20250618T110000
DTSTAMP:20260424T123605
CREATED:20250507T202119Z
LAST-MODIFIED:20250507T202119Z
UID:35820-1750240800-1750244400@theartistoutreach.org
SUMMARY:VOGEL (TCA/REA/CDOAC-COP)
DESCRIPTION:TA: Kiersten Underwood \nCampus: Vogel Alcove \nLocation: 1738 Gano St\, Dallas\, TX 75215 \nContact:  (214) 368-8686 \nPrincipal: Christopher Evans \n10:00 – 10:30 2yr \n10:30 – 11:00 3yr
URL:https://theartistoutreach.org/event/vogel-tca-rea-cdoac-cop-3/
CATEGORIES:North Texas Events
END:VEVENT
BEGIN:VEVENT
DTSTART;TZID=UTC:20250618T100000
DTEND;TZID=UTC:20250618T110000
DTSTAMP:20260424T123605
CREATED:20250513T182327Z
LAST-MODIFIED:20250513T182327Z
UID:35880-1750240800-1750244400@theartistoutreach.org
SUMMARY:UCC Bethlehem (JPM /MSPT)
DESCRIPTION:TA: Chris Hicks \nCampus: Bethlehem Center \nLocation: 951 Evans Ave\, Fort Worth\, TX 76104 \nDirector: Sandra  Garza \nContact: Sandra Garza 214.202.8735 \n10:00 – 10:30am Pre-K \n10:30 – 11:00am Kinder
URL:https://theartistoutreach.org/event/ucc-bethlehem-jpm-mspt-10/
CATEGORIES:North Texas Events
END:VEVENT
BEGIN:VEVENT
DTSTART;TZID=UTC:20250618T123000
DTEND;TZID=UTC:20250618T150000
DTSTAMP:20260424T123605
CREATED:20250507T190854Z
LAST-MODIFIED:20250507T192121Z
UID:35702-1750249800-1750258800@theartistoutreach.org
SUMMARY:OLPH (DMC)
DESCRIPTION:TA: Chris Hicks \n12:30-3:00pm \nOur Lady of Perpetual Help \n7625 Cortland Avenue \nDallas\, TX 75235 \n214-351-3396 \nPrincipal: John Hickey        jhickey@olphdallas.org \nManager:  Theresa Ruenes           truenes@olphdallas.org
URL:https://theartistoutreach.org/event/olph-11/
CATEGORIES:North Texas Events
END:VEVENT
BEGIN:VEVENT
DTSTART;TZID=UTC:20250618T133000
DTEND;TZID=UTC:20250618T143000
DTSTAMP:20260424T123605
CREATED:20250507T200542Z
LAST-MODIFIED:20250507T200542Z
UID:35792-1750253400-1750257000@theartistoutreach.org
SUMMARY:UPLIFT (UPL)
DESCRIPTION:TA: Kiersten Underwood \nCampus: Uplift Atlas Preparatory \nLocation: 4600 Bryan St\, Dallas\, TX 75204 \nContact: (214) 276-0879 \nPrincipal: Denitra Beaulieu \n1:30-2:30
URL:https://theartistoutreach.org/event/uplift-upl-8/
CATEGORIES:North Texas Events
END:VEVENT
BEGIN:VEVENT
DTSTART;TZID=UTC:20250618T150000
DTEND;TZID=UTC:20250618T170000
DTSTAMP:20260424T123605
CREATED:20250507T193353Z
LAST-MODIFIED:20250616T130645Z
UID:35733-1750258800-1750266000@theartistoutreach.org
SUMMARY:OWENWOOD (TCA/REA/CDOAC-COP)
DESCRIPTION:TA: Chris Hicks/Kiersten Underwood \nLocation: Owenwood Farm & Neighbor Space \n1451 John West Rd. Dallas\, TX 75228 \n3:00pm – 5:00pm
URL:https://theartistoutreach.org/event/owenwood-tca-rea-cdoac-cop-10/
CATEGORIES:North Texas Events
END:VEVENT
END:VCALENDAR