BEGIN:VCALENDAR
VERSION:2.0
PRODID:-//The Artist Outreach - ECPv6.15.20//NONSGML v1.0//EN
CALSCALE:GREGORIAN
METHOD:PUBLISH
X-WR-CALNAME:The Artist Outreach
X-ORIGINAL-URL:https://theartistoutreach.org
X-WR-CALDESC:Events for The Artist Outreach
REFRESH-INTERVAL;VALUE=DURATION:PT1H
X-Robots-Tag:noindex
X-PUBLISHED-TTL:PT1H
BEGIN:VTIMEZONE
TZID:UTC
BEGIN:STANDARD
TZOFFSETFROM:+0000
TZOFFSETTO:+0000
TZNAME:UTC
DTSTART:20240101T000000
END:STANDARD
END:VTIMEZONE
BEGIN:VEVENT
DTSTART;TZID=UTC:20250501T080000
DTEND;TZID=UTC:20250501T142000
DTSTAMP:20260424T161737
CREATED:20241230T231948Z
LAST-MODIFIED:20241230T231948Z
UID:35350-1746086400-1746109200@theartistoutreach.org
SUMMARY:MISD-S (KING/MISD)
DESCRIPTION:TA: Kiersten Underwood \nCampus: Gentry Elementary \nLocation: 1901 Twin Oaks Dr\, Mesquite\, TX 75181 \nPrincipal: Michael Pierotti  MPierotti@mesquiteisd.org\nContact:  Jennifer Garcia      (972) 290-4140\n8:00am – 8:20am   Ochoa \n8:20am – 8:40am  Lona \n8:40am – 9:00am   Rogers \n9:00am – 9:20am  Weber \n***TRAVEL TIME*** \nCampus: Hodges Elementary \nLocation: 14401 Spring Oak Dr\, Balch Springs\, TX 75180 \nPrincipal: Dr. Kim Broadway  KBroadway@mesquiteisd.org\nContact:  Maria Carrizales   (972) 882-0200\n9:50am – 10:10am  Paniagua \n10:10am – 10:30am  Mir \n10:30am – 10:50am  Mojica \n10:50am – 11:10am  Padachy \n***TRAVEL TIME*** \nCampus: McWhorter Elementary \nLocation: 1700 Hickory Tree Mesquite Texas 75149 \nPrincipal: Robyn Leslie  rleslie@mesquiteisd\nContact: Sharon Carter  972-882-7020\n1:00pm – 1:20pm  Pravitz\n1:20pm – 1:40pm   Torres\n1:40pm – 2:00pm    Hernandez\n2:00pm – 2:20pm  Serrano
URL:https://theartistoutreach.org/event/misd-s-king-misd-142/
CATEGORIES:North Texas Events
END:VEVENT
BEGIN:VEVENT
DTSTART;TZID=UTC:20250501T081000
DTEND;TZID=UTC:20250501T100000
DTSTAMP:20260424T161737
CREATED:20240729T171918Z
LAST-MODIFIED:20241024T200133Z
UID:33637-1746087000-1746093600@theartistoutreach.org
SUMMARY:DISD Bayles (MFA/CDOAC-COP/TCA)
DESCRIPTION:TA: Candy Williams \nBayles Elementary School \nLocation: 2444 Telegraph Ave\, Dallas\, TX 75228 \nContact: (972) 749-8900 \nPrincipal: Miguel Campuzano  (210) 240-4984 \nPRE-K SCHEDULE \n8:10 – 8:25 am –  Ms. Evans (TA)\, Room 107 \n8:25 – 8:40 am – Ms. Alanis\, Room 109 \n8:40 – 8:55 am – Ms. Pineda\, Room 108 \n8:55 -9:10 am – Ms. Sanchez\, Room 106 \nKINDER SCHEDULE \n9:15 – 9:30 am – Mr. Jameson\, Room 125 \n9:30 – 9:45 am – Ms. Pierce\, Room 127 \n9:45 – 10:00 am – Mr. Moreno\, Room 124
URL:https://theartistoutreach.org/event/disd-bayles-mfa-cdoac-tca-33/
CATEGORIES:North Texas Events
END:VEVENT
BEGIN:VEVENT
DTSTART;TZID=UTC:20250501T082000
DTEND;TZID=UTC:20250501T141000
DTSTAMP:20260424T161737
CREATED:20250226T224155Z
LAST-MODIFIED:20250226T224155Z
UID:35517-1746087600-1746108600@theartistoutreach.org
SUMMARY:(MISD-SPK MISD/TCA/DMC/REA)
DESCRIPTION:TA: Chris Hicks \nCampus:  Dr. Linda Henrie Elementary \nLocation:  253 W Lawson Rd\, Dallas\, TX 75253 \nPrincipal: Jill Vincent\nContact: Dennis Allen     (972) 290-4200\n8:20 – 8:40  J Salazar \n8:40 – 9:00  Colon \n9:00 – 9:20  Morales \n9:20 – 9:40  Salazar \n***TRAVEL TIME*** \nCampus:  Hodges Elementary School \nLocation: 14401 Spring Oak Dr\, Balch Springs\, TX 75180 \nPrincipal: Dr. Holly Grubbs\nContact: Deena Manning    (972) 882-0200\n10:00 – 10:20  Gaitan \n10:20 – 10:40  Pena \n***TRAVEL TIME*** \nCampus: McWhorter Elementary \nLocation: 1700 Hickory Tree Mesquite Texas 75149 \nPrincipal: Robyn Leslie\nContact:    972-882-7020 \n1:30 – 1:50  Gomez-Valencia \n1:50 – 2:10  Hathcock
URL:https://theartistoutreach.org/event/misd-spk-misd-tca-dmc-rea-101/
CATEGORIES:North Texas Events
END:VEVENT
BEGIN:VEVENT
DTSTART;TZID=UTC:20250501T124500
DTEND;TZID=UTC:20250501T134500
DTSTAMP:20260424T161737
CREATED:20240724T183459Z
LAST-MODIFIED:20241211T203142Z
UID:33539-1746103500-1746107100@theartistoutreach.org
SUMMARY:MISD-AA (MISD)
DESCRIPTION:TA: Joel McCray/Candy Williams \nRange Elementary \n4060 Emerald Dr\, Mesquite\, TX 75150 \nPrincipal: Kelly Locke – klocke@mesquiteisd.org \nPhone:  (972) 882-5180 \nContact: Brittany Morrison –  bmorrison@mesquiteisd.org \nTime: 12:45 – 1:45 pm  (Cafeteria)
URL:https://theartistoutreach.org/event/misd-aa-misd-114/
CATEGORIES:North Texas Events
END:VEVENT
BEGIN:VEVENT
DTSTART;TZID=UTC:20250501T141000
DTEND;TZID=UTC:20250501T151000
DTSTAMP:20260424T161737
CREATED:20240724T183526Z
LAST-MODIFIED:20241211T203151Z
UID:33540-1746108600-1746112200@theartistoutreach.org
SUMMARY:MISD-AA (MISD)
DESCRIPTION:TA: Joel McCray/Candy Williams \nPrice Elementry \n630 Stroud Lane Garland TX 75043 \nPrincipal: Ashely Goodwin – agoodwin@mesquiteisd.org \nPhone:  972-882-0240 \nContact: Aubry Presley – cpresley@mesquiteisd.org \nTime: 2:10 – 3:10pm  (Cafeteria)
URL:https://theartistoutreach.org/event/misd-aa-misd-115/
CATEGORIES:North Texas Events
END:VEVENT
BEGIN:VEVENT
DTSTART;TZID=UTC:20250501T161500
DTEND;TZID=UTC:20250501T171500
DTSTAMP:20260424T161737
CREATED:20240724T183551Z
LAST-MODIFIED:20240724T183551Z
UID:33541-1746116100-1746119700@theartistoutreach.org
SUMMARY:MISD-ID (MISD)
DESCRIPTION:TA: Joel McCray\nVanguard High School   \n4201 Faithon P Lucas Sr Blvd\, Mesquite\, TX 75181 \nPrincipal: Clint Elsasser – celsasser@mesquiteisd.org \nPhone:(972) 882-0000 \nContact: Hayden Cepack – hcepak@mesquiteisd.org \nTime: 4:15 – 5:15pm
URL:https://theartistoutreach.org/event/misd-id-misd-60/
CATEGORIES:North Texas Events
END:VEVENT
BEGIN:VEVENT
DTSTART;TZID=UTC:20250501T163000
DTEND;TZID=UTC:20250501T171500
DTSTAMP:20260424T161737
CREATED:20250331T202319Z
LAST-MODIFIED:20250331T202319Z
UID:35655-1746117000-1746119700@theartistoutreach.org
SUMMARY:UCC Wesley (JPM/MSPT)
DESCRIPTION:TA: Chris Hicks \nCampus: Wesley United Center\nLocation: 3600 N Crump St\, Fort Worth\, TX 76106 \nDirector: Sandra  Garza \nContact: Sandra Garza 214.202.8735 \n4:30pm – 4:50pm Pre-K Alejandra Rodriguez \n4:50pm – 5:15pm Kinder Alejandra Arellano
URL:https://theartistoutreach.org/event/ucc-wesley-jpm-mspt-5/
CATEGORIES:North Texas Events
END:VEVENT
BEGIN:VEVENT
DTSTART;TZID=UTC:20250502T080000
DTEND;TZID=UTC:20250502T130000
DTSTAMP:20260424T161737
CREATED:20241230T232825Z
LAST-MODIFIED:20241230T232825Z
UID:35387-1746172800-1746190800@theartistoutreach.org
SUMMARY:MISD-S (KING/MISD)
DESCRIPTION:TA: Kiersten Underwood \nCampus: Florence Elementary \nLocation: 4600 Ashwood Dr\, Mesquite\, TX 75150 \nPrincipal: Dr. Maria Franco  MFranco@mesquiteisd.orgContact:    Nancy Nieto  (972) 882-03008:00am – 8:20am  Leon \n8:20am – 8:40am  Lawing \n8:40am – 9:00am  Wells \n***TRAVEL TIME*** \nCampus: Porter Elementary \nLocation: 517 Via Avenida\, Mesquite\, TX 75150 \nPrincipal: Leeann Englert   LEnglert@mesquiteisd.orgContact:  Jasmine Herbert     (972) 882-036011:40am – 12:00pm  Stribley \n12:00pm – 12:20pm  Momon \n12:20pm – 12:40pm  Ortega \n12:40pm – 1:00pm  Greene
URL:https://theartistoutreach.org/event/misd-s-king-misd-165/
CATEGORIES:North Texas Events
END:VEVENT
BEGIN:VEVENT
DTSTART;TZID=UTC:20250502T080000
DTEND;TZID=UTC:20250502T153000
DTSTAMP:20260424T161737
CREATED:20240730T162328Z
LAST-MODIFIED:20241024T200139Z
UID:33867-1746172800-1746199800@theartistoutreach.org
SUMMARY:OLPH Art (OLPH/TCA/DMC/MFA/CDOAC-COP)
DESCRIPTION:TA: Chris Hicks \n8:00-8:45am – 2nd \n8:50 am-9:35 am – 3rd \n9:40 am–10:25 am – 4th \n10:30 am–11:15am – 5th B \n****Lunch**** \n12:00 noon-12:45pm – 6th B \n12:50pm-1:35pm – 7th B \n1:40pm-2:25pm – 8th \n2:30pm-3:15pm – 1st \n3:15pm-3:30pm – Prayer \nOur Lady of Perpetual Help \n7625 Cortland Avenue \nDallas\, TX 75235 \n214-351-3396 \nPrincipal: John Hickey        jhickey@olphdallas.org \nManager:  Theresa Ruenes           truenes@olphdallas.org
URL:https://theartistoutreach.org/event/olph-music-olph-tca-dmc-35/
CATEGORIES:North Texas Events
END:VEVENT
BEGIN:VEVENT
DTSTART;TZID=UTC:20250502T081500
DTEND;TZID=UTC:20250502T145500
DTSTAMP:20260424T161737
CREATED:20250226T230000Z
LAST-MODIFIED:20250226T230000Z
UID:35539-1746173700-1746197700@theartistoutreach.org
SUMMARY:(MISD-SPK MISD/TCA/DMC/REA)
DESCRIPTION:TA: Candy Williams \nCampus:  Seabourn Elementary School \nLocation:  2249 Picadilly Blvd\, Mesquite\, TX 75149 \nPrincipal: Renea Kern\nContact:   Brenda Macias   (972) 882-7040\n8:15 – 8:35  Munoz \n8:35 – 8:55  Castro \n***TRAVEL TIME*** \nCampus: Mackey Elementary School \nLocation: 14900 N Spring Ridge Cir\, Mesquite\, TX 75180 \nPrincipal: Lynne Noe\nContact:   Ontavia Burks   (972) 290-4160\n10:00 – 10:20  Nuckels \n10:20 – 10:40  Love \n***TRAVEL TIME*** \nCampus: Gray Elementary School \nLocation: 3500 Pioneer Rd\, Mesquite\, TX 75181 \nPrincipal: Alyce Quesenberry\nContact:  Christy Cardenas    (972) 882-7280\n11:10 – 11:30  Escobar \n11:30 – 11:50  Wagner \n***TRAVEL TIME*** \nCampus: Galloway Elementary School \nLocation: 200 Clary Dr\, Mesquite\, TX 75149 \nPrincipal:  Courtney Cross\nContact:  Blanca Luna  (972) 882-5101\n2:15 – 2:35  Martinez \n2:35 – 2:55  Sanchez
URL:https://theartistoutreach.org/event/misd-spk-misd-tca-dmc-rea-113/
CATEGORIES:North Texas Events
END:VEVENT
BEGIN:VEVENT
DTSTART;TZID=UTC:20250505T080000
DTEND;TZID=UTC:20250505T100000
DTSTAMP:20260424T161737
CREATED:20250319T180301Z
LAST-MODIFIED:20250319T180301Z
UID:35591-1746432000-1746439200@theartistoutreach.org
SUMMARY:Steven Park (CDOAD-COP/DMC)
DESCRIPTION:TA: Kiersten Underwood \nCampus: Stevens Park Elementary School \nLocation: 2615 W Colorado Blvd\, Dallas\, TX 75211 \nPrincipal: Ivelisse Avila \nContact: Carlos   (972) 794-4200 \n8:00 – 8:20    Diez  (K) \n8:20 – 8:40    MacNealy    (PK) \n8:40 – 9:00    Martinez   (PK) \n9:00 – 9:20    Salgado   (PK) \n9:20 – 9:40    (K) \n9:40 – 10:00  (K)
URL:https://theartistoutreach.org/event/steven-park-cdoad-cop-dmc-21/
CATEGORIES:North Texas Events
END:VEVENT
BEGIN:VEVENT
DTSTART;TZID=UTC:20250505T080000
DTEND;TZID=UTC:20250505T142000
DTSTAMP:20260424T161737
CREATED:20241211T205540Z
LAST-MODIFIED:20241211T205540Z
UID:35163-1746432000-1746454800@theartistoutreach.org
SUMMARY:MISD-S (KING/MISD)
DESCRIPTION:TA: Kiersten Underwood \nCampus: Floyd Elementary \nLocation: 3025 Hickory Tree Rd\, Mesquite\, TX 75180 \nPrincipal: Christina Alvarez   CAlvarez@mesquiteisd.org\nContact: Shirley Gentry  (972) 882-7100\n1:00pm – 1:20pm  Ibarra \n1:20pm – 1:40pm  Yanez \n1:40pm – 2:00pm  Paredes \n2:00pm – 2:20pm  Martinez
URL:https://theartistoutreach.org/event/misd-s-king-misd-96/
CATEGORIES:North Texas Events
END:VEVENT
BEGIN:VEVENT
DTSTART;TZID=UTC:20250505T080000
DTEND;TZID=UTC:20250505T153000
DTSTAMP:20260424T161737
CREATED:20240724T163512Z
LAST-MODIFIED:20241024T200147Z
UID:33327-1746432000-1746459000@theartistoutreach.org
SUMMARY:OLPH Art (OLPH/TCA/DMC/MFA/CDOAC-COP)
DESCRIPTION:TA: Chris Hicks \n8:00-8:45am – 2nd \n8:50 am-9:35 am – 3rd \n9:40 am–10:25 am – 4th \n10:30 am–11:15am – 5th A \n****Lunch**** \n12:00 noon-12:45pm – 6th A \n12:50pm-1:35pm – 7th A \n1:40pm-2:25pm – 8th \n2:30pm-3:15pm – 1st \n3:15pm-3:30pm – Prayer \nOur Lady of Perpetual Help \n7625 Cortland Avenue \nDallas\, TX 75235 \n214-351-3396 \nPrincipal: John Hickey        jhickey@olphdallas.org \nManager:  Theresa Ruenes           truenes@olphdallas.org
URL:https://theartistoutreach.org/event/olph-art-olph-tca-dmc-35/
CATEGORIES:North Texas Events
END:VEVENT
BEGIN:VEVENT
DTSTART;TZID=UTC:20250505T153000
DTEND;TZID=UTC:20250505T160000
DTSTAMP:20260424T161737
CREATED:20240730T152159Z
LAST-MODIFIED:20240730T152159Z
UID:33795-1746459000-1746460800@theartistoutreach.org
SUMMARY:Staff Meeting
DESCRIPTION:Joseph Vincelli is inviting you to a scheduled Zoom meeting. \nTopic: Joseph Vincelli’s Personal Meeting Room \nJoin Zoom Meetinghttps://us06web.zoom.us/j/9323305625 \nMeeting ID: 932 330 5625 \nFind your local number: https://us06web.zoom.us/u/kM3k1FkrW
URL:https://theartistoutreach.org/event/staff-meeting-115/
CATEGORIES:North Texas Events
END:VEVENT
BEGIN:VEVENT
DTSTART;TZID=UTC:20250506T080000
DTEND;TZID=UTC:20250506T104000
DTSTAMP:20260424T161737
CREATED:20240723T182122Z
LAST-MODIFIED:20241024T200152Z
UID:33109-1746518400-1746528000@theartistoutreach.org
SUMMARY:OLPH Art (OLPH/TCA/DMC/MFA/CDOAC-COP)
DESCRIPTION:TA: Chris Hicks \n8:00-8:45am – ECI \n8:50 am-9:35 am – ECII \n9:40 am – 10:10 am – 1st Grade \n10:10 am – 10:40am – 2nd Grade \nOur Lady of Perpetual Help \n7625 Cortland Avenue \nDallas\, TX 75235 \n214-351-3396 \nPrincipal: John Hickey        jhickey@olphdallas.org \nManager:  Theresa Ruenes           truenes@olphdallas.org
URL:https://theartistoutreach.org/event/olph-ecrr-olph-tca-dmc-36/
CATEGORIES:North Texas Events
END:VEVENT
BEGIN:VEVENT
DTSTART;TZID=UTC:20250506T080000
DTEND;TZID=UTC:20250506T142000
DTSTAMP:20260424T161737
CREATED:20241211T210614Z
LAST-MODIFIED:20241211T210614Z
UID:35204-1746518400-1746541200@theartistoutreach.org
SUMMARY:MISD-S (KING/MISD)
DESCRIPTION:TA: Kiersten Underwood \nCampus: Rutherford Elementary \nLocation: Rutherford School Park\, 1100 Rutherford Dr\, Mesquite\, TX 75149 \nPrincipal: Casondra Wilburn  CWilburn@mesquiteisd.orgContact:   Martha Gaytan  (972) 882-03808:00am – 8:20am  Aguilar \n8:20am – 8:40am  Hurey \n8:40am – 9:00am  Dominguez \n9:00am – 9:20am  Duque \n9:20am – 9:40am  Boyd \n***TRAVEL TIME*** \nCampus: Seabourn Elementary \nLocation: 2249 Picadilly Blvd\, Mesquite\, TX 75149 \nPrincipal: Renea Kern  JKern@mesquiteisd.orgContact: Brenda Macias   (972) 882-704010:00am – 10:20am   Rodriguez \n10:20am – 10:40am    Hall \n11:45am – 12:05pm    Almanza \n12:05pm – 12:25pm     Aguilar \n***TRAVEL TIME*** \nCampus: Black Elementary \nLocation: 328 Newsom Rd\, Mesquite\, TX 75149 \nPrincipal: Darla Franklin DFranklin@mesquiteisd.orgContact:  Luz Diaz     (972) 882-72401:30pm – 1:50pm  Gonzalez \n1:50pm – 2:10pm  Rodriguez \n2:10pm – 2:30pm  Orona \n2:30pm – 2:50pm  McCormies
URL:https://theartistoutreach.org/event/misd-s-king-misd-117/
CATEGORIES:North Texas Events
END:VEVENT
BEGIN:VEVENT
DTSTART;TZID=UTC:20250506T083000
DTEND;TZID=UTC:20250506T095000
DTSTAMP:20260424T161737
CREATED:20240730T145623Z
LAST-MODIFIED:20241024T200318Z
UID:33753-1746520200-1746525000@theartistoutreach.org
SUMMARY:DISD Guzick (MFA/CDOAC-COP/TCA)
DESCRIPTION:TA: Candy Williams \nLocation:  Frank Guzick Elementary School (DISD) \n5000 Berridge Ln\, Dallas\, TX 75227 \nContact: Lane Thomas\, Lead Teacher    972-502-3900      lanethomas@dallasisd.org \nPRE-K \n8:30am Castano \n8:50am Thomas \n9:10am Caamano \n9:30am Ferreiro
URL:https://theartistoutreach.org/event/disd-guzick-mfa-cdoac-tca-17/
CATEGORIES:North Texas Events
END:VEVENT
BEGIN:VEVENT
DTSTART;TZID=UTC:20250506T120000
DTEND;TZID=UTC:20250506T135000
DTSTAMP:20260424T161737
CREATED:20250226T221524Z
LAST-MODIFIED:20250226T221524Z
UID:35492-1746532800-1746539400@theartistoutreach.org
SUMMARY:(MISD-SPK MISD/TCA/DMC/REA)
DESCRIPTION:TA: Candy Williams \nCampus: Floyd Elementary School \nLocation: 3025 Hickory Tree Rd\, Mesquite\, TX 75180 \nPrincipal: Christina Alvarez \nContact: Shirley Gentry    (972) 882-7100\n12:00 – 12:20  Ellis \n12:20 – 12:40  Diaz \n12:50 – 1:10   Rea \n1:35 – 1:50   Smith
URL:https://theartistoutreach.org/event/misd-spk-misd-tca-dmc-rea-89/
CATEGORIES:North Texas Events
END:VEVENT
BEGIN:VEVENT
DTSTART;TZID=UTC:20250506T163000
DTEND;TZID=UTC:20250506T171500
DTSTAMP:20260424T161737
CREATED:20250331T201429Z
LAST-MODIFIED:20250331T201429Z
UID:35621-1746549000-1746551700@theartistoutreach.org
SUMMARY:UCC Polytechnic (JPM/MSPT)
DESCRIPTION:TA: Chris Hicks \nCampus: Polytechnic United Center\nLocation: 3100 Avenue I\, Fort Worth\, TX 76105 \nDirector: Sandra  Garza \nContact: Sandra Garza 214.202.8735 \n4:30pm – 4:50pm Pre-K Christina Esparza \n4:50pm – 5:15pm Kinder Genesis Alvarez
URL:https://theartistoutreach.org/event/ucc-polytechnic-jpm-mspt-6/
CATEGORIES:North Texas Events
END:VEVENT
BEGIN:VEVENT
DTSTART;TZID=UTC:20250507T080000
DTEND;TZID=UTC:20250507T130000
DTSTAMP:20260424T161737
CREATED:20241230T230839Z
LAST-MODIFIED:20241230T230839Z
UID:35313-1746604800-1746622800@theartistoutreach.org
SUMMARY:MISD-S (KING/MISD)
DESCRIPTION:TA: Kiersten Underwood \nCampus: Tisinger Elementary \nLocation: 1701 Hillcrest St\, Mesquite\, TX 75149 \nPrincipal: Amanda Relf   ARelf@mesquiteisd.orgContact:    Viviana Ayala   (972) 882-51208:00am – 8:20am  Wright \n8:20am – 8:40am  Morales \n8:40am – 9:00am  Grant \n9:00am – 9:20am   Ontiveros \n9:20am – 9:40am  Martin \n***TRAVEL TIME*** \nCampus: Gray Elementary \nLocation: 3500 Pioneer Rd\, Mesquite\, TX 75181 \nPrincipal: Alyce Quesenberry AQuesenberry@mesquiteisd.orgContact:   Christy Cardenas    (972) 882-728011:40am – 12:00pm  Portillo \n12:00pm – 12:20pm  Reschke \n12:20pm – 1:00pm  Walker
URL:https://theartistoutreach.org/event/misd-s-king-misd-87/
CATEGORIES:North Texas Events
END:VEVENT
BEGIN:VEVENT
DTSTART;TZID=UTC:20250507T080000
DTEND;TZID=UTC:20250507T135500
DTSTAMP:20260424T161737
CREATED:20240605T172821Z
LAST-MODIFIED:20241024T200324Z
UID:32740-1746604800-1746626100@theartistoutreach.org
SUMMARY:UPL WHITE ROCK PREP (TCA/CDOAC-COP)
DESCRIPTION:TA: Candy Williams \nCONTACTS:  Director: Marius Martin  PH:  469-914-7500     Email: mamartin@uplifteducation.org \nDean: Frances Maisonet      FMaisonet@uplifteducation.org \nLocation:7370 Valley Glen Drive\, Dallas\, TX 75228 \nKinder     Arriaga     room 148      8:00am – 8:45am \nKinder    Alvarado   room 150     8:45am – 9:15am \nFirst      Johnson     room 141      9:15am – 10:00am \nFirst      Reyna      room 144      10:00am – 10:45am \nKinder    Hernandez      room 145      11:30am – 12:15pm \nKinder    Sylvia      room 147          12:15pm – 1:00pm \nFirst        Lemon         room 139       1:00pm – 1:45pm
URL:https://theartistoutreach.org/event/upl-white-rock-prep-tca-cdoac-17/
CATEGORIES:North Texas Events
END:VEVENT
BEGIN:VEVENT
DTSTART;TZID=UTC:20250507T083500
DTEND;TZID=UTC:20250507T152000
DTSTAMP:20260424T161737
CREATED:20240724T163537Z
LAST-MODIFIED:20250129T203823Z
UID:33328-1746606900-1746631200@theartistoutreach.org
SUMMARY:FWISD Meadowbrook (MSPT/EWG/Ryan/HFF)
DESCRIPTION:TA: Chris Hicks \nMeadowbrook Elementary \n4330 Meadowbrook Drive \nFort Worth\, TX   76103 \n8:35-9:20am – \n9:25-10:10am –  \n10:15-11:00am –  \n1:05-11:50am –  \n***Lunch**** \n12:20-1:05 –  \n1:10-1:55pm –  \n2:00-2:50pm – PLC \n2:50-3:15pm – Prime Time \n3:15-3:20pm – Dismissal
URL:https://theartistoutreach.org/event/fwisd-meadowbrook-mspt-ewg-ryan-hff-73/
CATEGORIES:North Texas Events
END:VEVENT
BEGIN:VEVENT
DTSTART;TZID=UTC:20250507T163000
DTEND;TZID=UTC:20250507T171500
DTSTAMP:20260424T161737
CREATED:20250331T201851Z
LAST-MODIFIED:20250331T201851Z
UID:35639-1746635400-1746638100@theartistoutreach.org
SUMMARY:UCC Bethlehem (JPM /MSPT)
DESCRIPTION:TA: Chris Hicks \nCampus: Bethlehem Center \nLocation: 951 Evans Ave\, Fort Worth\, TX 76104 \nDirector: Sandra  Garza \nContact: Sandra Garza 214.202.8735 \n4:30pm – 4:50pm Pre-K – Heidy Estrada \n4:50pm – 5:15pm Kinder – Mariah Lara
URL:https://theartistoutreach.org/event/ucc-bethlehem-jpm-mspt-6/
CATEGORIES:North Texas Events
END:VEVENT
BEGIN:VEVENT
DTSTART;TZID=UTC:20250508T080000
DTEND;TZID=UTC:20250508T142000
DTSTAMP:20260424T161737
CREATED:20241230T232135Z
LAST-MODIFIED:20241230T232135Z
UID:35356-1746691200-1746714000@theartistoutreach.org
SUMMARY:MISD-S (KING/MISD)
DESCRIPTION:TA: Kiersten Underwood \nCampus: Gentry Elementary \nLocation: 1901 Twin Oaks Dr\, Mesquite\, TX 75181 \nPrincipal: Michael Pierotti  MPierotti@mesquiteisd.org\nContact:  Jennifer Garcia      (972) 290-4140\n8:00am – 8:20am   Ochoa \n8:20am – 8:40am  Lona \n8:40am – 9:00am   Rogers \n9:00am – 9:20am  Weber \n***TRAVEL TIME*** \nCampus: Hodges Elementary \nLocation: 14401 Spring Oak Dr\, Balch Springs\, TX 75180 \nPrincipal: Dr. Kim Broadway  KBroadway@mesquiteisd.org\nContact:  Maria Carrizales   (972) 882-0200\n9:50am – 10:10am  Paniagua \n10:10am – 10:30am  Mir \n10:30am – 10:50am  Mojica \n10:50am – 11:10am  Padachy \n***TRAVEL TIME*** \nCampus: McWhorter Elementary \nLocation: 1700 Hickory Tree Mesquite Texas 75149 \nPrincipal: Robyn Leslie  rleslie@mesquiteisd\nContact: Sharon Carter  972-882-7020\n1:00pm – 1:20pm  Pravitz\n1:20pm – 1:40pm   Torres\n1:40pm – 2:00pm    Hernandez\n2:00pm – 2:20pm  Serrano
URL:https://theartistoutreach.org/event/misd-s-king-misd-148/
CATEGORIES:North Texas Events
END:VEVENT
BEGIN:VEVENT
DTSTART;TZID=UTC:20250508T081000
DTEND;TZID=UTC:20250508T100000
DTSTAMP:20260424T161737
CREATED:20240729T171944Z
LAST-MODIFIED:20241024T200329Z
UID:33638-1746691800-1746698400@theartistoutreach.org
SUMMARY:DISD Bayles (MFA/CDOAC-COP/TCA)
DESCRIPTION:TA: Candy Williams \nBayles Elementary School \nLocation: 2444 Telegraph Ave\, Dallas\, TX 75228 \nContact: (972) 749-8900 \nPrincipal: Miguel Campuzano  (210) 240-4984 \nPRE-K SCHEDULE \n8:10 – 8:25 am –  Ms. Evans (TA)\, Room 107 \n8:25 – 8:40 am – Ms. Alanis\, Room 109 \n8:40 – 8:55 am – Ms. Pineda\, Room 108 \n8:55 -9:10 am – Ms. Sanchez\, Room 106 \nKINDER SCHEDULE \n9:15 – 9:30 am – Mr. Jameson\, Room 125 \n9:30 – 9:45 am – Ms. Pierce\, Room 127 \n9:45 – 10:00 am – Mr. Moreno\, Room 124
URL:https://theartistoutreach.org/event/disd-bayles-mfa-cdoac-tca-34/
CATEGORIES:North Texas Events
END:VEVENT
BEGIN:VEVENT
DTSTART;TZID=UTC:20250508T082000
DTEND;TZID=UTC:20250508T141000
DTSTAMP:20260424T161737
CREATED:20250226T224208Z
LAST-MODIFIED:20250226T224208Z
UID:35518-1746692400-1746713400@theartistoutreach.org
SUMMARY:(MISD-SPK MISD/TCA/DMC/REA)
DESCRIPTION:TA: Chris Hicks \nCampus:  Dr. Linda Henrie Elementary \nLocation:  253 W Lawson Rd\, Dallas\, TX 75253 \nPrincipal: Jill Vincent\nContact: Dennis Allen     (972) 290-4200\n8:20 – 8:40  J Salazar \n8:40 – 9:00  Colon \n9:00 – 9:20  Morales \n9:20 – 9:40  Salazar \n***TRAVEL TIME*** \nCampus:  Hodges Elementary School \nLocation: 14401 Spring Oak Dr\, Balch Springs\, TX 75180 \nPrincipal: Dr. Holly Grubbs\nContact: Deena Manning    (972) 882-0200\n10:00 – 10:20  Gaitan \n10:20 – 10:40  Pena \n***TRAVEL TIME*** \nCampus: McWhorter Elementary \nLocation: 1700 Hickory Tree Mesquite Texas 75149 \nPrincipal: Robyn Leslie\nContact:    972-882-7020 \n1:30 – 1:50  Gomez-Valencia \n1:50 – 2:10  Hathcock
URL:https://theartistoutreach.org/event/misd-spk-misd-tca-dmc-rea-102/
CATEGORIES:North Texas Events
END:VEVENT
BEGIN:VEVENT
DTSTART;TZID=UTC:20250508T124500
DTEND;TZID=UTC:20250508T134500
DTSTAMP:20260424T161737
CREATED:20240724T183833Z
LAST-MODIFIED:20241211T203214Z
UID:33547-1746708300-1746711900@theartistoutreach.org
SUMMARY:MISD-AA (MISD)
DESCRIPTION:TA: Joel McCray/Candy Williams \nRange Elementary \n4060 Emerald Dr\, Mesquite\, TX 75150 \nPrincipal: Kelly Locke – klocke@mesquiteisd.org \nPhone:  (972) 882-5180 \nContact: Brittany Morrison –  bmorrison@mesquiteisd.org \nTime: 12:45 – 1:45 pm  (Cafeteria)
URL:https://theartistoutreach.org/event/misd-aa-misd-117/
CATEGORIES:North Texas Events
END:VEVENT
BEGIN:VEVENT
DTSTART;TZID=UTC:20250508T141000
DTEND;TZID=UTC:20250508T151000
DTSTAMP:20260424T161737
CREATED:20240724T183812Z
LAST-MODIFIED:20241211T203346Z
UID:33546-1746713400-1746717000@theartistoutreach.org
SUMMARY:MISD-AA (MISD)
DESCRIPTION:TA: Joel McCray/Candy Williams \nPrice Elementry \n630 Stroud Lane Garland TX 75043 \nPrincipal: Ashely Goodwin – agoodwin@mesquiteisd.org \nPhone:  972-882-0240 \nContact: Aubry Presley – cpresley@mesquiteisd.org \nTime: 2:10 – 3:10pm  (Cafeteria)
URL:https://theartistoutreach.org/event/misd-aa-misd-116/
CATEGORIES:North Texas Events
END:VEVENT
BEGIN:VEVENT
DTSTART;TZID=UTC:20250508T161500
DTEND;TZID=UTC:20250508T171500
DTSTAMP:20260424T161737
CREATED:20240724T183743Z
LAST-MODIFIED:20240724T183743Z
UID:33545-1746720900-1746724500@theartistoutreach.org
SUMMARY:MISD-ID (MISD)
DESCRIPTION:TA: Joel McCray\nVanguard High School   \n4201 Faithon P Lucas Sr Blvd\, Mesquite\, TX 75181 \nPrincipal: Clint Elsasser – celsasser@mesquiteisd.org \nPhone:(972) 882-0000 \nContact: Hayden Cepack – hcepak@mesquiteisd.org \nTime: 4:15 – 5:15pm
URL:https://theartistoutreach.org/event/misd-id-misd-61/
CATEGORIES:North Texas Events
END:VEVENT
BEGIN:VEVENT
DTSTART;TZID=UTC:20250508T163000
DTEND;TZID=UTC:20250508T171500
DTSTAMP:20260424T161737
CREATED:20250331T202329Z
LAST-MODIFIED:20250331T202329Z
UID:35657-1746721800-1746724500@theartistoutreach.org
SUMMARY:UCC Wesley (JPM/MSPT)
DESCRIPTION:TA: Chris Hicks \nCampus: Wesley United Center\nLocation: 3600 N Crump St\, Fort Worth\, TX 76106 \nDirector: Sandra  Garza \nContact: Sandra Garza 214.202.8735 \n4:30pm – 4:50pm Pre-K Alejandra Rodriguez \n4:50pm – 5:15pm Kinder Alejandra Arellano
URL:https://theartistoutreach.org/event/ucc-wesley-jpm-mspt-6/
CATEGORIES:North Texas Events
END:VEVENT
END:VCALENDAR