BEGIN:VCALENDAR
VERSION:2.0
PRODID:-//The Artist Outreach - ECPv6.15.20//NONSGML v1.0//EN
CALSCALE:GREGORIAN
METHOD:PUBLISH
X-WR-CALNAME:The Artist Outreach
X-ORIGINAL-URL:https://theartistoutreach.org
X-WR-CALDESC:Events for The Artist Outreach
REFRESH-INTERVAL;VALUE=DURATION:PT1H
X-Robots-Tag:noindex
X-PUBLISHED-TTL:PT1H
BEGIN:VTIMEZONE
TZID:UTC
BEGIN:STANDARD
TZOFFSETFROM:+0000
TZOFFSETTO:+0000
TZNAME:UTC
DTSTART:20240101T000000
END:STANDARD
END:VTIMEZONE
BEGIN:VEVENT
DTSTART;TZID=UTC:20250303T080000
DTEND;TZID=UTC:20250303T100000
DTSTAMP:20260425T021008
CREATED:20250319T175610Z
LAST-MODIFIED:20250319T175610Z
UID:35575-1740988800-1740996000@theartistoutreach.org
SUMMARY:Steven Park (CDOAD-COP/DMC)
DESCRIPTION:TA: Kiersten Underwood \nCampus: Stevens Park Elementary School \nLocation: 2615 W Colorado Blvd\, Dallas\, TX 75211 \nPrincipal: Ivelisse Avila \nContact: Carlos   (972) 794-4200 \n8:00 – 8:20    Diez  (K) \n8:20 – 8:40    MacNealy    (PK) \n8:40 – 9:00    Martinez   (PK) \n9:00 – 9:20    Salgado   (PK) \n9:20 – 9:40    (K) \n9:40 – 10:00  (K)
URL:https://theartistoutreach.org/event/steven-park-cdoad-cop-dmc-14/
CATEGORIES:North Texas Events
END:VEVENT
BEGIN:VEVENT
DTSTART;TZID=UTC:20250303T080000
DTEND;TZID=UTC:20250303T153000
DTSTAMP:20260425T021008
CREATED:20240724T160455Z
LAST-MODIFIED:20241024T194007Z
UID:33269-1740988800-1741015800@theartistoutreach.org
SUMMARY:OLPH Art (OLPH/TCA/DMC/MFA/CDOAC-COP)
DESCRIPTION:TA: Chris Hicks \n8:00-8:45am – 2nd \n8:50 am-9:35 am – 3rd \n9:40 am–10:25 am – 4th \n10:30 am–11:15am – 5th A \n****Lunch**** \n12:00 noon-12:45pm – 6th A \n12:50pm-1:35pm – 7th A \n1:40pm-2:25pm – 8th \n2:30pm-3:15pm – 1st \n3:15pm-3:30pm – Prayer \nOur Lady of Perpetual Help \n7625 Cortland Avenue \nDallas\, TX 75235 \n214-351-3396 \nPrincipal: John Hickey        jhickey@olphdallas.org \nManager:  Theresa Ruenes           truenes@olphdallas.org
URL:https://theartistoutreach.org/event/olph-art-olph-tca-dmc-26/
CATEGORIES:North Texas Events
END:VEVENT
BEGIN:VEVENT
DTSTART;TZID=UTC:20250303T080000
DTEND;TZID=UTC:20250303T170000
DTSTAMP:20260425T021008
CREATED:20240816T192639Z
LAST-MODIFIED:20240816T192639Z
UID:34075-1740988800-1741021200@theartistoutreach.org
SUMMARY:MISD Student Holiday
DESCRIPTION:No School!
URL:https://theartistoutreach.org/event/misd-student-holiday-14/
CATEGORIES:North Texas Events
END:VEVENT
BEGIN:VEVENT
DTSTART;TZID=UTC:20250304T080000
DTEND;TZID=UTC:20250304T104000
DTSTAMP:20260425T021008
CREATED:20240723T181601Z
LAST-MODIFIED:20241024T194013Z
UID:33091-1741075200-1741084800@theartistoutreach.org
SUMMARY:OLPH Art (OLPH/TCA/DMC/MFA/CDOAC-COP)
DESCRIPTION:TA: Chris Hicks \n8:00-8:45am – ECI \n8:50 am-9:35 am – ECII \n9:40 am – 10:10 am – 1st Grade \n10:10 am – 10:40am – 2nd Grade \nOur Lady of Perpetual Help \n7625 Cortland Avenue \nDallas\, TX 75235 \n214-351-3396 \nPrincipal: John Hickey        jhickey@olphdallas.org \nManager:  Theresa Ruenes           truenes@olphdallas.org
URL:https://theartistoutreach.org/event/olph-ecrr-olph-tca-dmc-27/
CATEGORIES:North Texas Events
END:VEVENT
BEGIN:VEVENT
DTSTART;TZID=UTC:20250304T080000
DTEND;TZID=UTC:20250304T142000
DTSTAMP:20260425T021008
CREATED:20241211T210236Z
LAST-MODIFIED:20241211T210236Z
UID:35187-1741075200-1741098000@theartistoutreach.org
SUMMARY:MISD-S (KING/MISD)
DESCRIPTION:TA: Kiersten Underwood \nCampus: Rutherford Elementary \nLocation: Rutherford School Park\, 1100 Rutherford Dr\, Mesquite\, TX 75149 \nPrincipal: Casondra Wilburn  CWilburn@mesquiteisd.orgContact:   Martha Gaytan  (972) 882-03808:00am – 8:20am  Aguilar \n8:20am – 8:40am  Hurey \n8:40am – 9:00am  Dominguez \n9:00am – 9:20am  Duque \n9:20am – 9:40am  Boyd \n***TRAVEL TIME*** \nCampus: Seabourn Elementary \nLocation: 2249 Picadilly Blvd\, Mesquite\, TX 75149 \nPrincipal: Renea Kern  JKern@mesquiteisd.orgContact: Brenda Macias   (972) 882-704010:00am – 10:20am   Rodriguez \n10:20am – 10:40am    Hall \n11:45am – 12:05pm    Almanza \n12:05pm – 12:25pm     Aguilar \n***TRAVEL TIME*** \nCampus: Black Elementary \nLocation: 328 Newsom Rd\, Mesquite\, TX 75149 \nPrincipal: Darla Franklin DFranklin@mesquiteisd.orgContact:  Luz Diaz     (972) 882-72401:30pm – 1:50pm  Gonzalez \n1:50pm – 2:10pm  Rodriguez \n2:10pm – 2:30pm  Orona \n2:30pm – 2:50pm  McCormies
URL:https://theartistoutreach.org/event/misd-s-king-misd-108/
CATEGORIES:North Texas Events
END:VEVENT
BEGIN:VEVENT
DTSTART;TZID=UTC:20250304T083000
DTEND;TZID=UTC:20250304T095000
DTSTAMP:20260425T021008
CREATED:20240730T145123Z
LAST-MODIFIED:20241024T194019Z
UID:33736-1741077000-1741081800@theartistoutreach.org
SUMMARY:DISD Guzick (MFA/CDOAC-COP/TCA)
DESCRIPTION:TA: Candy Williams \nLocation:  Frank Guzick Elementary School (DISD) \n5000 Berridge Ln\, Dallas\, TX 75227 \nContact: Lane Thomas\, Lead Teacher    972-502-3900      lanethomas@dallasisd.org \nPRE-K \n8:30am Castano \n8:50am Thomas \n9:10am Caamano \n9:30am Ferreiro
URL:https://theartistoutreach.org/event/disd-guzick-mfa-cdoac-tca-9/
CATEGORIES:North Texas Events
END:VEVENT
BEGIN:VEVENT
DTSTART;TZID=UTC:20250304T120000
DTEND;TZID=UTC:20250304T135000
DTSTAMP:20260425T021008
CREATED:20241230T221121Z
LAST-MODIFIED:20250226T215926Z
UID:35259-1741089600-1741096200@theartistoutreach.org
SUMMARY:(MISD-SPK MISD/TCA/DMC/REA)
DESCRIPTION:TA: Candy Williams \nCampus: Floyd Elementary School \nLocation: 3025 Hickory Tree Rd\, Mesquite\, TX 75180 \nPrincipal: Christina Alvarez \nContact: Shirley Gentry    (972) 882-7100\n12:00 – 12:20  Ellis \n12:20 – 12:40  Diaz \n12:50 – 1:10   Rea \n1:35 – 1:50   Smith
URL:https://theartistoutreach.org/event/misd-spk-misd-tca-dmc-rea-62/
CATEGORIES:North Texas Events
END:VEVENT
BEGIN:VEVENT
DTSTART;TZID=UTC:20250305T080000
DTEND;TZID=UTC:20250305T130000
DTSTAMP:20260425T021008
CREATED:20241230T230537Z
LAST-MODIFIED:20241230T230537Z
UID:35303-1741161600-1741179600@theartistoutreach.org
SUMMARY:MISD-S (KING/MISD)
DESCRIPTION:TA: Kiersten Underwood \nCampus: Tisinger Elementary \nLocation: 1701 Hillcrest St\, Mesquite\, TX 75149 \nPrincipal: Amanda Relf   ARelf@mesquiteisd.org\nContact:    Viviana Ayala   (972) 882-5120\n8:00am – 8:20am  Wright \n8:20am – 8:40am  Morales \n8:40am – 9:00am  Grant \n9:00am – 9:20am   Ontiveros \n9:20am – 9:40am  Martin \n***TRAVEL TIME*** \nCampus: Gray Elementary \nLocation: 3500 Pioneer Rd\, Mesquite\, TX 75181 \nPrincipal: Alyce Quesenberry AQuesenberry@mesquiteisd.org\nContact:   Christy Cardenas    (972) 882-7280\n11:40am – 12:00pm  Portillo \n12:00pm – 12:20pm  Reschke \n12:20pm – 1:00pm  Walker
URL:https://theartistoutreach.org/event/misd-s-king-misd-77/
CATEGORIES:North Texas Events
END:VEVENT
BEGIN:VEVENT
DTSTART;TZID=UTC:20250305T080000
DTEND;TZID=UTC:20250305T135500
DTSTAMP:20260425T021008
CREATED:20240605T172149Z
LAST-MODIFIED:20241024T194025Z
UID:32722-1741161600-1741182900@theartistoutreach.org
SUMMARY:UPL WHITE ROCK PREP (TCA/CDOAC-COP)
DESCRIPTION:TA: Candy Williams \nCONTACTS:  Director: Marius Martin  PH:  469-914-7500     Email: mamartin@uplifteducation.org \nDean: Frances Maisonet      FMaisonet@uplifteducation.org \nLocation:7370 Valley Glen Drive\, Dallas\, TX 75228 \nKinder     Arriaga     room 148      8:00am – 8:45am \nKinder    Alvarado   room 150     8:45am – 9:15am \nFirst      Johnson     room 141      9:15am – 10:00am \nFirst      Reyna      room 144      10:00am – 10:45am \nKinder    Hernandez      room 145      11:30am – 12:15pm \nKinder    Sylvia      room 147          12:15pm – 1:00pm \nFirst        Lemon         room 139       1:00pm – 1:45pm
URL:https://theartistoutreach.org/event/upl-white-rock-prep-tca-cdoac-9/
CATEGORIES:North Texas Events
END:VEVENT
BEGIN:VEVENT
DTSTART;TZID=UTC:20250305T083500
DTEND;TZID=UTC:20250305T152000
DTSTAMP:20260425T021008
CREATED:20240724T160523Z
LAST-MODIFIED:20250129T202419Z
UID:33264-1741163700-1741188000@theartistoutreach.org
SUMMARY:FWISD Meadowbrook (MSPT/EWG/Ryan/HFF)
DESCRIPTION:TA: Chris Hicks \nMeadowbrook Elementary \n4330 Meadowbrook Drive \nFort Worth\, TX   76103 \n8:35-9:20am – \n9:25-10:10am –  \n10:15-11:00am –  \n1:05-11:50am –  \n***Lunch**** \n12:20-1:05 –  \n1:10-1:55pm –  \n2:00-2:50pm – PLC \n2:50-3:15pm – Prime Time \n3:15-3:20pm – Dismissal
URL:https://theartistoutreach.org/event/fwisd-meadowbrook-mspt-ewg-ryan-hff-55/
CATEGORIES:North Texas Events
END:VEVENT
BEGIN:VEVENT
DTSTART;TZID=UTC:20250306T080000
DTEND;TZID=UTC:20250306T142000
DTSTAMP:20260425T021008
CREATED:20241230T231734Z
LAST-MODIFIED:20241230T231734Z
UID:35338-1741248000-1741270800@theartistoutreach.org
SUMMARY:MISD-S (KING/MISD)
DESCRIPTION:TA: Kiersten Underwood \nCampus: Gentry Elementary \nLocation: 1901 Twin Oaks Dr\, Mesquite\, TX 75181 \nPrincipal: Michael Pierotti  MPierotti@mesquiteisd.org\nContact:  Jennifer Garcia      (972) 290-4140\n8:00am – 8:20am   Ochoa \n8:20am – 8:40am  Lona \n8:40am – 9:00am   Rogers \n9:00am – 9:20am  Weber \n***TRAVEL TIME*** \nCampus: Hodges Elementary \nLocation: 14401 Spring Oak Dr\, Balch Springs\, TX 75180 \nPrincipal: Dr. Kim Broadway  KBroadway@mesquiteisd.org\nContact:  Maria Carrizales   (972) 882-0200\n9:50am – 10:10am  Paniagua \n10:10am – 10:30am  Mir \n10:30am – 10:50am  Mojica \n10:50am – 11:10am  Padachy \n***TRAVEL TIME*** \nCampus: McWhorter Elementary \nLocation: 1700 Hickory Tree Mesquite Texas 75149 \nPrincipal: Robyn Leslie  rleslie@mesquiteisd\nContact: Sharon Carter  972-882-7020\n1:00pm – 1:20pm  Pravitz\n1:20pm – 1:40pm   Torres\n1:40pm – 2:00pm    Hernandez\n2:00pm – 2:20pm  Serrano
URL:https://theartistoutreach.org/event/misd-s-king-misd-140/
CATEGORIES:North Texas Events
END:VEVENT
BEGIN:VEVENT
DTSTART;TZID=UTC:20250306T081000
DTEND;TZID=UTC:20250306T100000
DTSTAMP:20260425T021008
CREATED:20240729T165716Z
LAST-MODIFIED:20241024T194148Z
UID:33623-1741248600-1741255200@theartistoutreach.org
SUMMARY:DISD Bayles (MFA/CDOAC-COP/TCA)
DESCRIPTION:TA: Candy Williams \nBayles Elementary School \nLocation: 2444 Telegraph Ave\, Dallas\, TX 75228 \nContact: (972) 749-8900 \nPrincipal: Miguel Campuzano  (210) 240-4984 \nPRE-K SCHEDULE \n8:10 – 8:25 am –  Ms. Evans (TA)\, Room 107 \n8:25 – 8:40 am – Ms. Alanis\, Room 109 \n8:40 – 8:55 am – Ms. Pineda\, Room 108 \n8:55 -9:10 am – Ms. Sanchez\, Room 106 \nKINDER SCHEDULE \n9:15 – 9:30 am – Mr. Jameson\, Room 125 \n9:30 – 9:45 am – Ms. Pierce\, Room 127 \n9:45 – 10:00 am – Mr. Moreno\, Room 124
URL:https://theartistoutreach.org/event/disd-bayles-mfa-cdoac-tca-26/
CATEGORIES:North Texas Events
END:VEVENT
BEGIN:VEVENT
DTSTART;TZID=UTC:20250306T082000
DTEND;TZID=UTC:20250306T141000
DTSTAMP:20260425T021008
CREATED:20250226T223300Z
LAST-MODIFIED:20250226T223300Z
UID:35500-1741249200-1741270200@theartistoutreach.org
SUMMARY:(MISD-SPK MISD/TCA/DMC/REA)
DESCRIPTION:TA: Chris Hicks \nCampus:  Dr. Linda Henrie Elementary \nLocation:  253 W Lawson Rd\, Dallas\, TX 75253 \nPrincipal: Jill Vincent\nContact: Dennis Allen     (972) 290-4200\n8:20 – 8:40  J Salazar \n8:40 – 9:00  Colon \n9:00 – 9:20  Morales \n9:20 – 9:40  Salazar \n***TRAVEL TIME*** \nCampus:  Hodges Elementary School \nLocation: 14401 Spring Oak Dr\, Balch Springs\, TX 75180 \nPrincipal: Dr. Holly Grubbs\nContact: Deena Manning    (972) 882-0200\n10:00 – 10:20  Gaitan \n10:20 – 10:40  Pena \n***TRAVEL TIME*** \nCampus: McWhorter Elementary \nLocation: 1700 Hickory Tree Mesquite Texas 75149 \nPrincipal: Robyn Leslie\nContact:    972-882-7020 \n1:30 – 1:50  Gomez-Valencia \n1:50 – 2:10  Hathcock
URL:https://theartistoutreach.org/event/misd-spk-misd-tca-dmc-rea-93/
CATEGORIES:North Texas Events
END:VEVENT
BEGIN:VEVENT
DTSTART;TZID=UTC:20250306T124500
DTEND;TZID=UTC:20250306T134500
DTSTAMP:20260425T021008
CREATED:20240724T181630Z
LAST-MODIFIED:20241211T202452Z
UID:33493-1741265100-1741268700@theartistoutreach.org
SUMMARY:MISD-AA (MISD)
DESCRIPTION:TA: Joel McCray/Candy Williams \nRange Elementary \n4060 Emerald Dr\, Mesquite\, TX 75150 \nPrincipal: Kelly Locke – klocke@mesquiteisd.org \nPhone:  (972) 882-5180 \nContact: Brittany Morrison –  bmorrison@mesquiteisd.org \nTime: 12:45 – 1:45 pm  (Cafeteria)
URL:https://theartistoutreach.org/event/misd-aa-misd-98/
CATEGORIES:North Texas Events
END:VEVENT
BEGIN:VEVENT
DTSTART;TZID=UTC:20250306T141000
DTEND;TZID=UTC:20250306T151000
DTSTAMP:20260425T021008
CREATED:20240724T181605Z
LAST-MODIFIED:20241211T202459Z
UID:33492-1741270200-1741273800@theartistoutreach.org
SUMMARY:MISD-AA (MISD)
DESCRIPTION:TA: Joel McCray/Candy Williams \nPrice Elementry \n630 Stroud Lane Garland TX 75043 \nPrincipal: Ashely Goodwin – agoodwin@mesquiteisd.org \nPhone:  972-882-0240 \nContact: Aubry Presley – cpresley@mesquiteisd.org \nTime: 2:10 – 3:10pm  (Cafeteria)
URL:https://theartistoutreach.org/event/misd-aa-misd-97/
CATEGORIES:North Texas Events
END:VEVENT
BEGIN:VEVENT
DTSTART;TZID=UTC:20250306T161500
DTEND;TZID=UTC:20250306T171500
DTSTAMP:20260425T021008
CREATED:20240724T181537Z
LAST-MODIFIED:20240724T181537Z
UID:33491-1741277700-1741281300@theartistoutreach.org
SUMMARY:MISD-ID (MISD)
DESCRIPTION:TA: Joel McCray\nVanguard High School   \n4201 Faithon P Lucas Sr Blvd\, Mesquite\, TX 75181 \nPrincipal: Clint Elsasser – celsasser@mesquiteisd.org \nPhone:(972) 882-0000 \nContact: Hayden Cepack – hcepak@mesquiteisd.org \nTime: 4:15 – 5:15pm
URL:https://theartistoutreach.org/event/misd-id-misd-53/
CATEGORIES:North Texas Events
END:VEVENT
BEGIN:VEVENT
DTSTART;TZID=UTC:20250307T080000
DTEND;TZID=UTC:20250307T130000
DTSTAMP:20260425T021008
CREATED:20241230T232608Z
LAST-MODIFIED:20241230T232608Z
UID:35376-1741334400-1741352400@theartistoutreach.org
SUMMARY:MISD-S (KING/MISD)
DESCRIPTION:TA: Kiersten Underwood \nCampus: Florence Elementary \nLocation: 4600 Ashwood Dr\, Mesquite\, TX 75150 \nPrincipal: Dr. Maria Franco  MFranco@mesquiteisd.orgContact:    Nancy Nieto  (972) 882-03008:00am – 8:20am  Leon \n8:20am – 8:40am  Lawing \n8:40am – 9:00am  Wells \n***TRAVEL TIME*** \nCampus: Porter Elementary \nLocation: 517 Via Avenida\, Mesquite\, TX 75150 \nPrincipal: Leeann Englert   LEnglert@mesquiteisd.orgContact:  Jasmine Herbert     (972) 882-036011:40am – 12:00pm  Stribley \n12:00pm – 12:20pm  Momon \n12:20pm – 12:40pm  Ortega \n12:40pm – 1:00pm  Greene
URL:https://theartistoutreach.org/event/misd-s-king-misd-159/
CATEGORIES:North Texas Events
END:VEVENT
BEGIN:VEVENT
DTSTART;TZID=UTC:20250307T080000
DTEND;TZID=UTC:20250307T153000
DTSTAMP:20260425T021008
CREATED:20240730T161954Z
LAST-MODIFIED:20241024T194154Z
UID:33851-1741334400-1741361400@theartistoutreach.org
SUMMARY:OLPH Art (OLPH/TCA/DMC/MFA/CDOAC-COP)
DESCRIPTION:TA: Chris Hicks \n8:00-8:45am – 2nd \n8:50 am-9:35 am – 3rd \n9:40 am–10:25 am – 4th \n10:30 am–11:15am – 5th B \n****Lunch**** \n12:00 noon-12:45pm – 6th B \n12:50pm-1:35pm – 7th B \n1:40pm-2:25pm – 8th \n2:30pm-3:15pm – 1st \n3:15pm-3:30pm – Prayer \nOur Lady of Perpetual Help \n7625 Cortland Avenue \nDallas\, TX 75235 \n214-351-3396 \nPrincipal: John Hickey        jhickey@olphdallas.org \nManager:  Theresa Ruenes           truenes@olphdallas.org
URL:https://theartistoutreach.org/event/olph-music-olph-tca-dmc-27/
CATEGORIES:North Texas Events
END:VEVENT
BEGIN:VEVENT
DTSTART;TZID=UTC:20250307T081500
DTEND;TZID=UTC:20250307T145500
DTSTAMP:20260425T021008
CREATED:20250226T225619Z
LAST-MODIFIED:20250226T225619Z
UID:35527-1741335300-1741359300@theartistoutreach.org
SUMMARY:(MISD-SPK MISD/TCA/DMC/REA)
DESCRIPTION:TA: Candy Williams \nCampus:  Seabourn Elementary School \nLocation:  2249 Picadilly Blvd\, Mesquite\, TX 75149 \nPrincipal: Renea Kern\nContact:   Brenda Macias   (972) 882-7040\n8:15 – 8:35  Munoz \n8:35 – 8:55  Castro \n***TRAVEL TIME*** \nCampus: Mackey Elementary School \nLocation: 14900 N Spring Ridge Cir\, Mesquite\, TX 75180 \nPrincipal: Lynne Noe\nContact:   Ontavia Burks   (972) 290-4160\n10:00 – 10:20  Nuckels \n10:20 – 10:40  Love \n***TRAVEL TIME*** \nCampus: Gray Elementary School \nLocation: 3500 Pioneer Rd\, Mesquite\, TX 75181 \nPrincipal: Alyce Quesenberry\nContact:  Christy Cardenas    (972) 882-7280\n11:10 – 11:30  Escobar \n11:30 – 11:50  Wagner \n***TRAVEL TIME*** \nCampus: Galloway Elementary School \nLocation: 200 Clary Dr\, Mesquite\, TX 75149 \nPrincipal:  Courtney Cross\nContact:  Blanca Luna  (972) 882-5101\n2:15 – 2:35  Martinez \n2:35 – 2:55  Sanchez
URL:https://theartistoutreach.org/event/misd-spk-misd-tca-dmc-rea-106/
CATEGORIES:North Texas Events
END:VEVENT
BEGIN:VEVENT
DTSTART;TZID=UTC:20250310T080000
DTEND;TZID=UTC:20250310T142000
DTSTAMP:20260425T021008
CREATED:20241211T205218Z
LAST-MODIFIED:20241211T205218Z
UID:35147-1741593600-1741616400@theartistoutreach.org
SUMMARY:MISD-S (KING/MISD)
DESCRIPTION:TA: Kiersten Underwood \nCampus: Floyd Elementary \nLocation: 3025 Hickory Tree Rd\, Mesquite\, TX 75180 \nPrincipal: Christina Alvarez   CAlvarez@mesquiteisd.org\nContact: Shirley Gentry  (972) 882-7100\n1:00pm – 1:20pm  Ibarra \n1:20pm – 1:40pm  Yanez \n1:40pm – 2:00pm  Paredes \n2:00pm – 2:20pm  Martinez
URL:https://theartistoutreach.org/event/misd-s-king-misd-88/
CATEGORIES:North Texas Events
END:VEVENT
BEGIN:VEVENT
DTSTART;TZID=UTC:20250310T080000
DTEND;TZID=UTC:20250310T170000
DTSTAMP:20260425T021008
CREATED:20240610T155237Z
LAST-MODIFIED:20250319T182712Z
UID:32802-1741593600-1741626000@theartistoutreach.org
SUMMARY:Uplift/DISD/OLPH Spring Break Mar 10-14
DESCRIPTION:No School!
URL:https://theartistoutreach.org/event/uplift-disd-spring-break-mar-10-14/
CATEGORIES:North Texas Events
END:VEVENT
BEGIN:VEVENT
DTSTART;TZID=UTC:20250310T150000
DTEND;TZID=UTC:20250310T170000
DTSTAMP:20260425T021008
CREATED:20250304T203620Z
LAST-MODIFIED:20250304T203620Z
UID:35557-1741618800-1741626000@theartistoutreach.org
SUMMARY:(CDOAC-COP/DMC)
DESCRIPTION:TA: Candy Williams/Kiersten Underwood \nLocation: Owenwood Farm & Neighbor Space \n1451 John West Rd. Dallas\, TX 75228 \n3:00pm – 5:00pm
URL:https://theartistoutreach.org/event/cdoac-cop-dmc/
CATEGORIES:North Texas Events
END:VEVENT
BEGIN:VEVENT
DTSTART;TZID=UTC:20250311T080000
DTEND;TZID=UTC:20250311T142000
DTSTAMP:20260425T021008
CREATED:20241211T210245Z
LAST-MODIFIED:20241211T210245Z
UID:35188-1741680000-1741702800@theartistoutreach.org
SUMMARY:MISD-S (KING/MISD)
DESCRIPTION:TA: Kiersten Underwood \nCampus: Rutherford Elementary \nLocation: Rutherford School Park\, 1100 Rutherford Dr\, Mesquite\, TX 75149 \nPrincipal: Casondra Wilburn  CWilburn@mesquiteisd.orgContact:   Martha Gaytan  (972) 882-03808:00am – 8:20am  Aguilar \n8:20am – 8:40am  Hurey \n8:40am – 9:00am  Dominguez \n9:00am – 9:20am  Duque \n9:20am – 9:40am  Boyd \n***TRAVEL TIME*** \nCampus: Seabourn Elementary \nLocation: 2249 Picadilly Blvd\, Mesquite\, TX 75149 \nPrincipal: Renea Kern  JKern@mesquiteisd.orgContact: Brenda Macias   (972) 882-704010:00am – 10:20am   Rodriguez \n10:20am – 10:40am    Hall \n11:45am – 12:05pm    Almanza \n12:05pm – 12:25pm     Aguilar \n***TRAVEL TIME*** \nCampus: Black Elementary \nLocation: 328 Newsom Rd\, Mesquite\, TX 75149 \nPrincipal: Darla Franklin DFranklin@mesquiteisd.orgContact:  Luz Diaz     (972) 882-72401:30pm – 1:50pm  Gonzalez \n1:50pm – 2:10pm  Rodriguez \n2:10pm – 2:30pm  Orona \n2:30pm – 2:50pm  McCormies
URL:https://theartistoutreach.org/event/misd-s-king-misd-109/
CATEGORIES:North Texas Events
END:VEVENT
BEGIN:VEVENT
DTSTART;TZID=UTC:20250311T080000
DTEND;TZID=UTC:20250311T170000
DTSTAMP:20260425T021008
CREATED:20240610T155305Z
LAST-MODIFIED:20250319T182740Z
UID:32804-1741680000-1741712400@theartistoutreach.org
SUMMARY:Uplift/DISD/OLPH Spring Break Mar 10-14
DESCRIPTION:No School!
URL:https://theartistoutreach.org/event/uplift-disd-spring-break-mar-10-14-2/
CATEGORIES:North Texas Events
END:VEVENT
BEGIN:VEVENT
DTSTART;TZID=UTC:20250311T120000
DTEND;TZID=UTC:20250311T135000
DTSTAMP:20260425T021008
CREATED:20250226T215912Z
LAST-MODIFIED:20250226T215912Z
UID:35474-1741694400-1741701000@theartistoutreach.org
SUMMARY:(MISD-SPK MISD/TCA/DMC/REA)
DESCRIPTION:TA: Candy Williams \nCampus: Floyd Elementary School \nLocation: 3025 Hickory Tree Rd\, Mesquite\, TX 75180 \nPrincipal: Christina Alvarez \nContact: Shirley Gentry    (972) 882-7100\n12:00 – 12:20  Ellis \n12:20 – 12:40  Diaz \n12:50 – 1:10   Rea \n1:35 – 1:50   Smith
URL:https://theartistoutreach.org/event/misd-spk-misd-tca-dmc-rea-82/
CATEGORIES:North Texas Events
END:VEVENT
BEGIN:VEVENT
DTSTART;TZID=UTC:20250311T150000
DTEND;TZID=UTC:20250311T170000
DTSTAMP:20260425T021008
CREATED:20250304T203709Z
LAST-MODIFIED:20250304T203709Z
UID:35559-1741705200-1741712400@theartistoutreach.org
SUMMARY:(CDOAC-COP/DMC)
DESCRIPTION:  \nTA: Chris Hicks/Kiersten Underwood \nLocation: Owenwood Farm & Neighbor Space \n1451 John West Rd. Dallas\, TX 75228 \n3:00pm – 5:00pm
URL:https://theartistoutreach.org/event/cdoac-cop-dmc-2/
CATEGORIES:North Texas Events
END:VEVENT
BEGIN:VEVENT
DTSTART;TZID=UTC:20250312T080000
DTEND;TZID=UTC:20250312T130000
DTSTAMP:20260425T021008
CREATED:20241230T230544Z
LAST-MODIFIED:20241230T230544Z
UID:35299-1741766400-1741784400@theartistoutreach.org
SUMMARY:MISD-S (KING/MISD)
DESCRIPTION:TA: Kiersten Underwood \nCampus: Tisinger Elementary \nLocation: 1701 Hillcrest St\, Mesquite\, TX 75149 \nPrincipal: Amanda Relf   ARelf@mesquiteisd.org\nContact:    Viviana Ayala   (972) 882-5120\n8:00am – 8:20am  Wright \n8:20am – 8:40am  Morales \n8:40am – 9:00am  Grant \n9:00am – 9:20am   Ontiveros \n9:20am – 9:40am  Martin \n***TRAVEL TIME*** \nCampus: Gray Elementary \nLocation: 3500 Pioneer Rd\, Mesquite\, TX 75181 \nPrincipal: Alyce Quesenberry AQuesenberry@mesquiteisd.org\nContact:   Christy Cardenas    (972) 882-7280\n11:40am – 12:00pm  Portillo \n12:00pm – 12:20pm  Reschke \n12:20pm – 1:00pm  Walker
URL:https://theartistoutreach.org/event/misd-s-king-misd-81/
CATEGORIES:North Texas Events
END:VEVENT
BEGIN:VEVENT
DTSTART;TZID=UTC:20250312T080000
DTEND;TZID=UTC:20250312T130500
DTSTAMP:20260425T021008
CREATED:20240605T172312Z
LAST-MODIFIED:20250319T182817Z
UID:32724-1741766400-1741784700@theartistoutreach.org
SUMMARY:Uplift/DISD/OLPH Spring Break Mar 10-14
DESCRIPTION:No School!
URL:https://theartistoutreach.org/event/upl-white-rock-prep-tca-cdoac-spring-break-mar-10-14/
CATEGORIES:North Texas Events
END:VEVENT
BEGIN:VEVENT
DTSTART;TZID=UTC:20250312T083500
DTEND;TZID=UTC:20250312T152000
DTSTAMP:20260425T021008
CREATED:20240724T161344Z
LAST-MODIFIED:20250129T202613Z
UID:33280-1741768500-1741792800@theartistoutreach.org
SUMMARY:FWISD Meadowbrook (MSPT/EWG/Ryan/HFF)
DESCRIPTION:TA: Chris Hicks \nMeadowbrook Elementary \n4330 Meadowbrook Drive \nFort Worth\, TX   76103 \n8:35-9:20am – \n9:25-10:10am –  \n10:15-11:00am –  \n1:05-11:50am –  \n***Lunch**** \n12:20-1:05 –  \n1:10-1:55pm –  \n2:00-2:50pm – PLC \n2:50-3:15pm – Prime Time \n3:15-3:20pm – Dismissal
URL:https://theartistoutreach.org/event/fwisd-meadowbrook-mspt-ewg-ryan-hff-57/
CATEGORIES:North Texas Events
END:VEVENT
BEGIN:VEVENT
DTSTART;TZID=UTC:20250312T150000
DTEND;TZID=UTC:20250312T170000
DTSTAMP:20260425T021008
CREATED:20250304T203800Z
LAST-MODIFIED:20250304T203800Z
UID:35561-1741791600-1741798800@theartistoutreach.org
SUMMARY:(CDOAC-COP/DMC)
DESCRIPTION:  \nTA:Kiersten Underwood \nLocation: Owenwood Farm & Neighbor Space \n1451 John West Rd. Dallas\, TX 75228 \n3:00pm – 5:00pm
URL:https://theartistoutreach.org/event/cdoac-cop-dmc-3/
CATEGORIES:North Texas Events
END:VEVENT
END:VCALENDAR