BEGIN:VCALENDAR
VERSION:2.0
PRODID:-//The Artist Outreach - ECPv6.15.20//NONSGML v1.0//EN
CALSCALE:GREGORIAN
METHOD:PUBLISH
X-WR-CALNAME:The Artist Outreach
X-ORIGINAL-URL:https://theartistoutreach.org
X-WR-CALDESC:Events for The Artist Outreach
REFRESH-INTERVAL;VALUE=DURATION:PT1H
X-Robots-Tag:noindex
X-PUBLISHED-TTL:PT1H
BEGIN:VTIMEZONE
TZID:UTC
BEGIN:STANDARD
TZOFFSETFROM:+0000
TZOFFSETTO:+0000
TZNAME:UTC
DTSTART:20240101T000000
END:STANDARD
END:VTIMEZONE
BEGIN:VEVENT
DTSTART;TZID=UTC:20250203T080000
DTEND;TZID=UTC:20250203T100000
DTSTAMP:20260425T040834
CREATED:20250129T201340Z
LAST-MODIFIED:20250129T201340Z
UID:35421-1738569600-1738576800@theartistoutreach.org
SUMMARY:Steven Park (CDOAD-COP/DMC)
DESCRIPTION:TA: Kiersten Underwood \nCampus: Stevens Park Elementary School \nLocation: 2615 W Colorado Blvd\, Dallas\, TX 75211 \nPrincipal: Ivelisse Avila \nContact: Carlos   (972) 794-4200 \n8:00 – 8:20    Diez  (K) \n8:20 – 8:40    MacNealy    (PK) \n8:40 – 9:00    Martinez   (PK) \n9:00 – 9:20    Salgado   (PK) \n9:20 – 9:40    (K) \n9:40 – 10:00  (K)
URL:https://theartistoutreach.org/event/steven-park-cdoad-cop-dmc-8/
CATEGORIES:North Texas Events
END:VEVENT
BEGIN:VEVENT
DTSTART;TZID=UTC:20250203T080000
DTEND;TZID=UTC:20250203T153000
DTSTAMP:20260425T040834
CREATED:20240724T154822Z
LAST-MODIFIED:20241024T193052Z
UID:33239-1738569600-1738596600@theartistoutreach.org
SUMMARY:OLPH Art (OLPH/TCA/DMC/MFA/CDOAC-COP)
DESCRIPTION:TA: Chris Hicks \n8:00-8:45am – 2nd \n8:50 am-9:35 am – 3rd \n9:40 am–10:25 am – 4th \n10:30 am–11:15am – 5th A \n****Lunch**** \n12:00 noon-12:45pm – 6th A \n12:50pm-1:35pm – 7th A \n1:40pm-2:25pm – 8th \n2:30pm-3:15pm – 1st \n3:15pm-3:30pm – Prayer \nOur Lady of Perpetual Help \n7625 Cortland Avenue \nDallas\, TX 75235 \n214-351-3396 \nPrincipal: John Hickey        jhickey@olphdallas.org \nManager:  Theresa Ruenes           truenes@olphdallas.org
URL:https://theartistoutreach.org/event/olph-art-olph-tca-dmc-22/
CATEGORIES:North Texas Events
END:VEVENT
BEGIN:VEVENT
DTSTART;TZID=UTC:20250203T080000
DTEND;TZID=UTC:20250203T170000
DTSTAMP:20260425T040834
CREATED:20240816T191831Z
LAST-MODIFIED:20240816T191831Z
UID:34065-1738569600-1738602000@theartistoutreach.org
SUMMARY:MISD Student Holiday
DESCRIPTION:No School!
URL:https://theartistoutreach.org/event/misd-student-holiday-13/
CATEGORIES:North Texas Events
END:VEVENT
BEGIN:VEVENT
DTSTART;TZID=UTC:20250203T153000
DTEND;TZID=UTC:20250203T160000
DTSTAMP:20260425T040834
CREATED:20240730T151641Z
LAST-MODIFIED:20240730T151641Z
UID:33783-1738596600-1738598400@theartistoutreach.org
SUMMARY:Staff Meeting
DESCRIPTION:Joseph Vincelli is inviting you to a scheduled Zoom meeting. \nTopic: Joseph Vincelli’s Personal Meeting Room \nJoin Zoom Meetinghttps://us06web.zoom.us/j/9323305625 \nMeeting ID: 932 330 5625 \nFind your local number: https://us06web.zoom.us/u/kM3k1FkrW
URL:https://theartistoutreach.org/event/staff-meeting-109/
CATEGORIES:North Texas Events
END:VEVENT
BEGIN:VEVENT
DTSTART;TZID=UTC:20250204T080000
DTEND;TZID=UTC:20250204T104000
DTSTAMP:20260425T040834
CREATED:20240723T181330Z
LAST-MODIFIED:20241024T193058Z
UID:33082-1738656000-1738665600@theartistoutreach.org
SUMMARY:OLPH Art (OLPH/TCA/DMC/MFA/CDOAC-COP)
DESCRIPTION:TA: Chris Hicks \n8:00-8:45am – ECI \n8:50 am-9:35 am – ECII \n9:40 am – 10:10 am – 1st Grade \n10:10 am – 10:40am – 2nd Grade \nOur Lady of Perpetual Help \n7625 Cortland Avenue \nDallas\, TX 75235 \n214-351-3396 \nPrincipal: John Hickey        jhickey@olphdallas.org \nManager:  Theresa Ruenes           truenes@olphdallas.org
URL:https://theartistoutreach.org/event/olph-ecrr-olph-tca-dmc-23/
CATEGORIES:North Texas Events
END:VEVENT
BEGIN:VEVENT
DTSTART;TZID=UTC:20250204T080000
DTEND;TZID=UTC:20250204T142000
DTSTAMP:20260425T040834
CREATED:20241211T210037Z
LAST-MODIFIED:20241211T210037Z
UID:35179-1738656000-1738678800@theartistoutreach.org
SUMMARY:MISD-S (KING/MISD)
DESCRIPTION:TA: Kiersten Underwood \nCampus: Rutherford Elementary \nLocation: Rutherford School Park\, 1100 Rutherford Dr\, Mesquite\, TX 75149 \nPrincipal: Casondra Wilburn  CWilburn@mesquiteisd.orgContact:   Martha Gaytan  (972) 882-03808:00am – 8:20am  Aguilar \n8:20am – 8:40am  Hurey \n8:40am – 9:00am  Dominguez \n9:00am – 9:20am  Duque \n9:20am – 9:40am  Boyd \n***TRAVEL TIME*** \nCampus: Seabourn Elementary \nLocation: 2249 Picadilly Blvd\, Mesquite\, TX 75149 \nPrincipal: Renea Kern  JKern@mesquiteisd.orgContact: Brenda Macias   (972) 882-704010:00am – 10:20am   Rodriguez \n10:20am – 10:40am    Hall \n11:45am – 12:05pm    Almanza \n12:05pm – 12:25pm     Aguilar \n***TRAVEL TIME*** \nCampus: Black Elementary \nLocation: 328 Newsom Rd\, Mesquite\, TX 75149 \nPrincipal: Darla Franklin DFranklin@mesquiteisd.orgContact:  Luz Diaz     (972) 882-72401:30pm – 1:50pm  Gonzalez \n1:50pm – 2:10pm  Rodriguez \n2:10pm – 2:30pm  Orona \n2:30pm – 2:50pm  McCormies
URL:https://theartistoutreach.org/event/misd-s-king-misd-104/
CATEGORIES:North Texas Events
END:VEVENT
BEGIN:VEVENT
DTSTART;TZID=UTC:20250204T083000
DTEND;TZID=UTC:20250204T095000
DTSTAMP:20260425T040834
CREATED:20240730T144854Z
LAST-MODIFIED:20241024T193104Z
UID:33729-1738657800-1738662600@theartistoutreach.org
SUMMARY:DISD Guzick (MFA/CDOAC-COP/TCA)
DESCRIPTION:TA: Candy Williams \nLocation:  Frank Guzick Elementary School (DISD) \n5000 Berridge Ln\, Dallas\, TX 75227 \nContact: Lane Thomas\, Lead Teacher    972-502-3900      lanethomas@dallasisd.org \nPRE-K \n8:30am Castano \n8:50am Thomas \n9:10am Caamano \n9:30am Ferreiro
URL:https://theartistoutreach.org/event/disd-guzick-mfa-cdoac-tca-5/
CATEGORIES:North Texas Events
END:VEVENT
BEGIN:VEVENT
DTSTART;TZID=UTC:20250204T131000
DTEND;TZID=UTC:20250204T141000
DTSTAMP:20260425T040834
CREATED:20241230T220941Z
LAST-MODIFIED:20241230T220941Z
UID:35251-1738674600-1738678200@theartistoutreach.org
SUMMARY:(MISD-SPK MISD/TCA/DMC/REA)
DESCRIPTION:TA: Candy Williams \nCampus: Shands Elementary \nLocation: 4836 Shands Dr\, Mesquite\, TX 75150 \nPrincipal: Brandi Lewis\nContact: Norma Lopez (972) 882-0400\n1:10-1:30  Vega\n1:30-1:50  Dominguez\n1:50-2:10  Swiney
URL:https://theartistoutreach.org/event/misd-spk-misd-tca-dmc-rea-61/
CATEGORIES:North Texas Events
END:VEVENT
BEGIN:VEVENT
DTSTART;TZID=UTC:20250205T080000
DTEND;TZID=UTC:20250205T130000
DTSTAMP:20260425T040834
CREATED:20241211T211431Z
LAST-MODIFIED:20241230T230309Z
UID:35221-1738742400-1738760400@theartistoutreach.org
SUMMARY:MISD-S (KING/MISD)
DESCRIPTION:TA: Kiersten Underwood \nCampus: Tisinger Elementary \nLocation: 1701 Hillcrest St\, Mesquite\, TX 75149 \nPrincipal: Amanda Relf   ARelf@mesquiteisd.orgContact:    Viviana Ayala   (972) 882-51208:00am – 8:20am  Wright \n8:20am – 8:40am  Morales \n8:40am – 9:00am  Grant \n9:00am – 9:20am   Ontiveros \n9:20am – 9:40am  Martin \n***TRAVEL TIME*** \nCampus: Gray Elementary \nLocation: 3500 Pioneer Rd\, Mesquite\, TX 75181 \nPrincipal: Alyce Quesenberry AQuesenberry@mesquiteisd.orgContact:   Christy Cardenas    (972) 882-728011:40am – 12:00pm  Portillo \n12:00pm – 12:20pm  Reschke \n12:20pm – 1:00pm  Walker
URL:https://theartistoutreach.org/event/misd-s-king-misd-125/
CATEGORIES:North Texas Events
END:VEVENT
BEGIN:VEVENT
DTSTART;TZID=UTC:20250205T080000
DTEND;TZID=UTC:20250205T135500
DTSTAMP:20260425T040834
CREATED:20240605T171828Z
LAST-MODIFIED:20241024T193210Z
UID:32713-1738742400-1738763700@theartistoutreach.org
SUMMARY:UPL WHITE ROCK PREP (TCA/CDOAC-COP)
DESCRIPTION:TA: Candy Williams \nCONTACTS:  Director: Marius Martin  PH:  469-914-7500     Email: mamartin@uplifteducation.org \nDean: Frances Maisonet      FMaisonet@uplifteducation.org \nLocation:7370 Valley Glen Drive\, Dallas\, TX 75228 \nKinder     Arriaga     room 148      8:00am – 8:45am \nKinder    Alvarado   room 150     8:45am – 9:15am \nFirst      Johnson     room 141      9:15am – 10:00am \nFirst      Reyna      room 144      10:00am – 10:45am \nKinder    Hernandez      room 145      11:30am – 12:15pm \nKinder    Sylvia      room 147          12:15pm – 1:00pm \nFirst        Lemon         room 139       1:00pm – 1:45pm
URL:https://theartistoutreach.org/event/upl-white-rock-prep-tca-cdoac-5/
CATEGORIES:North Texas Events
END:VEVENT
BEGIN:VEVENT
DTSTART;TZID=UTC:20250205T083500
DTEND;TZID=UTC:20250205T152000
DTSTAMP:20260425T040834
CREATED:20240724T154907Z
LAST-MODIFIED:20250129T200807Z
UID:33240-1738744500-1738768800@theartistoutreach.org
SUMMARY:FWISD Meadowbrook (MSPT/EWG/Ryan/HFF/NBF)
DESCRIPTION:TA: Chris Hicks \nMeadowbrook Elementary \n4330 Meadowbrook Drive \nFort Worth\, TX   76103 \n8:35-9:20am – \n9:25-10:10am –  \n10:15-11:00am –  \n1:05-11:50am –  \n***Lunch**** \n12:20-1:05 –  \n1:10-1:55pm –  \n2:00-2:50pm – PLC \n2:50-3:15pm – Prime Time \n3:15-3:20pm – Dismissal
URL:https://theartistoutreach.org/event/fwisd-meadowbrook-mspt-ewg-ryan-hff-46/
CATEGORIES:North Texas Events
END:VEVENT
BEGIN:VEVENT
DTSTART;TZID=UTC:20250206T080000
DTEND;TZID=UTC:20250206T142000
DTSTAMP:20260425T040834
CREATED:20241230T231538Z
LAST-MODIFIED:20241230T231538Z
UID:35329-1738828800-1738851600@theartistoutreach.org
SUMMARY:MISD-S (KING/MISD)
DESCRIPTION:TA: Kiersten Underwood \nCampus: Gentry Elementary \nLocation: 1901 Twin Oaks Dr\, Mesquite\, TX 75181 \nPrincipal: Michael Pierotti  MPierotti@mesquiteisd.org\nContact:  Jennifer Garcia      (972) 290-4140\n8:00am – 8:20am   Ochoa \n8:20am – 8:40am  Lona \n8:40am – 9:00am   Rogers \n9:00am – 9:20am  Weber \n***TRAVEL TIME*** \nCampus: Hodges Elementary \nLocation: 14401 Spring Oak Dr\, Balch Springs\, TX 75180 \nPrincipal: Dr. Kim Broadway  KBroadway@mesquiteisd.org\nContact:  Maria Carrizales   (972) 882-0200\n9:50am – 10:10am  Paniagua \n10:10am – 10:30am  Mir \n10:30am – 10:50am  Mojica \n10:50am – 11:10am  Padachy \n***TRAVEL TIME*** \nCampus: McWhorter Elementary \nLocation: 1700 Hickory Tree Mesquite Texas 75149 \nPrincipal: Robyn Leslie  rleslie@mesquiteisd\nContact: Sharon Carter  972-882-7020\n1:00pm – 1:20pm  Pravitz\n1:20pm – 1:40pm   Torres\n1:40pm – 2:00pm    Hernandez\n2:00pm – 2:20pm  Serrano
URL:https://theartistoutreach.org/event/misd-s-king-misd-136/
CATEGORIES:North Texas Events
END:VEVENT
BEGIN:VEVENT
DTSTART;TZID=UTC:20250206T081000
DTEND;TZID=UTC:20250206T100000
DTSTAMP:20260425T040834
CREATED:20240729T165456Z
LAST-MODIFIED:20241024T193216Z
UID:33616-1738829400-1738836000@theartistoutreach.org
SUMMARY:DISD Bayles (MFA/CDOAC-COP/TCA)
DESCRIPTION:TA: Candy Williams \nBayles Elementary School \nLocation: 2444 Telegraph Ave\, Dallas\, TX 75228 \nContact: (972) 749-8900 \nPrincipal: Miguel Campuzano  (210) 240-4984 \nPRE-K SCHEDULE \n8:10 – 8:25 am –  Ms. Evans (TA)\, Room 107 \n8:25 – 8:40 am – Ms. Alanis\, Room 109 \n8:40 – 8:55 am – Ms. Pineda\, Room 108 \n8:55 -9:10 am – Ms. Sanchez\, Room 106 \nKINDER SCHEDULE \n9:15 – 9:30 am – Mr. Jameson\, Room 125 \n9:30 – 9:45 am – Ms. Pierce\, Room 127 \n9:45 – 10:00 am – Mr. Moreno\, Room 124
URL:https://theartistoutreach.org/event/disd-bayles-mfa-cdoac-tca-22/
CATEGORIES:North Texas Events
END:VEVENT
BEGIN:VEVENT
DTSTART;TZID=UTC:20250206T081500
DTEND;TZID=UTC:20250206T140000
DTSTAMP:20260425T040834
CREATED:20241230T223241Z
LAST-MODIFIED:20241230T223241Z
UID:35273-1738829700-1738850400@theartistoutreach.org
SUMMARY:(MISD-SPK MISD/TCA/DMC/REA)
DESCRIPTION:TA: Chris Hicks \nCampus: Kimball Elementary \nLocation: 4010 Coryell Way\, Mesquite\, TX 75150 \nPrincipal: Bridget Mitchell\nContact: Gabrielle Castilleja (972) 290-4120\n8:15-8:35  Morrison \n***TRAVEL TIME ***\nCampus: Beasley Elementary\nLocation: 919 Green Canyon Dr\, Mesquite\, TX 75150\nPrincipal: Kelly Mccollom\nContact: Tiffanie Wood (972) 882-5160\n9:00-9:20  Kirby\n9:20-9:40  McMillian \n***TRAVEL TIME*** \nCampus: J.C Austin Elementary\nLocation: 3020 Poteet Dr\, Mesquite\, TX 75150\nPrincipal: Jonathan Royle\nContact: Deborah Buchanan (972) 882-7220\n10:00-10:20  Lindo \n***TRAVEL TIME***\nCampus: J.H. Florence Elementary\nLocation: 4600 Ashwood Dr\, Mesquite\, TX 75150\nPrincipal: Dr. Maria Franco\nContact: Wendy Sowells  (972) 882-0300\n1:00-1:20  Aguirre\n1:20-1:40  Figuoa\n1:40-2:00  Gandera
URL:https://theartistoutreach.org/event/misd-spk-misd-tca-dmc-rea-70/
CATEGORIES:North Texas Events
END:VEVENT
BEGIN:VEVENT
DTSTART;TZID=UTC:20250206T124500
DTEND;TZID=UTC:20250206T134500
DTSTAMP:20260425T040834
CREATED:20240724T180643Z
LAST-MODIFIED:20241211T202108Z
UID:33469-1738845900-1738849500@theartistoutreach.org
SUMMARY:MISD-AA (MISD)
DESCRIPTION:TA: Joel McCray/Candy Williams \nRange Elementary \n4060 Emerald Dr\, Mesquite\, TX 75150 \nPrincipal: Kelly Locke – klocke@mesquiteisd.org \nPhone:  (972) 882-5180 \nContact: Brittany Morrison –  bmorrison@mesquiteisd.org \nTime: 12:45 – 1:45 pm  (Cafeteria)
URL:https://theartistoutreach.org/event/misd-aa-misd-90/
CATEGORIES:North Texas Events
END:VEVENT
BEGIN:VEVENT
DTSTART;TZID=UTC:20250206T141000
DTEND;TZID=UTC:20250206T151000
DTSTAMP:20260425T040834
CREATED:20240724T180618Z
LAST-MODIFIED:20241211T202115Z
UID:33468-1738851000-1738854600@theartistoutreach.org
SUMMARY:MISD-AA (MISD)
DESCRIPTION:TA: Joel McCray/Candy Williams \nPrice Elementry \n630 Stroud Lane Garland TX 75043 \nPrincipal: Ashely Goodwin – agoodwin@mesquiteisd.org \nPhone:  972-882-0240 \nContact: Aubry Presley – cpresley@mesquiteisd.org \nTime: 2:10 – 3:10pm  (Cafeteria)
URL:https://theartistoutreach.org/event/misd-aa-misd-89/
CATEGORIES:North Texas Events
END:VEVENT
BEGIN:VEVENT
DTSTART;TZID=UTC:20250206T161500
DTEND;TZID=UTC:20250206T171500
DTSTAMP:20260425T040834
CREATED:20240724T180551Z
LAST-MODIFIED:20240724T180551Z
UID:33467-1738858500-1738862100@theartistoutreach.org
SUMMARY:MISD-ID (MISD)
DESCRIPTION:TA: Joel McCray\nVanguard High School   \n4201 Faithon P Lucas Sr Blvd\, Mesquite\, TX 75181 \nPrincipal: Clint Elsasser – celsasser@mesquiteisd.org \nPhone:(972) 882-0000 \nContact: Hayden Cepack – hcepak@mesquiteisd.org \nTime: 4:15 – 5:15pm
URL:https://theartistoutreach.org/event/misd-id-misd-49/
CATEGORIES:North Texas Events
END:VEVENT
BEGIN:VEVENT
DTSTART;TZID=UTC:20250207T080000
DTEND;TZID=UTC:20250207T130000
DTSTAMP:20260425T040834
CREATED:20241230T232430Z
LAST-MODIFIED:20241230T232430Z
UID:35367-1738915200-1738933200@theartistoutreach.org
SUMMARY:MISD-S (KING/MISD)
DESCRIPTION:TA: Kiersten Underwood \nCampus: Florence Elementary \nLocation: 4600 Ashwood Dr\, Mesquite\, TX 75150 \nPrincipal: Dr. Maria Franco  MFranco@mesquiteisd.orgContact:    Nancy Nieto  (972) 882-03008:00am – 8:20am  Leon \n8:20am – 8:40am  Lawing \n8:40am – 9:00am  Wells \n***TRAVEL TIME*** \nCampus: Porter Elementary \nLocation: 517 Via Avenida\, Mesquite\, TX 75150 \nPrincipal: Leeann Englert   LEnglert@mesquiteisd.orgContact:  Jasmine Herbert     (972) 882-036011:40am – 12:00pm  Stribley \n12:00pm – 12:20pm  Momon \n12:20pm – 12:40pm  Ortega \n12:40pm – 1:00pm  Greene
URL:https://theartistoutreach.org/event/misd-s-king-misd-154/
CATEGORIES:North Texas Events
END:VEVENT
BEGIN:VEVENT
DTSTART;TZID=UTC:20250207T080000
DTEND;TZID=UTC:20250207T153000
DTSTAMP:20260425T040834
CREATED:20240730T161808Z
LAST-MODIFIED:20241024T193221Z
UID:33843-1738915200-1738942200@theartistoutreach.org
SUMMARY:OLPH Art (OLPH/TCA/DMC/MFA/CDOAC-COP)
DESCRIPTION:TA: Chris Hicks \n8:00-8:45am – 2nd \n8:50 am-9:35 am – 3rd \n9:40 am–10:25 am – 4th \n10:30 am–11:15am – 5th B \n****Lunch**** \n12:00 noon-12:45pm – 6th B \n12:50pm-1:35pm – 7th B \n1:40pm-2:25pm – 8th \n2:30pm-3:15pm – 1st \n3:15pm-3:30pm – Prayer \nOur Lady of Perpetual Help \n7625 Cortland Avenue \nDallas\, TX 75235 \n214-351-3396 \nPrincipal: John Hickey        jhickey@olphdallas.org \nManager:  Theresa Ruenes           truenes@olphdallas.org
URL:https://theartistoutreach.org/event/olph-music-olph-tca-dmc-23/
CATEGORIES:North Texas Events
END:VEVENT
BEGIN:VEVENT
DTSTART;TZID=UTC:20250207T103000
DTEND;TZID=UTC:20250207T143500
DTSTAMP:20260425T040834
CREATED:20241230T224737Z
LAST-MODIFIED:20241230T224737Z
UID:35292-1738924200-1738938900@theartistoutreach.org
SUMMARY:(MISD-SPK MISD/TCA/DMC/REA)
DESCRIPTION:TA: Candy Williams \nCampus: Cannaday Elementary \nLocation: 2701 Chisolm Trail\, Mesquite\, TX 75150 \nPrincipal: Chrissy Cormier\nContact: Claudia Cruz  (972) 882-5060\n10:30-10:50 Williams\n10:50-11:20 Tello\n***TRAVEL TIME ***\nCampus: Porter Elementary\nLocation: 517 Via Avenida\, Mesquite\, TX 75150\nPrincipal: Leeann Englert\nContact: Erika Zuniga   (972) 882-0360\n12:30-12:50 Gomez\n***TRAVEL TIME***\nCampus: Price Elementary\nLocation: 630 Stroud Ln\, Garland\, TX 75043\nPrincipal: Ashley Goodwin\nContact: Lorena Ontiveros  (972) 882-0240\n2:15-2:35  Sanders
URL:https://theartistoutreach.org/event/misd-spk-misd-tca-dmc-rea-81/
CATEGORIES:North Texas Events
END:VEVENT
BEGIN:VEVENT
DTSTART;TZID=UTC:20250210T080000
DTEND;TZID=UTC:20250210T100000
DTSTAMP:20260425T040834
CREATED:20250129T201408Z
LAST-MODIFIED:20250129T201408Z
UID:35423-1739174400-1739181600@theartistoutreach.org
SUMMARY:Steven Park (CDOAD-COP/DMC)
DESCRIPTION:TA: Kiersten Underwood \nCampus: Stevens Park Elementary School \nLocation: 2615 W Colorado Blvd\, Dallas\, TX 75211 \nPrincipal: Ivelisse Avila \nContact: Carlos   (972) 794-4200 \n8:00 – 8:20    Diez  (K) \n8:20 – 8:40    MacNealy    (PK) \n8:40 – 9:00    Martinez   (PK) \n9:00 – 9:20    Salgado   (PK) \n9:20 – 9:40    (K) \n9:40 – 10:00  (K)
URL:https://theartistoutreach.org/event/steven-park-cdoad-cop-dmc-9/
CATEGORIES:North Texas Events
END:VEVENT
BEGIN:VEVENT
DTSTART;TZID=UTC:20250210T080000
DTEND;TZID=UTC:20250210T142000
DTSTAMP:20260425T040834
CREATED:20241211T205036Z
LAST-MODIFIED:20241211T205036Z
UID:35139-1739174400-1739197200@theartistoutreach.org
SUMMARY:MISD-S (KING/MISD)
DESCRIPTION:TA: Kiersten Underwood \nCampus: Floyd Elementary \nLocation: 3025 Hickory Tree Rd\, Mesquite\, TX 75180 \nPrincipal: Christina Alvarez   CAlvarez@mesquiteisd.org\nContact: Shirley Gentry  (972) 882-7100\n1:00pm – 1:20pm  Ibarra \n1:20pm – 1:40pm  Yanez \n1:40pm – 2:00pm  Paredes \n2:00pm – 2:20pm  Martinez
URL:https://theartistoutreach.org/event/misd-s-king-misd-84/
CATEGORIES:North Texas Events
END:VEVENT
BEGIN:VEVENT
DTSTART;TZID=UTC:20250210T080000
DTEND;TZID=UTC:20250210T153000
DTSTAMP:20260425T040834
CREATED:20240724T155057Z
LAST-MODIFIED:20241024T193226Z
UID:33245-1739174400-1739201400@theartistoutreach.org
SUMMARY:OLPH Art (OLPH/TCA/DMC/MFA/CDOAC-COP)
DESCRIPTION:TA: Chris Hicks \n8:00-8:45am – 2nd \n8:50 am-9:35 am – 3rd \n9:40 am–10:25 am – 4th \n10:30 am–11:15am – 5th A \n****Lunch**** \n12:00 noon-12:45pm – 6th A \n12:50pm-1:35pm – 7th A \n1:40pm-2:25pm – 8th \n2:30pm-3:15pm – 1st \n3:15pm-3:30pm – Prayer \nOur Lady of Perpetual Help \n7625 Cortland Avenue \nDallas\, TX 75235 \n214-351-3396 \nPrincipal: John Hickey        jhickey@olphdallas.org \nManager:  Theresa Ruenes           truenes@olphdallas.org
URL:https://theartistoutreach.org/event/olph-art-olph-tca-dmc-23/
CATEGORIES:North Texas Events
END:VEVENT
BEGIN:VEVENT
DTSTART;TZID=UTC:20250211T080000
DTEND;TZID=UTC:20250211T104000
DTSTAMP:20260425T040834
CREATED:20240723T181352Z
LAST-MODIFIED:20241024T193350Z
UID:33083-1739260800-1739270400@theartistoutreach.org
SUMMARY:OLPH Art (OLPH/TCA/DMC/MFA/CDOAC-COP)
DESCRIPTION:TA: Chris Hicks \n8:00-8:45am – ECI \n8:50 am-9:35 am – ECII \n9:40 am – 10:10 am – 1st Grade \n10:10 am – 10:40am – 2nd Grade \nOur Lady of Perpetual Help \n7625 Cortland Avenue \nDallas\, TX 75235 \n214-351-3396 \nPrincipal: John Hickey        jhickey@olphdallas.org \nManager:  Theresa Ruenes           truenes@olphdallas.org
URL:https://theartistoutreach.org/event/olph-ecrr-olph-tca-dmc-24/
CATEGORIES:North Texas Events
END:VEVENT
BEGIN:VEVENT
DTSTART;TZID=UTC:20250211T080000
DTEND;TZID=UTC:20250211T142000
DTSTAMP:20260425T040834
CREATED:20241211T210045Z
LAST-MODIFIED:20241211T210045Z
UID:35180-1739260800-1739283600@theartistoutreach.org
SUMMARY:MISD-S (KING/MISD)
DESCRIPTION:TA: Kiersten Underwood \nCampus: Rutherford Elementary \nLocation: Rutherford School Park\, 1100 Rutherford Dr\, Mesquite\, TX 75149 \nPrincipal: Casondra Wilburn  CWilburn@mesquiteisd.orgContact:   Martha Gaytan  (972) 882-03808:00am – 8:20am  Aguilar \n8:20am – 8:40am  Hurey \n8:40am – 9:00am  Dominguez \n9:00am – 9:20am  Duque \n9:20am – 9:40am  Boyd \n***TRAVEL TIME*** \nCampus: Seabourn Elementary \nLocation: 2249 Picadilly Blvd\, Mesquite\, TX 75149 \nPrincipal: Renea Kern  JKern@mesquiteisd.orgContact: Brenda Macias   (972) 882-704010:00am – 10:20am   Rodriguez \n10:20am – 10:40am    Hall \n11:45am – 12:05pm    Almanza \n12:05pm – 12:25pm     Aguilar \n***TRAVEL TIME*** \nCampus: Black Elementary \nLocation: 328 Newsom Rd\, Mesquite\, TX 75149 \nPrincipal: Darla Franklin DFranklin@mesquiteisd.orgContact:  Luz Diaz     (972) 882-72401:30pm – 1:50pm  Gonzalez \n1:50pm – 2:10pm  Rodriguez \n2:10pm – 2:30pm  Orona \n2:30pm – 2:50pm  McCormies
URL:https://theartistoutreach.org/event/misd-s-king-misd-105/
CATEGORIES:North Texas Events
END:VEVENT
BEGIN:VEVENT
DTSTART;TZID=UTC:20250211T083000
DTEND;TZID=UTC:20250211T095000
DTSTAMP:20260425T040834
CREATED:20240730T144916Z
LAST-MODIFIED:20241024T193356Z
UID:33730-1739262600-1739267400@theartistoutreach.org
SUMMARY:DISD Guzick (MFA/CDOAC-COP/TCA)
DESCRIPTION:TA: Candy Williams \nLocation:  Frank Guzick Elementary School (DISD) \n5000 Berridge Ln\, Dallas\, TX 75227 \nContact: Lane Thomas\, Lead Teacher    972-502-3900      lanethomas@dallasisd.org \nPRE-K \n8:30am Castano \n8:50am Thomas \n9:10am Caamano \n9:30am Ferreiro
URL:https://theartistoutreach.org/event/disd-guzick-mfa-cdoac-tca-6/
CATEGORIES:North Texas Events
END:VEVENT
BEGIN:VEVENT
DTSTART;TZID=UTC:20250211T131000
DTEND;TZID=UTC:20250211T141000
DTSTAMP:20260425T040834
CREATED:20241230T221156Z
LAST-MODIFIED:20241230T221156Z
UID:35256-1739279400-1739283000@theartistoutreach.org
SUMMARY:(MISD-SPK MISD/TCA/DMC/REA)
DESCRIPTION:TA: Candy Williams \nCampus: Shands Elementary \nLocation: 4836 Shands Dr\, Mesquite\, TX 75150 \nPrincipal: Brandi Lewis\nContact: Norma Lopez (972) 882-0400\n1:10-1:30  Vega\n1:30-1:50  Dominguez\n1:50-2:10  Swiney
URL:https://theartistoutreach.org/event/misd-spk-misd-tca-dmc-rea-65/
CATEGORIES:North Texas Events
END:VEVENT
BEGIN:VEVENT
DTSTART;TZID=UTC:20250211T163000
DTEND;TZID=UTC:20250211T171500
DTSTAMP:20260425T040834
CREATED:20241114T193339Z
LAST-MODIFIED:20241114T193339Z
UID:35048-1739291400-1739294100@theartistoutreach.org
SUMMARY:UCC Polytechnic (JPM/BWG/MSPT/HFF/NBF)
DESCRIPTION:TA: Chris Hicks \nCampus: Polytechnic United Center\nLocation: 3100 Avenue I\, Fort Worth\, TX 76105 \nDirector: Sandra  Garza \nContact: Sandra Garza 214.202.8735 \n4:30pm – 4:50pm Pre-K Christina Esparza \n4:50pm – 5:15pm Kinder Genesis Alvarez
URL:https://theartistoutreach.org/event/ucc-polytechnic-jpm-bwg-mspt-hff-nbf-2/
CATEGORIES:North Texas Events
END:VEVENT
BEGIN:VEVENT
DTSTART;TZID=UTC:20250212T080000
DTEND;TZID=UTC:20250212T130000
DTSTAMP:20260425T040834
CREATED:20241211T211448Z
LAST-MODIFIED:20241230T230317Z
UID:35222-1739347200-1739365200@theartistoutreach.org
SUMMARY:MISD-S (KING/MISD)
DESCRIPTION:TA: Kiersten Underwood \nCampus: Tisinger Elementary \nLocation: 1701 Hillcrest St\, Mesquite\, TX 75149 \nPrincipal: Amanda Relf   ARelf@mesquiteisd.orgContact:    Viviana Ayala   (972) 882-51208:00am – 8:20am  Wright \n8:20am – 8:40am  Morales \n8:40am – 9:00am  Grant \n9:00am – 9:20am   Ontiveros \n9:20am – 9:40am  Martin \n***TRAVEL TIME*** \nCampus: Gray Elementary \nLocation: 3500 Pioneer Rd\, Mesquite\, TX 75181 \nPrincipal: Alyce Quesenberry AQuesenberry@mesquiteisd.orgContact:   Christy Cardenas    (972) 882-728011:40am – 12:00pm  Portillo \n12:00pm – 12:20pm  Reschke \n12:20pm – 1:00pm  Walker
URL:https://theartistoutreach.org/event/misd-s-king-misd-126/
CATEGORIES:North Texas Events
END:VEVENT
BEGIN:VEVENT
DTSTART;TZID=UTC:20250212T080000
DTEND;TZID=UTC:20250212T135500
DTSTAMP:20260425T040834
CREATED:20240605T171909Z
LAST-MODIFIED:20241024T193402Z
UID:32716-1739347200-1739368500@theartistoutreach.org
SUMMARY:UPL WHITE ROCK PREP (TCA/CDOAC-COP)
DESCRIPTION:TA: Candy Williams \nCONTACTS:  Director: Marius Martin  PH:  469-914-7500     Email: mamartin@uplifteducation.org \nDean: Frances Maisonet      FMaisonet@uplifteducation.org \nLocation:7370 Valley Glen Drive\, Dallas\, TX 75228 \nKinder     Arriaga     room 148      8:00am – 8:45am \nKinder    Alvarado   room 150     8:45am – 9:15am \nFirst      Johnson     room 141      9:15am – 10:00am \nFirst      Reyna      room 144      10:00am – 10:45am \nKinder    Hernandez      room 145      11:30am – 12:15pm \nKinder    Sylvia      room 147          12:15pm – 1:00pm \nFirst        Lemon         room 139       1:00pm – 1:45pm
URL:https://theartistoutreach.org/event/upl-white-rock-prep-tca-cdoac-6/
CATEGORIES:North Texas Events
END:VEVENT
END:VCALENDAR