BEGIN:VCALENDAR
VERSION:2.0
PRODID:-//The Artist Outreach - ECPv6.15.20//NONSGML v1.0//EN
CALSCALE:GREGORIAN
METHOD:PUBLISH
X-ORIGINAL-URL:https://theartistoutreach.org
X-WR-CALDESC:Events for The Artist Outreach
REFRESH-INTERVAL;VALUE=DURATION:PT1H
X-Robots-Tag:noindex
X-PUBLISHED-TTL:PT1H
BEGIN:VTIMEZONE
TZID:UTC
BEGIN:STANDARD
TZOFFSETFROM:+0000
TZOFFSETTO:+0000
TZNAME:UTC
DTSTART:20230101T000000
END:STANDARD
END:VTIMEZONE
BEGIN:VEVENT
DTSTART;TZID=UTC:20241101T080000
DTEND;TZID=UTC:20241101T130000
DTSTAMP:20260425T112542
CREATED:20240819T204828Z
LAST-MODIFIED:20240819T204828Z
UID:34286-1730448000-1730466000@theartistoutreach.org
SUMMARY:MISD-S (KING/MISD)
DESCRIPTION:TA: Kiersten Underwood \nCampus: Florence Elementary \nLocation: 4600 Ashwood Dr\, Mesquite\, TX 75150 \nPrincipal: Dr. Maria Franco  MFranco@mesquiteisd.org\nContact:    Nancy Nieto  (972) 882-0300\n8:00am – 8:20am  Leon \n8:20am – 8:40am  Lawing \n8:40am – 9:00am  Wells \n***TRAVEL TIME*** \nCampus: Porter Elementary \nLocation: 517 Via Avenida\, Mesquite\, TX 75150 \nPrincipal: Leeann Englert   LEnglert@mesquiteisd.org\nContact:  Jasmine Herbert     (972) 882-0360\n11:40am – 12:00pm  Stribley \n12:00pm – 12:20pm  Momon \n12:20pm – 12:40pm  Ortega \n12:40pm – 1:00pm  Greene
URL:https://theartistoutreach.org/event/misd-s-king-misd-70/
CATEGORIES:North Texas Events
END:VEVENT
BEGIN:VEVENT
DTSTART;TZID=UTC:20241101T080000
DTEND;TZID=UTC:20241101T153000
DTSTAMP:20260425T112542
CREATED:20240730T161139Z
LAST-MODIFIED:20241024T190128Z
UID:33819-1730448000-1730475000@theartistoutreach.org
SUMMARY:OLPH Art (OLPH/TCA/DMC/MFA/CDOAC-COP)
DESCRIPTION:TA: Chris Hicks \n8:00-8:45am – 2nd \n8:50 am-9:35 am – 3rd \n9:40 am–10:25 am – 4th \n10:30 am–11:15am – 5th B \n****Lunch**** \n12:00 noon-12:45pm – 6th B \n12:50pm-1:35pm – 7th B \n1:40pm-2:25pm – 8th \n2:30pm-3:15pm – 1st \n3:15pm-3:30pm – Prayer \nOur Lady of Perpetual Help \n7625 Cortland Avenue \nDallas\, TX 75235 \n214-351-3396 \nPrincipal: John Hickey        jhickey@olphdallas.org \nManager:  Theresa Ruenes           truenes@olphdallas.org
URL:https://theartistoutreach.org/event/olph-music-olph-tca-dmc-12/
CATEGORIES:North Texas Events
END:VEVENT
BEGIN:VEVENT
DTSTART;TZID=UTC:20241101T083000
DTEND;TZID=UTC:20241101T140000
DTSTAMP:20260425T112542
CREATED:20241024T205725Z
LAST-MODIFIED:20241024T205725Z
UID:34852-1730449800-1730469600@theartistoutreach.org
SUMMARY:MISD-SPK (MISD/TCA/DMC/REA)
DESCRIPTION:TA: Candy Williams \nCampus: Motley Elementary School \nLocation: 3719 Moon Dr\, Mesquite\, TX 75150 \nPrincipal: Dr. Shawna Delamar\nContact: Laura Bucio   (972) 882-5080\n8:30-8:50 –  Rojo \n8:50-9:10 –  Lopez \n****TRAVEL TIME***** \nCampus: Lawrence Elementary School \nLocation: 3811 Richman Dr\, Mesquite\, TX 75150 \nPrincipal: Dr. RoShanda Jenkins\nContact: Zaira Lopez    (972) 882-7000\n9:40 – 10:00  Hernandez \n*****TRAVEL TIME****** \nCampus: I.N. Range Elementary School \nLocation: 4060 Emerald Dr\, Mesquite\, TX 75150 \nPrincipal: Kelly Locke\nContact: Lilian Calito   (972) 882-5180\n11:55 – 12:15 Jones \n12:15 – 12:35 Licatovich \n12:35-12:55 Munoz \n****TRAVEL TIME**** \nCampus: McKenzie Elementary School \nLocation: 3535 Stephens Green Dr\, Mesquite\, TX 75150 \nPrincipal: Elizabeth Felton\nContact:  Tara Carpenter  (972) 882-5140\n1:40 – 2:00  Block
URL:https://theartistoutreach.org/event/misd-spk-misd-tca-dmc-rea-29/
CATEGORIES:North Texas Events
END:VEVENT
BEGIN:VEVENT
DTSTART;TZID=UTC:20241104T080000
DTEND;TZID=UTC:20241104T100000
DTSTAMP:20260425T112542
CREATED:20241029T210442Z
LAST-MODIFIED:20241029T210442Z
UID:34875-1730707200-1730714400@theartistoutreach.org
SUMMARY:Steven Park (CDOAD-COP/DMC)
DESCRIPTION:TA: Kiersten Underwood \nCampus: Stevens Park Elementary School \nLocation: 2615 W Colorado Blvd\, Dallas\, TX 75211 \nPrincipal: Ivelisse Avila \nContact: Carlos   (972) 794-4200 \n8:00 – 8:20    Diez  (K) \n8:20 – 8:40    MacNealy    (PK) \n8:40 – 9:00    Martinez   (PK) \n9:00 – 9:20    Salgado   (PK) \n9:20 – 9:40    (K) \n9:40 – 10:00  (K)
URL:https://theartistoutreach.org/event/steven-park-cdoad-cop-dmc/
CATEGORIES:North Texas Events
END:VEVENT
BEGIN:VEVENT
DTSTART;TZID=UTC:20241104T080000
DTEND;TZID=UTC:20241104T153000
DTSTAMP:20260425T112542
CREATED:20240723T192208Z
LAST-MODIFIED:20241024T190135Z
UID:33175-1730707200-1730734200@theartistoutreach.org
SUMMARY:OLPH Art (OLPH/TCA/DMC/MFA/CDOAC-COP)
DESCRIPTION:TA: Chris Hicks \n8:00-8:45am – 2nd \n8:50 am-9:35 am – 3rd \n9:40 am–10:25 am – 4th \n10:30 am–11:15am – 5th A \n****Lunch**** \n12:00 noon-12:45pm – 6th A \n12:50pm-1:35pm – 7th A \n1:40pm-2:25pm – 8th \n2:30pm-3:15pm – 1st \n3:15pm-3:30pm – Prayer \nOur Lady of Perpetual Help \n7625 Cortland Avenue \nDallas\, TX 75235 \n214-351-3396 \nPrincipal: John Hickey        jhickey@olphdallas.org \nManager:  Theresa Ruenes           truenes@olphdallas.org
URL:https://theartistoutreach.org/event/olph-art-olph-tca-dmc-12/
CATEGORIES:North Texas Events
END:VEVENT
BEGIN:VEVENT
DTSTART;TZID=UTC:20241104T080000
DTEND;TZID=UTC:20241104T170000
DTSTAMP:20260425T112542
CREATED:20240816T185459Z
LAST-MODIFIED:20240816T185459Z
UID:34043-1730707200-1730739600@theartistoutreach.org
SUMMARY:MISD Student Holiday
DESCRIPTION:No School!
URL:https://theartistoutreach.org/event/misd-student-holiday-9/
CATEGORIES:North Texas Events
END:VEVENT
BEGIN:VEVENT
DTSTART;TZID=UTC:20241105T080000
DTEND;TZID=UTC:20241105T104000
DTSTAMP:20260425T112542
CREATED:20240723T174844Z
LAST-MODIFIED:20241024T190141Z
UID:33061-1730793600-1730803200@theartistoutreach.org
SUMMARY:OLPH Art (OLPH/TCA/DMC/MFA/CDOAC-COP)
DESCRIPTION:TA: Chris Hicks \n8:00-8:45am – ECI \n8:50 am-9:35 am – ECII \n9:40 am – 10:10 am – 1st Grade \n10:10 am – 10:40am – 2nd Grade \nOur Lady of Perpetual Help \n7625 Cortland Avenue \nDallas\, TX 75235 \n214-351-3396 \nPrincipal: John Hickey        jhickey@olphdallas.org \nManager:  Theresa Ruenes           truenes@olphdallas.org
URL:https://theartistoutreach.org/event/olph-ecrr-olph-tca-dmc-13/
CATEGORIES:North Texas Events
END:VEVENT
BEGIN:VEVENT
DTSTART;TZID=UTC:20241105T080000
DTEND;TZID=UTC:20241105T170000
DTSTAMP:20260425T112542
CREATED:20240816T185526Z
LAST-MODIFIED:20240816T185526Z
UID:34044-1730793600-1730826000@theartistoutreach.org
SUMMARY:MISD Student Holiday
DESCRIPTION:No School!
URL:https://theartistoutreach.org/event/misd-student-holiday-10/
CATEGORIES:North Texas Events
END:VEVENT
BEGIN:VEVENT
DTSTART;TZID=UTC:20241105T083000
DTEND;TZID=UTC:20241105T095000
DTSTAMP:20260425T112542
CREATED:20240730T133240Z
LAST-MODIFIED:20241024T190147Z
UID:33691-1730795400-1730800200@theartistoutreach.org
SUMMARY:DISD Guzick (MFA/CDOAC-COP/TCA)
DESCRIPTION:TA: Candy Williams \nLocation:  Frank Guzick Elementary School (DISD) \n5000 Berridge Ln\, Dallas\, TX 75227 \nContact: Lane Thomas\, Lead Teacher    972-502-3900      lanethomas@dallasisd.org \nPRE-K \n8:30am Castano \n8:50am Thomas \n9:10am Caamano \n9:30am Ferreiro
URL:https://theartistoutreach.org/event/disd-guzick-cft-mff-22/
CATEGORIES:North Texas Events
END:VEVENT
BEGIN:VEVENT
DTSTART;TZID=UTC:20241105T110000
DTEND;TZID=UTC:20241105T122000
DTSTAMP:20260425T112542
CREATED:20241030T184145Z
LAST-MODIFIED:20241030T184145Z
UID:34898-1730804400-1730809200@theartistoutreach.org
SUMMARY:UPL WHITE ROCK PREP (MFA/DMC/TCA/CDOAC-COP)
DESCRIPTION:TA: Candy Williams \nCampus: UPL WHITE ROCK PREP\nLocation: 7370 Valley Glen Drive\, Dallas\, TX 75228 \nPrincipal: Frances Maisonet      FMaisonet@uplifteducation.org \nContact: Marius Martin  PH:  469-914-7500 \n11:00 – 11:20   Muniz 151 \n11:20 – 11:40   Pam 153 \n11:40 – 12:00   Eckels 159 \n12:00 – 12:20   Holloway 161
URL:https://theartistoutreach.org/event/upl-white-rock-prep-mfa-dmc-tca-cdoac-cop/
CATEGORIES:North Texas Events
END:VEVENT
BEGIN:VEVENT
DTSTART;TZID=UTC:20241105T163000
DTEND;TZID=UTC:20241105T171500
DTSTAMP:20260425T112542
CREATED:20241030T191306Z
LAST-MODIFIED:20241114T183226Z
UID:34939-1730824200-1730826900@theartistoutreach.org
SUMMARY:UCC Polytechnic (JPM/BWG/MSPT/HFF/NBF)
DESCRIPTION:TA: Chris Hicks \nCampus: Polytechnic United Center\nLocation: 3100 Avenue I\, Fort Worth\, TX 76105 \nDirector: Sandra  Garza \nContact: Sandra Garza 214.202.8735 \n4:30pm – 4:50pm Pre-K Christina Esparza \n4:50pm – 5:15pm Kinder Genesis Alvarez
URL:https://theartistoutreach.org/event/ucc-polytechnic-jpm-bwg-mspt-hff/
CATEGORIES:North Texas Events
END:VEVENT
BEGIN:VEVENT
DTSTART;TZID=UTC:20241106T080000
DTEND;TZID=UTC:20241106T130000
DTSTAMP:20260425T112542
CREATED:20240819T195243Z
LAST-MODIFIED:20240819T195243Z
UID:34220-1730880000-1730898000@theartistoutreach.org
SUMMARY:MISD-S (KING/MISD)
DESCRIPTION:TA: Kiersten Underwood \nCampus: Tisinger Elementary \nLocation: 1701 Hillcrest St\, Mesquite\, TX 75149 \nPrincipal: Amanda Relf   ARelf@mesquiteisd.org\nContact:    Viviana Ayala   (972) 882-5120\n8:00am – 8:20am  Wright \n8:20am – 8:40am  Morales \n8:40am – 9:00am  Grant \n9:00am – 9:20am   Ontiveros \n9:20am – 9:40am  Martin \n***TRAVEL TIME*** \nCampus: Gray Elementary \nLocation: 3500 Pioneer Rd\, Mesquite\, TX 75181 \nPrincipal: Alyce Quesenberry AQuesenberry@mesquiteisd.org\nContact:   Christy Cardenas    (972) 882-7280\n11:40am – 12:00pm  Portillo \n12:00pm – 12:20pm  Reschke \n12:20pm – 1:00pm  Walker
URL:https://theartistoutreach.org/event/misd-s-king-misd-36/
CATEGORIES:North Texas Events
END:VEVENT
BEGIN:VEVENT
DTSTART;TZID=UTC:20241106T080000
DTEND;TZID=UTC:20241106T135500
DTSTAMP:20260425T112542
CREATED:20240605T164743Z
LAST-MODIFIED:20241024T190258Z
UID:32682-1730880000-1730901300@theartistoutreach.org
SUMMARY:UPL WHITE ROCK PREP (MFA/DMC/TCA/CDOAC-COP)
DESCRIPTION:TA: Candy Williams \nCONTACTS:  Director: Marius Martin  PH:  469-914-7500     Email: mamartin@uplifteducation.org \nDean: Frances Maisonet      FMaisonet@uplifteducation.org \nLocation:7370 Valley Glen Drive\, Dallas\, TX 75228 \nKinder     Arriaga     room 148      8:00am – 8:45am \nKinder    Alvarado   room 150     8:45am – 9:15am \nFirst      Johnson     room 141      9:15am – 10:00am \nFirst      Reyna      room 144      10:00am – 10:45am \nKinder    Hernandez      room 145      11:30am – 12:15pm \nKinder    Sylvia      room 147          12:15pm – 1:00pm \nFirst        Lemon         room 139       1:00pm – 1:45pm
URL:https://theartistoutreach.org/event/upl-white-rock-prep-mfa-dmc-tca-cdoac-12/
CATEGORIES:North Texas Events
END:VEVENT
BEGIN:VEVENT
DTSTART;TZID=UTC:20241106T083000
DTEND;TZID=UTC:20241106T113000
DTSTAMP:20260425T112542
CREATED:20240610T163357Z
LAST-MODIFIED:20241114T184101Z
UID:32831-1730881800-1730892600@theartistoutreach.org
SUMMARY:UPL Crescendo (EWG/MPST/RYAN/HFF/NBF)
DESCRIPTION:TA: Chris Hicks\nCampus: Uplift Crescendo\nLocation: 1200 Cooks Lane\, Fort Worth TX 76120\nContact: Karen Aldridge 469-621-8500 KAldridge@uplifteducation.org\nPre-K 8:30am – 8:55am Curtis #171\nPre-K 9:00am – 9:25am White #165\nPre-K 9:30am – 9:55am Criss #168\nPre-K 10:00am – 10:25am Potier #170\nPre-K 10:30am – 10:55am Suleman #173\nPre-K 11:00am – 11:25am Velazquez #167
URL:https://theartistoutreach.org/event/upl-crescendo-mspt-jpm-hff-11/
CATEGORIES:North Texas Events
END:VEVENT
BEGIN:VEVENT
DTSTART;TZID=UTC:20241106T083500
DTEND;TZID=UTC:20241106T152000
DTSTAMP:20260425T112542
CREATED:20240723T192308Z
LAST-MODIFIED:20241114T184053Z
UID:33177-1730882100-1730906400@theartistoutreach.org
SUMMARY:FWISD Meadowbrook (MSPT/EWG/Ryan/HFF/NBF)
DESCRIPTION:TA: Gary Sherrill \nMeadowbrook Elementary \n4330 Meadowbrook Drive \nFort Worth\, TX   76103 \n8:35-9:20am – 5th \n9:25-10:10am – Kinder \n10:15-11:00am – 1st \n1:05-11:50am –  2nd \n***Lunch**** \n12:20-1:05 – 3rd \n1:10-1:55pm – 4th \n2:00-2:50pm – PLC \n2:50-3:15pm – Prime Time \n3:15-3:20pm – Dismissal
URL:https://theartistoutreach.org/event/fwisd-meadowbrook-mspt-ewg-ryan-hff-24/
CATEGORIES:North Texas Events
END:VEVENT
BEGIN:VEVENT
DTSTART;TZID=UTC:20241106T122000
DTEND;TZID=UTC:20241106T152000
DTSTAMP:20260425T112542
CREATED:20240723T192402Z
LAST-MODIFIED:20241114T184112Z
UID:33179-1730895600-1730906400@theartistoutreach.org
SUMMARY:FWISD Meadowbrook (MSPT/EWG/Ryan/HFF/NBF)
DESCRIPTION:TA: Chris Hicks \nMeadowbrook Elementary \n4330 Meadowbrook Drive \nFort Worth\, TX   76103 \n12:20-1:05 – 3rd \n1:10-1:55pm – 4th \n2:00-2:50pm – PLC \n2:50-3:15pm – Prime Time \n3:15-3:20pm – Dismissal
URL:https://theartistoutreach.org/event/fwisd-meadowbrook-mspt-ewg-ryan-hff-25/
CATEGORIES:North Texas Events
END:VEVENT
BEGIN:VEVENT
DTSTART;TZID=UTC:20241106T163000
DTEND;TZID=UTC:20241106T171500
DTSTAMP:20260425T112542
CREATED:20241030T185633Z
LAST-MODIFIED:20241030T185633Z
UID:34912-1730910600-1730913300@theartistoutreach.org
SUMMARY:UCC Bethlehem (JPM/BWG/MSPT/HFF)
DESCRIPTION:TA: Chris Hicks \nCampus: Bethlehem Center \nLocation: 951 Evans Ave\, Fort Worth\, TX 76104 \nDirector: Sandra  Garza \nContact: Sandra Garza 214.202.8735 \n4:30pm – 4:50pm Pre-K – Heidy Estrada \n4:50pm – 5:15pm Kinder – Mariah Lara
URL:https://theartistoutreach.org/event/ucc-bethlehem-jpm-bwg-mspt-hff/
END:VEVENT
BEGIN:VEVENT
DTSTART;TZID=UTC:20241106T163000
DTEND;TZID=UTC:20241106T171500
DTSTAMP:20260425T112542
CREATED:20241030T190913Z
LAST-MODIFIED:20241114T184119Z
UID:34934-1730910600-1730913300@theartistoutreach.org
SUMMARY:UCC Bethlehem (JPM/BWG/MSPT/HFF/NBF)
DESCRIPTION:TA: Chris Hicks \nCampus: Bethlehem Center \nLocation: 951 Evans Ave\, Fort Worth\, TX 76104 \nDirector: Sandra  Garza \nContact: Sandra Garza 214.202.8735 \n4:30pm – 4:50pm Pre-K – Heidy Estrada \n4:50pm – 5:15pm Kinder – Mariah Lara
URL:https://theartistoutreach.org/event/ucc-bethlehem-jpm-bwg-mspt-hff-11/
CATEGORIES:North Texas Events
END:VEVENT
BEGIN:VEVENT
DTSTART;TZID=UTC:20241107T080000
DTEND;TZID=UTC:20241107T111000
DTSTAMP:20260425T112542
CREATED:20240819T202022Z
LAST-MODIFIED:20240819T202022Z
UID:34251-1730966400-1730977800@theartistoutreach.org
SUMMARY:MISD-S (KING/MISD)
DESCRIPTION:TA: Kiersten Underwood \nCampus: Gentry Elementary \nLocation: 1901 Twin Oaks Dr\, Mesquite\, TX 75181 \nPrincipal: Michael Pierotti  MPierotti@mesquiteisd.org\nContact:  Jennifer Garcia      (972) 290-4140\n8:00am – 8:20am   Ochoa \n8:20am – 8:40am  Lona \n8:40am – 9:00am   Rogers \n9:00am – 9:20am  Weber \n***TRAVEL TIME*** \nCampus: Hodges Elementary \nLocation: 14401 Spring Oak Dr\, Balch Springs\, TX 75180 \nPrincipal: Dr. Kim Broadway  KBroadway@mesquiteisd.org\nContact:  Maria Carrizales   (972) 882-0200\n9:50am – 10:10am  Paniagua \n10:10am – 10:30am  Mir \n10:30am – 10:50am  Mojica \n10:50am – 11:10am  Padachy
URL:https://theartistoutreach.org/event/misd-s-king-misd-54/
CATEGORIES:North Texas Events
END:VEVENT
BEGIN:VEVENT
DTSTART;TZID=UTC:20241107T081000
DTEND;TZID=UTC:20241107T100000
DTSTAMP:20260425T112542
CREATED:20240729T164739Z
LAST-MODIFIED:20241024T190305Z
UID:33592-1730967000-1730973600@theartistoutreach.org
SUMMARY:DISD Bayles (MFA/CDOAC-COP/TCA)
DESCRIPTION:TA: Candy Williams \nBayles Elementary School \nLocation: 2444 Telegraph Ave\, Dallas\, TX 75228 \nContact: (972) 749-8900 \nPrincipal: Miguel Campuzano  (210) 240-4984 \nPRE-K SCHEDULE \n8:10 – 8:25 am –  Ms. Evans (TA)\, Room 107 \n8:25 – 8:40 am – Ms. Alanis\, Room 109 \n8:40 – 8:55 am – Ms. Pineda\, Room 108 \n8:55 -9:10 am – Ms. Sanchez\, Room 106 \nKINDER SCHEDULE \n9:15 – 9:30 am – Mr. Jameson\, Room 125 \n9:30 – 9:45 am – Ms. Pierce\, Room 127 \n9:45 – 10:00 am – Mr. Moreno\, Room 124
URL:https://theartistoutreach.org/event/disd-bayles-mfa-cdoac-tca-12/
CATEGORIES:North Texas Events
END:VEVENT
BEGIN:VEVENT
DTSTART;TZID=UTC:20241107T085000
DTEND;TZID=UTC:20241107T145000
DTSTAMP:20260425T112542
CREATED:20241024T203737Z
LAST-MODIFIED:20241024T203737Z
UID:34837-1730969400-1730991000@theartistoutreach.org
SUMMARY:MISD-SPK (MISD/TCA/DMC/REA)
DESCRIPTION:TA: Chris Hicks \nCampus: Cross Elementary \nLocation: 6425 Pk Vis Dr\, Mesquite\, TX 75181 \nPrincipal: RaShunda Price\nContact: Sonia Badillo   (972) 882-0280\n8:50-9:10 –  Velasquez \n9:10-9:30 –  Turner \n9:30-9:50 –  Calhoon \n9:50-10:10 –  Irizarry Del Chazal \n****TRAVEL TIME***** \nCampus: Pirrung Elementary School \nLocation: 1500 Creek Valley Rd\, Mesquite\, TX 75181 \nPrincipal: Tammi Froning\nContact: Mary Alva   (972) 882-7170\n11:00-11:20 –  Krysinski \n*****TRAVEL TIME****** \nCampus: Thompson Elementary School \nLocation: 2525 Helen Ln\, Mesquite\, TX 75181 \nPrincipal: Candice Griffin\nContact: Rahnesha Darwin  (972) 882-7190\n1:10-1:30  Soto \n1:30-1:50  Walker \n*****TRAVEL TIME***** \nCampus: B. J. Smith Elementary School \nLocation: 2300 Mesquite Valley Rd\, Mesquite\, TX 75149 \nPrincipal: Stacy Bennett\nContact: Mariah Collier    (972) 882-7080\n2:10-2:30 Calloway \n2:30-2:50 Almanza
URL:https://theartistoutreach.org/event/misd-spk-misd-tca-dmc-rea-47/
CATEGORIES:North Texas Events
END:VEVENT
BEGIN:VEVENT
DTSTART;TZID=UTC:20241107T124500
DTEND;TZID=UTC:20241107T134500
DTSTAMP:20260425T112542
CREATED:20240724T173333Z
LAST-MODIFIED:20240724T173333Z
UID:33407-1730983500-1730987100@theartistoutreach.org
SUMMARY:MISD-AA (MISD)
DESCRIPTION:TA: Joel McCray \nRange Elementary \n4060 Emerald Dr\, Mesquite\, TX 75150 \nPrincipal: Kelly Locke – klocke@mesquiteisd.org \nPhone:  (972) 882-5180 \nContact: Brittany Morrison –  bmorrison@mesquiteisd.org \nTime: 12:45 – 1:45 pm  (Cafeteria)
URL:https://theartistoutreach.org/event/misd-aa-misd-70/
CATEGORIES:North Texas Events
END:VEVENT
BEGIN:VEVENT
DTSTART;TZID=UTC:20241107T130000
DTEND;TZID=UTC:20241107T142000
DTSTAMP:20260425T112542
CREATED:20240819T143025Z
LAST-MODIFIED:20240916T153125Z
UID:34150-1730984400-1730989200@theartistoutreach.org
SUMMARY:MISD-S (MISD/KING)
DESCRIPTION:TA: Candy Williams \nCampus: McWhorter Elementary \nLocation: 1700 Hickory Tree Mesquite Texas 75149 \nPrincipal: Robyn Leslie  rleslie@mesquiteisdContact: Sharon Carter  972-882-70201:00pm – 1:20pm  Pravitz1:20pm – 1:40pm   Torres1:40pm – 2:00pm    Hernandez2:00pm – 2:20pm  Arriaga
URL:https://theartistoutreach.org/event/misd-spk-misd-tca-dmc-rea-19/
CATEGORIES:North Texas Events
END:VEVENT
BEGIN:VEVENT
DTSTART;TZID=UTC:20241107T141000
DTEND;TZID=UTC:20241107T151000
DTSTAMP:20260425T112542
CREATED:20240724T173303Z
LAST-MODIFIED:20240724T173303Z
UID:33406-1730988600-1730992200@theartistoutreach.org
SUMMARY:MISD-AA (MISD)
DESCRIPTION:TA: Joel McCray \nPrice Elementry \n630 Stroud Lane Garland TX 75043 \nPrincipal: Ashely Goodwin – agoodwin@mesquiteisd.org \nPhone:  972-882-0240 \nContact: Aubry Presley – cpresley@mesquiteisd.org \nTime: 2:10 – 3:10pm  (Cafeteria)
URL:https://theartistoutreach.org/event/misd-aa-misd-69/
CATEGORIES:North Texas Events
END:VEVENT
BEGIN:VEVENT
DTSTART;TZID=UTC:20241107T161500
DTEND;TZID=UTC:20241107T171500
DTSTAMP:20260425T112542
CREATED:20240724T173239Z
LAST-MODIFIED:20240724T173239Z
UID:33405-1730996100-1730999700@theartistoutreach.org
SUMMARY:MISD-ID (MISD)
DESCRIPTION:TA: Joel McCray\nVanguard High School   \n4201 Faithon P Lucas Sr Blvd\, Mesquite\, TX 75181 \nPrincipal: Clint Elsasser – celsasser@mesquiteisd.org \nPhone:(972) 882-0000 \nContact: Hayden Cepack – hcepak@mesquiteisd.org \nTime: 4:15 – 5:15pm
URL:https://theartistoutreach.org/event/misd-id-misd-39/
CATEGORIES:North Texas Events
END:VEVENT
BEGIN:VEVENT
DTSTART;TZID=UTC:20241107T163000
DTEND;TZID=UTC:20241107T171500
DTSTAMP:20260425T112542
CREATED:20241030T192022Z
LAST-MODIFIED:20241114T184335Z
UID:34956-1730997000-1730999700@theartistoutreach.org
SUMMARY:UCC Wesley (JPM/BWG/MSPT/HFF/NBF)
DESCRIPTION:TA: Chris Hicks \nCampus: Wesley United Center\nLocation: 3600 N Crump St\, Fort Worth\, TX 76106 \nDirector: Sandra  Garza \nContact: Sandra Garza 214.202.8735 \n4:30pm – 4:50pm Pre-K Alejandra Rodriguez \n4:50pm – 5:15pm Kinder Alejandra Arellano
URL:https://theartistoutreach.org/event/ucc-wesley-jpm-bwg-mspt-hff/
CATEGORIES:North Texas Events
END:VEVENT
BEGIN:VEVENT
DTSTART;TZID=UTC:20241108T080000
DTEND;TZID=UTC:20241108T130000
DTSTAMP:20260425T112542
CREATED:20240819T204858Z
LAST-MODIFIED:20240819T204858Z
UID:34287-1731052800-1731070800@theartistoutreach.org
SUMMARY:MISD-S (KING/MISD)
DESCRIPTION:TA: Kiersten Underwood \nCampus: Florence Elementary \nLocation: 4600 Ashwood Dr\, Mesquite\, TX 75150 \nPrincipal: Dr. Maria Franco  MFranco@mesquiteisd.org\nContact:    Nancy Nieto  (972) 882-0300\n8:00am – 8:20am  Leon \n8:20am – 8:40am  Lawing \n8:40am – 9:00am  Wells \n***TRAVEL TIME*** \nCampus: Porter Elementary \nLocation: 517 Via Avenida\, Mesquite\, TX 75150 \nPrincipal: Leeann Englert   LEnglert@mesquiteisd.org\nContact:  Jasmine Herbert     (972) 882-0360\n11:40am – 12:00pm  Stribley \n12:00pm – 12:20pm  Momon \n12:20pm – 12:40pm  Ortega \n12:40pm – 1:00pm  Greene
URL:https://theartistoutreach.org/event/misd-s-king-misd-71/
CATEGORIES:North Texas Events
END:VEVENT
BEGIN:VEVENT
DTSTART;TZID=UTC:20241108T080000
DTEND;TZID=UTC:20241108T153000
DTSTAMP:20260425T112542
CREATED:20240730T161153Z
LAST-MODIFIED:20241024T190312Z
UID:33820-1731052800-1731079800@theartistoutreach.org
SUMMARY:OLPH Art (OLPH/TCA/DMC/MFA/CDOAC-COP)
DESCRIPTION:TA: Chris Hicks \n8:00-8:45am – 2nd \n8:50 am-9:35 am – 3rd \n9:40 am–10:25 am – 4th \n10:30 am–11:15am – 5th B \n****Lunch**** \n12:00 noon-12:45pm – 6th B \n12:50pm-1:35pm – 7th B \n1:40pm-2:25pm – 8th \n2:30pm-3:15pm – 1st \n3:15pm-3:30pm – Prayer \nOur Lady of Perpetual Help \n7625 Cortland Avenue \nDallas\, TX 75235 \n214-351-3396 \nPrincipal: John Hickey        jhickey@olphdallas.org \nManager:  Theresa Ruenes           truenes@olphdallas.org
URL:https://theartistoutreach.org/event/olph-music-olph-tca-dmc-13/
CATEGORIES:North Texas Events
END:VEVENT
BEGIN:VEVENT
DTSTART;TZID=UTC:20241108T083000
DTEND;TZID=UTC:20241108T140000
DTSTAMP:20260425T112542
CREATED:20241024T205744Z
LAST-MODIFIED:20241024T205744Z
UID:34853-1731054600-1731074400@theartistoutreach.org
SUMMARY:MISD-SPK (MISD/TCA/DMC/REA)
DESCRIPTION:TA: Candy Williams \nCampus: Motley Elementary School \nLocation: 3719 Moon Dr\, Mesquite\, TX 75150 \nPrincipal: Dr. Shawna Delamar\nContact: Laura Bucio   (972) 882-5080\n8:30-8:50 –  Rojo \n8:50-9:10 –  Lopez \n****TRAVEL TIME***** \nCampus: Lawrence Elementary School \nLocation: 3811 Richman Dr\, Mesquite\, TX 75150 \nPrincipal: Dr. RoShanda Jenkins\nContact: Zaira Lopez    (972) 882-7000\n9:40 – 10:00  Hernandez \n*****TRAVEL TIME****** \nCampus: I.N. Range Elementary School \nLocation: 4060 Emerald Dr\, Mesquite\, TX 75150 \nPrincipal: Kelly Locke\nContact: Lilian Calito   (972) 882-5180\n11:55 – 12:15 Jones \n12:15 – 12:35 Licatovich \n12:35-12:55 Munoz \n****TRAVEL TIME**** \nCampus: McKenzie Elementary School \nLocation: 3535 Stephens Green Dr\, Mesquite\, TX 75150 \nPrincipal: Elizabeth Felton\nContact:  Tara Carpenter  (972) 882-5140\n1:40 – 2:00  Block
URL:https://theartistoutreach.org/event/misd-spk-misd-tca-dmc-rea-54/
CATEGORIES:North Texas Events
END:VEVENT
BEGIN:VEVENT
DTSTART;TZID=UTC:20241111T080000
DTEND;TZID=UTC:20241111T100000
DTSTAMP:20260425T112542
CREATED:20241029T210453Z
LAST-MODIFIED:20241029T210453Z
UID:34876-1731312000-1731319200@theartistoutreach.org
SUMMARY:Steven Park (CDOAD-COP/DMC)
DESCRIPTION:TA: Kiersten Underwood \nCampus: Stevens Park Elementary School \nLocation: 2615 W Colorado Blvd\, Dallas\, TX 75211 \nPrincipal: Ivelisse Avila \nContact: Carlos   (972) 794-4200 \n8:00 – 8:20    Diez  (K) \n8:20 – 8:40    MacNealy    (PK) \n8:40 – 9:00    Martinez   (PK) \n9:00 – 9:20    Salgado   (PK) \n9:20 – 9:40    (K) \n9:40 – 10:00  (K)
URL:https://theartistoutreach.org/event/steven-park-cdoad-cop-dmc-2/
CATEGORIES:North Texas Events
END:VEVENT
END:VCALENDAR