BEGIN:VCALENDAR
VERSION:2.0
PRODID:-//The Artist Outreach - ECPv6.15.20//NONSGML v1.0//EN
CALSCALE:GREGORIAN
METHOD:PUBLISH
X-ORIGINAL-URL:https://theartistoutreach.org
X-WR-CALDESC:Events for The Artist Outreach
REFRESH-INTERVAL;VALUE=DURATION:PT1H
X-Robots-Tag:noindex
X-PUBLISHED-TTL:PT1H
BEGIN:VTIMEZONE
TZID:UTC
BEGIN:STANDARD
TZOFFSETFROM:+0000
TZOFFSETTO:+0000
TZNAME:UTC
DTSTART:20230101T000000
END:STANDARD
END:VTIMEZONE
BEGIN:VEVENT
DTSTART;TZID=UTC:20240603T123000
DTEND;TZID=UTC:20240603T150000
DTSTAMP:20260426T041602
CREATED:20240222T230735Z
LAST-MODIFIED:20240223T213525Z
UID:32195-1717417800-1717426800@theartistoutreach.org
SUMMARY:OLPH Summer Programs   (LFF/DMC)
DESCRIPTION:TA:  Chris Hicks \nOur Lady of Perpetual Help \nLocation:  7625 Cortland Avenue\, Dallas\, TX 75235 \nTimes:  12:30pm – 3:00pm \n+EC-Grade 1 \n+Grades 2-5 \n+Grades 6-8 \nContacts:   214-351-3396     Manager:  Theresa Ruenes           truenes@olphdallas.org \nPrincipal: John Hickey        jhickey@olphdallas.org       
URL:https://theartistoutreach.org/event/olph-summer-programs-olph/
CATEGORIES:North Texas Events
END:VEVENT
BEGIN:VEVENT
DTSTART;TZID=UTC:20240605T080000
DTEND;TZID=UTC:20240605T170000
DTSTAMP:20260426T041602
CREATED:20240306T142454Z
LAST-MODIFIED:20240531T080431Z
UID:32449-1717574400-1717606800@theartistoutreach.org
SUMMARY:CANCELLED   Rainbow Days - Kid's University
DESCRIPTION:Rainbow Days – Kid’s University (TCA/ARP#77758840) \nTA:  Kiersten Underwood \nKids University @ UTD campus. Classes will be in the Physics Building. \nThe address is 1370 W. Campbell Rd\, Richardson\, TX 75080.  Directions to UTD are: \n7 min (2.1 miles) \nvia W Campbell Rd and Waterview Pkwy \nFastest route now due to traffic conditions \n1370 W Campbell Rd\, Richardson\, TX 75080 \nTurn Left onto W Campbell Rd \n1 min (0.1 mi) \nTurn Left  onto Waterview Pkwy \n4 min (1.5 mi) \nTurn Right onto N Loop Rd \n3 min (0.4 mi) \nTurn left onto W Campbell Rd \nJust past Einstein Bros. Bagels there is a service drive way. \nTurn Right\, the Physics Building will be on your right \nPhysics Building \nArts and Technology Bldg\, Richardson\, TX 75080
URL:https://theartistoutreach.org/event/rainbow-days-lff-pending-june-5/
CATEGORIES:North Texas Events
END:VEVENT
BEGIN:VEVENT
DTSTART;TZID=UTC:20240605T080000
DTEND;TZID=UTC:20240605T170000
DTSTAMP:20260426T041602
CREATED:20240605T171441Z
LAST-MODIFIED:20240605T171441Z
UID:32703-1717574400-1717606800@theartistoutreach.org
SUMMARY:UPL WHITE ROCK PREP (TCA/CDOAC) Winter Break Dec 23- Jan 3
DESCRIPTION:No School!
URL:https://theartistoutreach.org/event/upl-white-rock-prep-tca-cdoac-winter-break-dec-23-jan-3/
END:VEVENT
BEGIN:VEVENT
DTSTART;TZID=UTC:20240605T123000
DTEND;TZID=UTC:20240605T150000
DTSTAMP:20260426T041602
CREATED:20240222T230828Z
LAST-MODIFIED:20240223T213550Z
UID:32197-1717590600-1717599600@theartistoutreach.org
SUMMARY:OLPH Summer Programs   (LFF/DMC)
DESCRIPTION:TA:   Chris Hicks \nOur Lady of Perpetual Help \nLocation:  7625 Cortland Avenue\, Dallas\, TX 75235 \nTimes:  12:30pm – 3:00pm \n+EC-Grade 1 \n+Grades 2-5 \n+Grades 6-8 \nContacts:   214-351-3396     Manager:  Theresa Ruenes           truenes@olphdallas.org \nPrincipal: John Hickey        jhickey@olphdallas.org       
URL:https://theartistoutreach.org/event/olph-summer-programs-olph-2/
CATEGORIES:North Texas Events
END:VEVENT
BEGIN:VEVENT
DTSTART;TZID=UTC:20240607T123000
DTEND;TZID=UTC:20240607T150000
DTSTAMP:20260426T041602
CREATED:20240222T230913Z
LAST-MODIFIED:20240506T075614Z
UID:32199-1717763400-1717772400@theartistoutreach.org
SUMMARY:OLPH Summer Programs  (OLPH/LFF)
DESCRIPTION:TA:   Chris Hicks \nOur Lady of Perpetual Help \nLocation:  7625 Cortland Avenue\, Dallas\, TX 75235 \nTimes:  12:30pm – 3:00pm \n+EC-Grade 1 \n+Grades 2-5 \n+Grades 6-8 \nContacts:   214-351-3396     Manager:  Theresa Ruenes           truenes@olphdallas.org \nPrincipal: John Hickey        jhickey@olphdallas.org       
URL:https://theartistoutreach.org/event/oph-summer-programs-olph/
CATEGORIES:North Texas Events
END:VEVENT
BEGIN:VEVENT
DTSTART;TZID=UTC:20240610T123000
DTEND;TZID=UTC:20240610T150000
DTSTAMP:20260426T041602
CREATED:20240222T231001Z
LAST-MODIFIED:20240223T213644Z
UID:32201-1718022600-1718031600@theartistoutreach.org
SUMMARY:OLPH Summer Programs  (LFF/DMC)
DESCRIPTION:TA:   Candy Williams \nOur Lady of Perpetual Help \nLocation:  7625 Cortland Avenue\, Dallas\, TX 75235 \nTimes:  12:30pm – 3:00pm \n+EC-Grade 1 \n+Grades 2-5 \n+Grades 6-8 \nContacts:   214-351-3396     Manager:  Theresa Ruenes           truenes@olphdallas.org \nPrincipal: John Hickey        jhickey@olphdallas.org       
URL:https://theartistoutreach.org/event/olph-summer-programs-olph-3/
CATEGORIES:North Texas Events
END:VEVENT
BEGIN:VEVENT
DTSTART;TZID=UTC:20240611T103000
DTEND;TZID=UTC:20240611T113000
DTSTAMP:20260426T041602
CREATED:20240531T164113Z
LAST-MODIFIED:20240531T164152Z
UID:32595-1718101800-1718105400@theartistoutreach.org
SUMMARY:Camp L4 – Song Creations (RRC)
DESCRIPTION:TA:  Joel McCray \nCamp L4 \nLocation:  6200 Sand Springs Rd.\, Ft. Worth\, TX  76114 \nContact: Erin McCurdy cell 817-422-2907 or main # 817-332-6329 \nTime:  10:30am – 11:30am
URL:https://theartistoutreach.org/event/camp-l4-song-creations-rrc-6/
CATEGORIES:North Texas Events
END:VEVENT
BEGIN:VEVENT
DTSTART;TZID=UTC:20240611T120000
DTEND;TZID=UTC:20240611T130000
DTSTAMP:20260426T041602
CREATED:20231002T231547Z
LAST-MODIFIED:20231002T231547Z
UID:31576-1718107200-1718110800@theartistoutreach.org
SUMMARY:Board Meeting
DESCRIPTION:12 noon – 1:15pm
URL:https://theartistoutreach.org/event/board-meeting-4/
CATEGORIES:North Texas Events
END:VEVENT
BEGIN:VEVENT
DTSTART;TZID=UTC:20240612T123000
DTEND;TZID=UTC:20240612T150000
DTSTAMP:20260426T041602
CREATED:20240222T231044Z
LAST-MODIFIED:20240223T213714Z
UID:32203-1718195400-1718204400@theartistoutreach.org
SUMMARY:OLPH Summer Programs (OLPH/LFF)
DESCRIPTION:TA:   Candy Williams \nOur Lady of Perpetual Help \nLocation:  7625 Cortland Avenue\, Dallas\, TX 75235 \nTimes:  12:30pm – 3:00pm \n+EC-Grade 1 \n+Grades 2-5 \n+Grades 6-8 \nContacts:   214-351-3396     Manager:  Theresa Ruenes           truenes@olphdallas.org \nPrincipal: John Hickey        jhickey@olphdallas.org       
URL:https://theartistoutreach.org/event/olph-summer-programs-olph-4/
CATEGORIES:North Texas Events
END:VEVENT
BEGIN:VEVENT
DTSTART;TZID=UTC:20240614T123000
DTEND;TZID=UTC:20240614T150000
DTSTAMP:20260426T041602
CREATED:20240222T231129Z
LAST-MODIFIED:20240223T213748Z
UID:32205-1718368200-1718377200@theartistoutreach.org
SUMMARY:OLPH Summer Programs  (LFF/DMC)
DESCRIPTION:TA:   Kiersten Underwood \nOur Lady of Perpetual Help \nLocation:  7625 Cortland Avenue\, Dallas\, TX 75235 \nTimes:  12:30pm – 3:00pm \n+EC-Grade 1 \n+Grades 2-5 \n+Grades 6-8 \nContacts:   214-351-3396     Manager:  Theresa Ruenes           truenes@olphdallas.org \nPrincipal: John Hickey        jhickey@olphdallas.org       
URL:https://theartistoutreach.org/event/olph-summer-programs-olph-5/
CATEGORIES:North Texas Events
END:VEVENT
BEGIN:VEVENT
DTSTART;TZID=UTC:20240617T123000
DTEND;TZID=UTC:20240617T150000
DTSTAMP:20260426T041602
CREATED:20240222T231213Z
LAST-MODIFIED:20240617T174739Z
UID:32207-1718627400-1718636400@theartistoutreach.org
SUMMARY:OLPH Summer Programs   (LFF/DMC)
DESCRIPTION:TA:   Kiersten Underwood \nOur Lady of Perpetual Help \nLocation:  7625 Cortland Avenue\, Dallas\, TX 75235 \nTimes:  12:30pm – 3:00pm \n+EC-Grade 1 \n+Grades 2-5 \n+Grades 6-8 \nContacts:   214-351-3396     Manager:  Theresa Ruenes           truenes@olphdallas.org \nPrincipal: John Hickey        jhickey@olphdallas.org       
URL:https://theartistoutreach.org/event/olh-summer-programs-olph/
CATEGORIES:North Texas Events
END:VEVENT
BEGIN:VEVENT
DTSTART;TZID=UTC:20240619T123000
DTEND;TZID=UTC:20240619T150000
DTSTAMP:20260426T041602
CREATED:20240222T231255Z
LAST-MODIFIED:20240223T213841Z
UID:32209-1718800200-1718809200@theartistoutreach.org
SUMMARY:OLPH Summer Programs (LFF/DMC)
DESCRIPTION:TA:   Kiersten Underwood \nOur Lady of Perpetual Help \nLocation:  7625 Cortland Avenue\, Dallas\, TX 75235 \nTimes:  12:30pm – 3:00pm \n+EC-Grade 1 \n+Grades 2-5 \n+Grades 6-8 \nContacts:   214-351-3396     Manager:  Theresa Ruenes           truenes@olphdallas.org \nPrincipal: John Hickey        jhickey@olphdallas.org       
URL:https://theartistoutreach.org/event/olph-summer-programs-olph-6/
CATEGORIES:North Texas Events
END:VEVENT
BEGIN:VEVENT
DTSTART;TZID=UTC:20240624T121500
DTEND;TZID=UTC:20240624T131500
DTSTAMP:20260426T041602
CREATED:20240223T195215Z
LAST-MODIFIED:20240229T155205Z
UID:32236-1719231300-1719234900@theartistoutreach.org
SUMMARY:UPL Summit Int'l (LFF)
DESCRIPTION:TA:  Candy Williams \nLocation: UPLift Summit International\, 1305 N. Center St.\, Arlington\, TX 76011     817-287-5121 \nTimes: \n12:15pm-12:40pm  K1-Group 1 \n12:40pm-1:15pm  K1-Group 2
URL:https://theartistoutreach.org/event/upl-rainbow-days-lff-6/
CATEGORIES:North Texas Events
END:VEVENT
BEGIN:VEVENT
DTSTART;TZID=UTC:20240624T121500
DTEND;TZID=UTC:20240624T134000
DTSTAMP:20260426T041602
CREATED:20240223T204940Z
LAST-MODIFIED:20240531T162439Z
UID:32272-1719231300-1719236400@theartistoutreach.org
SUMMARY:UPL Mighty (LFF)
DESCRIPTION:TA: Kiersten Underwood \n\n[1]  UPLift Mighty  \nLocation:  3700 Mighty Mite Drive.\, Ft. Worth\, TX              817-288-3800 \nTimes: \n12:15pm-12:40pm  K1-Group 1 \n12:50pm-1:15pm  K1-Group 2 \n1:20pm-1:40pm  K1-Group 3
URL:https://theartistoutreach.org/event/upl-rainbow-days-lff-22/
CATEGORIES:North Texas Events
END:VEVENT
BEGIN:VEVENT
DTSTART;TZID=UTC:20240624T121500
DTEND;TZID=UTC:20240624T134000
DTSTAMP:20260426T041602
CREATED:20240531T174716Z
LAST-MODIFIED:20240531T174716Z
UID:32599-1719231300-1719236400@theartistoutreach.org
SUMMARY:UPL Williams (LFF)
DESCRIPTION:TA: Chris Hicks \nLocation: UPL Williams 1750 Viceroy Drive\, Dallas. Tx \nContact: 214-276-0352 \nTimes: 12:15-12:40 \n12:50-1:15 \n1:20-1:45
URL:https://theartistoutreach.org/event/upl-williams-lff/
CATEGORIES:North Texas Events
END:VEVENT
BEGIN:VEVENT
DTSTART;TZID=UTC:20240625T103000
DTEND;TZID=UTC:20240625T113000
DTSTAMP:20260426T041602
CREATED:20240213T161452Z
LAST-MODIFIED:20240213T161452Z
UID:32179-1719311400-1719315000@theartistoutreach.org
SUMMARY:Camp L4 - Song Creations (RRC)
DESCRIPTION:TA:  Joel McCray \nCamp L4 \nLocation:  5218 Kiwanis Rd\, Ft. Worth\, TX  75236 \nContact: Erin McCurdy cell 817-422-2907 or main # 817-332-6329 \nTime:  10:30am – 11:30am
URL:https://theartistoutreach.org/event/camp-l4-song-creations-rrc-5/
CATEGORIES:North Texas Events
END:VEVENT
BEGIN:VEVENT
DTSTART;TZID=UTC:20240625T121500
DTEND;TZID=UTC:20240625T131500
DTSTAMP:20260426T041602
CREATED:20240223T185100Z
LAST-MODIFIED:20240229T145623Z
UID:32226-1719317700-1719321300@theartistoutreach.org
SUMMARY:UPL Luna (LFF)
DESCRIPTION:TA:  Candy Williams \nLocation:  Luna Elementary\, 9743 ERL Thornton Fwy.\, Dallas\, TX 75228             214-445-3300 \nTimes: \n12:15pm-12:40pm  K1-Group 1 \n12:40pm-1:15pm  K1-Group 2
URL:https://theartistoutreach.org/event/upl-rainbow-days-lff/
CATEGORIES:North Texas Events
END:VEVENT
BEGIN:VEVENT
DTSTART;TZID=UTC:20240625T121500
DTEND;TZID=UTC:20240625T131500
DTSTAMP:20260426T041602
CREATED:20240223T204052Z
LAST-MODIFIED:20240531T174910Z
UID:32260-1719317700-1719321300@theartistoutreach.org
SUMMARY:UPL Wisdom (LFF)
DESCRIPTION:TA: Kiersten Underwood \n\nLocation:  UPLift Wisdom\, 301 W. Campbell Rd.\, Dallas\, TX              214-453-6900 \nTimes: \n12:15pm-12:40pm  K1-Group 1 \n12:40pm-1:15pm  K1-Group 2 \n 
URL:https://theartistoutreach.org/event/upl-rainbow-days-lff-16/
CATEGORIES:North Texas Events
END:VEVENT
BEGIN:VEVENT
DTSTART;TZID=UTC:20240625T121500
DTEND;TZID=UTC:20240625T134000
DTSTAMP:20260426T041602
CREATED:20240223T201625Z
LAST-MODIFIED:20240531T174957Z
UID:32249-1719317700-1719322800@theartistoutreach.org
SUMMARY:UPL Williams (LFF)
DESCRIPTION:TA:  Chris Hicks \nLocation:  UPLift Williams\, 1750 Viceroy Drive\, Dallas\, TX              214-276-0352 \nTimes: \n12:15pm-12:40pm  K1-Group 1 \n12:50pm-1:15pm  K1-Group 2 \n1:20pm-1:40pm  K1-Group 3
URL:https://theartistoutreach.org/event/upl-rainbow-days-lff-11/
CATEGORIES:North Texas Events
END:VEVENT
BEGIN:VEVENT
DTSTART;TZID=UTC:20240626T100000
DTEND;TZID=UTC:20240626T110000
DTSTAMP:20260426T041602
CREATED:20240514T183239Z
LAST-MODIFIED:20240515T134518Z
UID:32567-1719396000-1719399600@theartistoutreach.org
SUMMARY:C. A. Tatum Jr. Elementary- DISD/Big Thought
DESCRIPTION:C. A. Tatum Jr. Elementary \n3002 N Saint Augustine Dr \nDallas\, TX\, 75227 \nCreating Song Lyrics Using Current Vocabulary program \nVOUCHER NEEDS SIGNING:  AC246 – J29W \nCheryl A. Lundy \nLibrarian/Media Specialist \n(972)502-2013
URL:https://theartistoutreach.org/event/c-a-tatum-jr-elementary-disd-big-thought/
CATEGORIES:North Texas Events
END:VEVENT
BEGIN:VEVENT
DTSTART;TZID=UTC:20240626T121500
DTEND;TZID=UTC:20240626T131500
DTSTAMP:20260426T041602
CREATED:20240223T195524Z
LAST-MODIFIED:20240229T145955Z
UID:32239-1719404100-1719407700@theartistoutreach.org
SUMMARY:UPL Summit Int'l (LFF)
DESCRIPTION:TA:  Candy Williams \nLocation: UPLift Summit International\, 1305 N. Center St.\, Arlington\, TX 76011     817-287-5121 \nTimes: \n12:15pm-12:40pm  K1-Group 1 \n12:40pm-1:15pm  K1-Group 2
URL:https://theartistoutreach.org/event/upl-rainbow-days-lff-7/
CATEGORIES:North Texas Events
END:VEVENT
BEGIN:VEVENT
DTSTART;TZID=UTC:20240626T121500
DTEND;TZID=UTC:20240626T134000
DTSTAMP:20260426T041602
CREATED:20240223T205654Z
LAST-MODIFIED:20240531T175051Z
UID:32275-1719404100-1719409200@theartistoutreach.org
SUMMARY:UPL Mighty (LFF)
DESCRIPTION:TA: Kiersten Underwood \n\nUPLift Mighty  \nLocation:  3700 Mighty Mite Drive.\, Ft. Worth\, TX              817-288-3800 \nTimes: \n12:15pm-12:40pm  K1-Group 1 \n12:50pm-1:15pm  K1-Group 2 \n1:20pm-1:40pm  K1-Group 3
URL:https://theartistoutreach.org/event/upl-rainbow-days-lff-17/
CATEGORIES:North Texas Events
END:VEVENT
BEGIN:VEVENT
DTSTART;TZID=UTC:20240626T121500
DTEND;TZID=UTC:20240626T134000
DTSTAMP:20260426T041602
CREATED:20240531T175232Z
LAST-MODIFIED:20240625T151906Z
UID:32604-1719404100-1719409200@theartistoutreach.org
SUMMARY:UPL Williams (LFF) CANCELED
DESCRIPTION:TA: Chris Hicks \nLocation: UPL Williams 1750 Viceroy Drive\, Dallas. Tx \nContact: 214-276-0352 \nTimes: 12:15-12:40 \n12:50-1:15 \n1:20-1:45
URL:https://theartistoutreach.org/event/upl-williams-lff-2/
CATEGORIES:North Texas Events
END:VEVENT
BEGIN:VEVENT
DTSTART;TZID=UTC:20240627T100000
DTEND;TZID=UTC:20240627T151500
DTSTAMP:20260426T041602
CREATED:20240408T220435Z
LAST-MODIFIED:20240626T154816Z
UID:32510-1719482400-1719501300@theartistoutreach.org
SUMMARY:Rainbow Days - Camp Bravo (TCA/ARP#77758840) CANCELED
DESCRIPTION:TA: Joel McCray \nDate: Thursday\, June 27th  \nLocation: Camp @ The Episcopal School of Dallas – 4100 Merrel Road\, Dallas\, TX\,75229 \nTime:  10:00am to 3:15pm -6 Groups/35 minutes each \n 
URL:https://theartistoutreach.org/event/rainbow-days-camp-bravo-xxx/
CATEGORIES:North Texas Events
END:VEVENT
BEGIN:VEVENT
DTSTART;TZID=UTC:20240628T121500
DTEND;TZID=UTC:20240628T131500
DTSTAMP:20260426T041602
CREATED:20240223T185220Z
LAST-MODIFIED:20240229T155057Z
UID:32228-1719576900-1719580500@theartistoutreach.org
SUMMARY:UPL Luna (LFF)
DESCRIPTION:TA:  Candy Williams \nLocation:  Luna Elementary\, 9743 ERL Thornton Fwy.\, Dallas\, TX 75228             214-445-3300 \nTimes: \n12:15pm-12:40pm  K1-Group 1 \n12:40pm-1:15pm  K1-Group 2
URL:https://theartistoutreach.org/event/upl-rainbow-days-lff-2/
CATEGORIES:North Texas Events
END:VEVENT
BEGIN:VEVENT
DTSTART;TZID=UTC:20240628T121500
DTEND;TZID=UTC:20240628T131500
DTSTAMP:20260426T041602
CREATED:20240223T204349Z
LAST-MODIFIED:20240531T175327Z
UID:32264-1719576900-1719580500@theartistoutreach.org
SUMMARY:UPL Wisdom (LFF)
DESCRIPTION:TA: Kiersten Underwood \n\n[1]  UPLift Wisdom \nLocation:  301 W. Campbell Rd.\, Dallas\, TX              214-453-6900 \nTimes: \n12:15pm-12:40pm  K1-Group 1 \n12:40pm-1:15pm  K1-Group 2
URL:https://theartistoutreach.org/event/upl-rainbow-days-lff-18/
CATEGORIES:North Texas Events
END:VEVENT
BEGIN:VEVENT
DTSTART;TZID=UTC:20240628T121500
DTEND;TZID=UTC:20240628T134000
DTSTAMP:20260426T041602
CREATED:20240223T202249Z
LAST-MODIFIED:20240531T175411Z
UID:32251-1719576900-1719582000@theartistoutreach.org
SUMMARY:UPL Williams (LFF)
DESCRIPTION:TA:  Chris Hicks \n\nLocation:  UPLift Williams\, 1750 Viceroy Drive\, Dallas\, TX              214-276-0352 \nTimes: \n12:15pm-12:40pm  K1-Group 1 \n12:50pm-1:15pm  K1-Group 2 \n1:20pm-1:40pm  K1-Group 3
URL:https://theartistoutreach.org/event/upl-rainbow-days-lff-12/
CATEGORIES:North Texas Events
END:VEVENT
END:VCALENDAR