BEGIN:VCALENDAR
VERSION:2.0
PRODID:-//The Artist Outreach - ECPv6.15.20//NONSGML v1.0//EN
CALSCALE:GREGORIAN
METHOD:PUBLISH
X-WR-CALNAME:The Artist Outreach
X-ORIGINAL-URL:https://theartistoutreach.org
X-WR-CALDESC:Events for The Artist Outreach
REFRESH-INTERVAL;VALUE=DURATION:PT1H
X-Robots-Tag:noindex
X-PUBLISHED-TTL:PT1H
BEGIN:VTIMEZONE
TZID:UTC
BEGIN:STANDARD
TZOFFSETFROM:+0000
TZOFFSETTO:+0000
TZNAME:UTC
DTSTART:20250101T000000
END:STANDARD
END:VTIMEZONE
BEGIN:VEVENT
DTSTART;TZID=UTC:20260424T081000
DTEND;TZID=UTC:20260424T145000
DTSTAMP:20260424T102909
CREATED:20260120T154754Z
LAST-MODIFIED:20260305T173308Z
UID:37572-1777018200-1777042200@theartistoutreach.org
SUMMARY:MISD (MISD/UWMD)
DESCRIPTION:TA: Margaret Lowe \nCampus: Floyd Elementary \nLocation: 3025 Hickory Tree Rd\, Mesquite\, TX 75180 \nContact: (972) 882-7100 \nPrincipal:  Jill Vincent \n8:30am – 8:50am Ellis \n8:50am – 9:10am Galaviz \n9:10am – 9:30am Ibarra \n***TRAVEL TIME*** \nCampus: Mackey Elementary \nLocation: 14900 N Spring Ridge Cir\, Mesquite\, TX 75180 \nContact: (972) 290-4160 \nPrincipal: Lynn Noe \n10:00 – 10:20 Nuckles \n10:20 – 10:40 Love \n*** TRAVEL TIME*** \nCampus: Gray Elementary \nLocation: 3500 Pioneer Rd\, Mesquite\, TX 75181 \nContact: (972) 882-7280 \nPrincipal: Alyce Quesenberry \n11:10 – 11:30 Escobar \n11:30 – 11:50 Wagner \n***TRAVEL TIME*** \nCampus: Tisinger Elementary \nLocation: 1701 Hillcrest St\, Mesquite\, TX 75150 \nContact: (972) 882-5120 \nPrincipal: Jose Peterson-Torres \n1:15pm – 1:35pm Locke \n1:35pm – 1:55pm Brown \n1:55pm – 2:15pm Maldonado \n2:15pm – 2:35pm Gomez \n2:35pm – 2:50pm Diaz
URL:https://theartistoutreach.org/event/misd-misd-uwmd-41/
CATEGORIES:North Texas Events
END:VEVENT
BEGIN:VEVENT
DTSTART;TZID=UTC:20260424T123000
DTEND;TZID=UTC:20260424T143000
DTSTAMP:20260424T102909
CREATED:20260120T155511Z
LAST-MODIFIED:20260126T180048Z
UID:37587-1777033800-1777041000@theartistoutreach.org
SUMMARY:MISD (MISD/UWMD)
DESCRIPTION:TA: Kiersten Underwood \nCampus: Lawrence Elementary \nLocation: 3811 Richman Dr\, Mesquite\, TX 75150 \nContact: (972) 882-7000 \nPrincipal:  Amanda Dagen-Ducharme \n12:30pm – 12:50pm Lovato \n12:50pm – 1:10pm Perez \n***TRAVEL TIME*** \nCampus: Range Elementary \nLocation: 4060 Emerald Dr\, Mesquite\, TX 75150 \nContact: (972) 882-5180 \nPrincipal: Kelly Locke \n1:50pm – 2:10pm Munuoz \n2:10pm – 2:30pm Licatovich
URL:https://theartistoutreach.org/event/misd-misd-uwmd-47/
CATEGORIES:North Texas Events
END:VEVENT
END:VCALENDAR