BEGIN:VCALENDAR
VERSION:2.0
PRODID:-//The Artist Outreach - ECPv6.15.20//NONSGML v1.0//EN
CALSCALE:GREGORIAN
METHOD:PUBLISH
X-WR-CALNAME:The Artist Outreach
X-ORIGINAL-URL:https://theartistoutreach.org
X-WR-CALDESC:Events for The Artist Outreach
REFRESH-INTERVAL;VALUE=DURATION:PT1H
X-Robots-Tag:noindex
X-PUBLISHED-TTL:PT1H
BEGIN:VTIMEZONE
TZID:UTC
BEGIN:STANDARD
TZOFFSETFROM:+0000
TZOFFSETTO:+0000
TZNAME:UTC
DTSTART:20250101T000000
END:STANDARD
END:VTIMEZONE
BEGIN:VEVENT
DTSTART;TZID=UTC:20260422T075500
DTEND;TZID=UTC:20260422T150500
DTSTAMP:20260422T033234
CREATED:20250808T155557Z
LAST-MODIFIED:20250929T154250Z
UID:36228-1776844500-1776870300@theartistoutreach.org
SUMMARY:Good Shepherd (GSCS)
DESCRIPTION:TA: Margaret Lowe \nCampus: Good Shepherd Catholic School \nLocation: 214 S Garland Ave\, Garland\, TX 75040 \nContact: Yolanda (972) 272-6533 \nPrincipal: Coral Martinez cmartinezcotto@gscschool.org \n7th –  8:49 – 9:29am \n4th & 5th – 9:31 – 10:11am \n2nd – 10:13 – 10:53am \n8th – 10:55 – 11:35am \n6th – 11:37 – 12:17pm \nPre-K – 12:19 – 12:59pm \nK & 1st – 1:43 – 2:23pm \n3rd – 2:25 – 3:05pm
URL:https://theartistoutreach.org/event/good-shepherd-gscs-34/
CATEGORIES:North Texas Events
END:VEVENT
BEGIN:VEVENT
DTSTART;TZID=UTC:20260422T080000
DTEND;TZID=UTC:20260422T133000
DTSTAMP:20260422T033234
CREATED:20250728T153258Z
LAST-MODIFIED:20250728T153258Z
UID:36030-1776844800-1776864600@theartistoutreach.org
SUMMARY:UPL WHITE ROCK PREP (TCA/CDOAC-COP)
DESCRIPTION:TA: Candy Williams \nCONTACTS:  Director: Marius Martin  PH:  469-914-7500     Email: mamartin@uplifteducation.org \nDean: Frances Maisonet      FMaisonet@uplifteducation.org \nLocation:7370 Valley Glen Drive\, Dallas\, TX 75228 \nFirst   Arriaga   Room 142    8:00 – 8:45 \nFirst    Reyna    Room 144    8:45 – 9:30 \nFirst    Johnson    Room 141   9:30 – 10:15 \nKinder    Rosales     Room 148    10:15 – 10:40 \nKinder                     Room 147      11:30 – 11:55 \nFirst     Lemon     Room 139    11:55 – 12:40 \nKinder     Hernandez     Room 145    12:40 – 1:05 \nKinder    Alverado      Room 150     1:05 – 1:30
URL:https://theartistoutreach.org/event/upl-white-rock-prep-tca-cdoac-cop-31/
CATEGORIES:North Texas Events
END:VEVENT
BEGIN:VEVENT
DTSTART;TZID=UTC:20260422T080500
DTEND;TZID=UTC:20260422T135000
DTSTAMP:20260422T033234
CREATED:20260120T152003Z
LAST-MODIFIED:20260120T152003Z
UID:37507-1776845100-1776865800@theartistoutreach.org
SUMMARY:MISD (MISD/UWMD)
DESCRIPTION:TA: Kiersten Underwood \nCampus: Florence Elementary \nLocation: 4600 Ashwood Dr\, Mesquite\, TX 75150 \nContact:  (972) 882-0300 \nPrincipal: Dr. Maria Franco \n8:05 – 8:25 Silva \n8:25 – 8:45 Lawing \n8:45 – 9:05 Leon \n***TRAVEL TIME*** \nCampus: Kimball Elementary \nLocation: 4010 Coryell Way\, Mesquite\, TX 75150 \nContact: (972) 290-4120 \nPrincipal: Bridget Mitchell \n10:15 – 10:35 Nester \n*** TRAVEL TIME*** \nCampus: Henrie Elementary \nLocation: 253 W Lawson Rd\, Dallas\, TX 75253 \nContact: (972) 290-4200 \nPrincipal: Amanda Ducharme \n12:10 – 12:30 Thomas \n12:30 – 12:50 Calderon \n12:50 – 1:10 Tello \n1:10 – 1:30 Tapia \n1:30 – 1:50 Burk
URL:https://theartistoutreach.org/event/misd-misd-uwmd-3/
CATEGORIES:North Texas Events
END:VEVENT
END:VCALENDAR