BEGIN:VCALENDAR
VERSION:2.0
PRODID:-//The Artist Outreach - ECPv6.15.20//NONSGML v1.0//EN
CALSCALE:GREGORIAN
METHOD:PUBLISH
X-WR-CALNAME:The Artist Outreach
X-ORIGINAL-URL:https://theartistoutreach.org
X-WR-CALDESC:Events for The Artist Outreach
REFRESH-INTERVAL;VALUE=DURATION:PT1H
X-Robots-Tag:noindex
X-PUBLISHED-TTL:PT1H
BEGIN:VTIMEZONE
TZID:UTC
BEGIN:STANDARD
TZOFFSETFROM:+0000
TZOFFSETTO:+0000
TZNAME:UTC
DTSTART:20250101T000000
END:STANDARD
END:VTIMEZONE
BEGIN:VEVENT
DTSTART;TZID=UTC:20260421T081000
DTEND;TZID=UTC:20260421T134000
DTSTAMP:20260421T144809
CREATED:20251211T173358Z
LAST-MODIFIED:20260120T150520Z
UID:37282-1776759000-1776778800@theartistoutreach.org
SUMMARY:MISD Kinder (MISD/UWMD)
DESCRIPTION:TA: Kiersten Underwood \nCampus: Tisinger Elementary \nLocation: 1701 Hillcrest St\, Mesquite\, TX 75149 \nContact:  (972) 882-5120 \nPrincipal: Angie Campanello \n8:10 – 8:30 Nagron \n8:30 – 8:50 Velasquez \n8:50 – 9:10 Lopez \n9:10 – 9:30 Grant \n9:30 – 9:50 Morales \n9:50 – 10:10 Martin \n***TRAVEL TIME*** \nCampus: Shaw Elementary \nLocation: 707 Purple Sage Trail\, Mesquite\, TX 75149 \nContact: (972) 882-7060 \nPrincipal: Dr. Israel Garcia Jacinto \n10:50 – 11:10 Gulley \n11:10 – 11:30 Gonzales \n11:30 – 11:50 Salazar \n*** TRAVEL TIME*** \nCampus: Floyd Elementary \nLocation: 3025 Hickory Tree Rd\, Mesquite\, TX 75180 \nContact: (972) 882-7100 \nPrincipal: Jill Vincent \n12:20 – 12:40 Ellis \n12:40 – 1:00 Diaz \n1:00 – 1:20 Rea \n1:20 – 1:40 Smith
URL:https://theartistoutreach.org/event/misd-kinder-misd-uwmd-29/
CATEGORIES:North Texas Events
END:VEVENT
BEGIN:VEVENT
DTSTART;TZID=UTC:20260421T081500
DTEND;TZID=UTC:20260421T142500
DTSTAMP:20260421T144809
CREATED:20251211T172756Z
LAST-MODIFIED:20251211T172756Z
UID:37258-1776759300-1776781500@theartistoutreach.org
SUMMARY:MISD Pre-K (MISD/UWMD)
DESCRIPTION:TA: Candy Williams \nCampus: Kimball Elementary \nLocation: 4010 Coryell Way\, Mesquite\, TX 75150 \nContact:  (972) 290-4120 \nPrincipal: Bridget Mitchell \n8:15 – 8:35 Morrison \n***TRAVEL TIME*** \nCampus: Florence Elementary \nLocation: 4600 Ashwood Dr\, Mesquite\, TX 75150 \nContact: (972) 882-0300 \nPrincipal: Dr. Maria Franco \n9:00 – 9:20 Gandara \n9:20 – 9:40 Aguirre \n*** TRAVEL TIME*** \nCampus: Price Elementary \nLocation: 630 Stroud Ln\, Garland\, TX 75043 \nContact: (972) 882-0240 \nPrincipal: Gabriel Luna \n11:25 – 11:45  Sanders \n***TRAVEL TIME*** \nCampus: Porter Elementary \nLocation: 517 Via Avenida\, Mesquite\, TX 75150 \nContact: (972) 882-0360 \nPrincipal: Leeann Englert \n12:30 – 12:50 Gomez \nCampus: Shands Elementary \nLocation: 4836 Shands Dr\, Mesquite\, TX 75150 \nContact: (972) 882-0400 \nPrincipal: Brandi Lewis \n1:25 – 1:45 Vega \n1:45 – 2:05 Swiney \n2:20 – 2:25 Dominguez
URL:https://theartistoutreach.org/event/misd-pre-k-misd-uwmd-7/
CATEGORIES:North Texas Events
END:VEVENT
BEGIN:VEVENT
DTSTART;TZID=UTC:20260421T090500
DTEND;TZID=UTC:20260421T144000
DTSTAMP:20260421T144809
CREATED:20251211T175010Z
LAST-MODIFIED:20251211T175010Z
UID:37312-1776762300-1776782400@theartistoutreach.org
SUMMARY:MISD Pre-K (MISD/UWMD)
DESCRIPTION:TA: Margaret Lowe \nCampus: Achziger Elementary \nLocation: 3300 Ridge Ranch Rd\, Mesquite\, TX 75181 \nContact:  (972) 882-5020 \nPrincipal: Robin Cathcart \n9:05- 9:25 Dawn \n9:25 – 9:45 Arellano \n***TRAVEL TIME*** \nCampus: Cross Elementary \nLocation: 6425 Pk Vis Dr\, Mesquite\, TX 75181 \nContact: (972) 882-0280 \nPrincipal: RaShunda Price \n11:05 – 11:25 Calhoon \n11:25 – 11:45 Tillman-Fink \n11:45 – 12:05 Irizarry \n12:05 – 12:25 Ovideo \n*** TRAVEL TIME*** \nCampus: Smih Elementary \nLocation: 2300 Mesquite Valley Rd\, Mesquite\, TX 75149 \nContact: (972) 882-7080 \nPrincipal: Deidre Lester \n1:00 – 1:20 Almanza \n1:20 – 1:40 Briscoe \n***TRAVEL TIME*** \nCampus: McWhorter Elementary \nLocation: 1700 Hickory Tree RdMesquite\, TX 75149 \nContact: 972-882-7020 \nPrincipal: Robyn Leslie \n2:00 – 2:20 Hathcock \n2:20 – 2:40 Benson
URL:https://theartistoutreach.org/event/misd-pre-k-misd-uwmd-19/
CATEGORIES:North Texas Events
END:VEVENT
END:VCALENDAR